{"text_format":"1","workbook":"xlsx","n_sheets":10,"sheets":["Форма заказа","1. ФАСАД","2. ИНТЕРЬЕР","3. STOMIX","4. Базы","5. Ведра. Инструмент","6. Колоранты","7. Надбавки","8.Тарифы транспорта","Изменение прайс-листа"],"not_rendered":{"charts":0,"images":54,"macros":1,"external_links":1,"defined_names":13,"comments":0,"pivot_tables":0},"unopened":[],"bounds":{"document_bytes":16777216,"sheet_cells":100000,"rows_first":2000,"rows_last":500,"rows_between":2000,"halvings":0,"cell_chars":16384,"cell_head_chars":4096},"cells_cut":0,"cells_raw":0,"read":"whole","date_system":"1900"}

{"sheet":"Форма заказа","index":0,"n_rows":118,"n_cols":33,"rows_kept":118,"cut":false,"hidden":false,"merged":[[117,0,117,6],[13,4,13,6]]}
[]
[null,null,null,null,null,null,null,null,null,null,null,null,null,"Цвета"]
[null,"Заказ"]
[null,"Дата заявки",null,null,null,null,"Склад отгрузки"]
[null,"№ клиента"]
[null,"Компания",null,null,null,null,"Информация о доставке",null,null,null,null,null,null,"C01"]
[null,"Контакное лицо",null,null,null,null,null,null,null,null,null,null,null,"C02"]
[null,"Телефон",null,null,null,null,"Дата отгрузки",null,null,null,null,null,null,"C03"]
[null,"E-mail",null,null,null,null,null,null,null,null,null,null,null,"C04"]
[null,"Скидка",0,null,null,null,"Дополнительно"]
[]
[]
[]
[null,null,null,null,"Упаковка",null,null,null,null,null,null,null,null,null,null,null,null,null,null,null,null,null,null,null,"Итого метраж, м2",100,null,{"$f":"SUM(AE18:AE47)","v":0}]
["№ п/п","Артикул ","Наименование продукта","Цвет ","Объем тары","ед.","вид упаковки","Цена за единицу с НДС","Кол-во единиц товара","Сумма заказа с НДС","Сумма заказа с НДС со скидкой","Итого вес брутто (кг)","Итого паллет",null,null,null,null,null,null,"Артикул","Наименование",{"$f":"E15","v":"Объем тары"},{"$f":"F15","v":"ед."},{"$f":"G15","v":"вид упаковки"},"Мин. Расход","Ед.","Цена за м2 с НДС","Цена за м2 с НДС со скидкой","Кол-во упаковок","Кол-во упаковок округление","Итого, руб с НДС со скидкой",null,"Мин. Расход"]
[null,null,null,null,null,null,null,null,null,"ИТОГО",{"$f":"SUM(K18:K117)-SUM(K18:K117)*C10","v":0},{"$f":"SUM(L18:L117)","v":0},{"$f":"SUM(M18:M117)","v":0},null,null,null,null,null,null,null,null,null,null,null,null,"Итого за 1 м2",{"$f":"SUM(AA18:AA47)","v":0},{"$f":"SUM(AB18:AB47)","v":0},null,null,null,null,"Макс. Расход"]
[]
[null,null,null,null,null,null,null,null,null,null,null,null,null,null,null,null,null,null,null,{"$f":"B18","v":0},{"$f":"C18","v":0},{"$f":"E18","v":0},{"$f":"F18","v":0},{"$f":"G18","v":0},{"$f":"IF($Y$15=$AG$15,IFERROR(VLOOKUP(T18,#REF!,3,0),\" \"),IFERROR(VLOOKUP(T18,#REF!,4,0),\" \"))","v":" "},{"$f":"IFERROR(VLOOKUP(T18,[1]Расход!A$3:E$884,5,0),\" \")","v":" "},{"$f":"IFERROR(H18/E18*Y18,\" \")","v":" "},{"$f":"IFERROR(AA18*(1-$C$10),\" \")","v":" "},{"$f":"IFERROR(Y18*$Z$14/V18,\" \")","v":" "},{"$f":"AC18","v":" "},{"$f":"IFERROR(AD18*K18,\" \")","v":" "}]
[null,null,null,null,null,null,null,null,null,null,null,null,null,null,null,null,null,null,null,0,0,0,0,0,{"$f":"IF($Y$15=$AG$15,IFERROR(VLOOKUP(T19,#REF!,3,0),\" \"),IFERROR(VLOOKUP(T19,#REF!,4,0),\" \"))","v":" "},{"$f":"IFERROR(VLOOKUP(T19,[1]Расход!A$3:E$884,5,0),\" \")","v":" "}," ",{"$f":"IFERROR(AA19*(1-$C$10),\" \")","v":" "},{"$f":"IFERROR(Y19*$Z$14/V19,\" \")","v":" "},{"$f":"AC19","v":" "},{"$f":"IFERROR(AD19*K19,\" \")","v":" "}]
[null,null,null,null,null,null,null,null,null,null,null,null,null,null,null,null,null,null,null,0,0,0,0,0,{"$f":"IF($Y$15=$AG$15,IFERROR(VLOOKUP(T20,#REF!,3,0),\" \"),IFERROR(VLOOKUP(T20,#REF!,4,0),\" \"))","v":" "},{"$f":"IFERROR(VLOOKUP(T20,[1]Расход!A$3:E$884,5,0),\" \")","v":" "}," "," "," "," "," "]
[null,null,null,null,null,null,null,null,null,null,null,null,null,null,null,null,null,null,null,0,0,0,0,0,{"$f":"IF($Y$15=$AG$15,IFERROR(VLOOKUP(T21,#REF!,3,0),\" \"),IFERROR(VLOOKUP(T21,#REF!,4,0),\" \"))","v":" "},{"$f":"IFERROR(VLOOKUP(T21,[1]Расход!A$3:E$884,5,0),\" \")","v":" "}," "," "," "," "," "]
[null,null,null,null,null,null,null,null,null,null,null,null,null,null,null,null,null,null,null,0,0,0,0,0,{"$f":"IF($Y$15=$AG$15,IFERROR(VLOOKUP(T22,#REF!,3,0),\" \"),IFERROR(VLOOKUP(T22,#REF!,4,0),\" \"))","v":" "},{"$f":"IFERROR(VLOOKUP(T22,[1]Расход!A$3:E$884,5,0),\" \")","v":" "}," "," "," "," "," "]
[null,null,null,null,null,null,null,null,null,null,null,null,null,null,null,null,null,null,null,0,0,0,0,0,{"$f":"IF($Y$15=$AG$15,IFERROR(VLOOKUP(T23,#REF!,3,0),\" \"),IFERROR(VLOOKUP(T23,#REF!,4,0),\" \"))","v":" "},{"$f":"IFERROR(VLOOKUP(T23,[1]Расход!A$3:E$884,5,0),\" \")","v":" "}," "," "," "," "," "]
[null,null,null,null,null,null,null,null,null,null,null,null,null,null,null,null,null,null,null,0,0,0,0,0,{"$f":"IF($Y$15=$AG$15,IFERROR(VLOOKUP(T24,#REF!,3,0),\" \"),IFERROR(VLOOKUP(T24,#REF!,4,0),\" \"))","v":" "},{"$f":"IFERROR(VLOOKUP(T24,[1]Расход!A$3:E$884,5,0),\" \")","v":" "}," "," "," "," "," "]
[null,null,null,null,null,null,null,null,null,null,null,null,null,null,null,null,null,null,null,0,0,0,0,0,{"$f":"IF($Y$15=$AG$15,IFERROR(VLOOKUP(T25,#REF!,3,0),\" \"),IFERROR(VLOOKUP(T25,#REF!,4,0),\" \"))","v":" "},{"$f":"IFERROR(VLOOKUP(T25,[1]Расход!A$3:E$884,5,0),\" \")","v":" "}," "," "," "," "," "]
[null,null,null,null,null,null,null,null,null,null,null,null,null,null,null,null,null,null,null,0,0,0,0,0,{"$f":"IF($Y$15=$AG$15,IFERROR(VLOOKUP(T26,#REF!,3,0),\" \"),IFERROR(VLOOKUP(T26,#REF!,4,0),\" \"))","v":" "},{"$f":"IFERROR(VLOOKUP(T26,[1]Расход!A$3:E$884,5,0),\" \")","v":" "}," "," "," "," "," "]
[null,null,null,null,null,null,null,null,null,null,null,null,null,null,null,null,null,null,null,0,0,0,0,0,{"$f":"IF($Y$15=$AG$15,IFERROR(VLOOKUP(T27,#REF!,3,0),\" \"),IFERROR(VLOOKUP(T27,#REF!,4,0),\" \"))","v":" "},{"$f":"IFERROR(VLOOKUP(T27,[1]Расход!A$3:E$884,5,0),\" \")","v":" "}," "," "," "," "," "]
[null,null,null,null,null,null,null,null,null,null,null,null,null,null,null,null,null,null,null,0,0,0,0,0,{"$f":"IF($Y$15=$AG$15,IFERROR(VLOOKUP(T28,#REF!,3,0),\" \"),IFERROR(VLOOKUP(T28,#REF!,4,0),\" \"))","v":" "},{"$f":"IFERROR(VLOOKUP(T28,[1]Расход!A$3:E$884,5,0),\" \")","v":" "}," "," "," "," "," "]
[null,null,null,null,null,null,null,null,null,null,null,null,null,null,null,null,null,null,null,0,0,0,0,0,{"$f":"IF($Y$15=$AG$15,IFERROR(VLOOKUP(T29,#REF!,3,0),\" \"),IFERROR(VLOOKUP(T29,#REF!,4,0),\" \"))","v":" "},{"$f":"IFERROR(VLOOKUP(T29,[1]Расход!A$3:E$884,5,0),\" \")","v":" "}," "," "," "," "," "]
[null,null,null,null,null,null,null,null,null,null,null,null,null,null,null,null,null,null,null,0,0,0,0,0,{"$f":"IF($Y$15=$AG$15,IFERROR(VLOOKUP(T30,#REF!,3,0),\" \"),IFERROR(VLOOKUP(T30,#REF!,4,0),\" \"))","v":" "},{"$f":"IFERROR(VLOOKUP(T30,[1]Расход!A$3:E$884,5,0),\" \")","v":" "}," "," "," "," "," "]
[null,null,null,null,null,null,null,null,null,null,null,null,null,null,null,null,null,null,null,0,0,0,0,0,{"$f":"IF($Y$15=$AG$15,IFERROR(VLOOKUP(T31,#REF!,3,0),\" \"),IFERROR(VLOOKUP(T31,#REF!,4,0),\" \"))","v":" "},{"$f":"IFERROR(VLOOKUP(T31,[1]Расход!A$3:E$884,5,0),\" \")","v":" "}," "," "," "," "," "]
[null,null,null,null,null,null,null,null,null,null,null,null,null,null,null,null,null,null,null,0,0,0,0,0,{"$f":"IF($Y$15=$AG$15,IFERROR(VLOOKUP(T32,#REF!,3,0),\" \"),IFERROR(VLOOKUP(T32,#REF!,4,0),\" \"))","v":" "},{"$f":"IFERROR(VLOOKUP(T32,[1]Расход!A$3:E$884,5,0),\" \")","v":" "}," "," "," "," "," "]
[null,null,null,null,null,null,null,null,null,null,null,null,null,null,null,null,null,null,null,0,0,0,0,0,{"$f":"IF($Y$15=$AG$15,IFERROR(VLOOKUP(T33,#REF!,3,0),\" \"),IFERROR(VLOOKUP(T33,#REF!,4,0),\" \"))","v":" "},{"$f":"IFERROR(VLOOKUP(T33,[1]Расход!A$3:E$884,5,0),\" \")","v":" "}," "," "," "," "," "]
[null,null,null,null,null,null,null,null,null,null,null,null,null,null,null,null,null,null,null,0,0,0,0,0,{"$f":"IF($Y$15=$AG$15,IFERROR(VLOOKUP(T34,#REF!,3,0),\" \"),IFERROR(VLOOKUP(T34,#REF!,4,0),\" \"))","v":" "},{"$f":"IFERROR(VLOOKUP(T34,[1]Расход!A$3:E$884,5,0),\" \")","v":" "}," "," "," "," "," "]
[null,null,null,null,null,null,null,null,null,null,null,null,null,null,null,null,null,null,null,0,0,0,0,0,{"$f":"IF($Y$15=$AG$15,IFERROR(VLOOKUP(T35,#REF!,3,0),\" \"),IFERROR(VLOOKUP(T35,#REF!,4,0),\" \"))","v":" "},{"$f":"IFERROR(VLOOKUP(T35,[1]Расход!A$3:E$884,5,0),\" \")","v":" "}," "," "," "," "," "]
[null,null,null,null,null,null,null,null,null,null,null,null,null,null,null,null,null,null,null,0,0,0,0,0,{"$f":"IF($Y$15=$AG$15,IFERROR(VLOOKUP(T36,#REF!,3,0),\" \"),IFERROR(VLOOKUP(T36,#REF!,4,0),\" \"))","v":" "},{"$f":"IFERROR(VLOOKUP(T36,[1]Расход!A$3:E$884,5,0),\" \")","v":" "}," "," "," "," "," "]
[null,null,null,null,null,null,null,null,null,null,null,null,null,null,null,null,null,null,null,0,0,0,0,0,{"$f":"IF($Y$15=$AG$15,IFERROR(VLOOKUP(T37,#REF!,3,0),\" \"),IFERROR(VLOOKUP(T37,#REF!,4,0),\" \"))","v":" "},{"$f":"IFERROR(VLOOKUP(T37,[1]Расход!A$3:E$884,5,0),\" \")","v":" "}," "," "," "," "," "]
[null,null,null,null,null,null,null,null,null,null,null,null,null,null,null,null,null,null,null,0,0,0,0,0,{"$f":"IF($Y$15=$AG$15,IFERROR(VLOOKUP(T38,#REF!,3,0),\" \"),IFERROR(VLOOKUP(T38,#REF!,4,0),\" \"))","v":" "},{"$f":"IFERROR(VLOOKUP(T38,[1]Расход!A$3:E$884,5,0),\" \")","v":" "}," "," "," "," "," "]
[null,null,null,null,null,null,null,null,null,null,null,null,null,null,null,null,null,null,null,0,0,0,0,0,{"$f":"IF($Y$15=$AG$15,IFERROR(VLOOKUP(T39,#REF!,3,0),\" \"),IFERROR(VLOOKUP(T39,#REF!,4,0),\" \"))","v":" "},{"$f":"IFERROR(VLOOKUP(T39,[1]Расход!A$3:E$884,5,0),\" \")","v":" "}," "," "," "," "," "]
[null,null,null,null,null,null,null,null,null,null,null,null,null,null,null,null,null,null,null,0,0,0,0,0,{"$f":"IF($Y$15=$AG$15,IFERROR(VLOOKUP(T40,#REF!,3,0),\" \"),IFERROR(VLOOKUP(T40,#REF!,4,0),\" \"))","v":" "},{"$f":"IFERROR(VLOOKUP(T40,[1]Расход!A$3:E$884,5,0),\" \")","v":" "}," "," "," "," "," "]
[null,null,null,null,null,null,null,null,null,null,null,null,null,null,null,null,null,null,null,0,0,0,0,0,{"$f":"IF($Y$15=$AG$15,IFERROR(VLOOKUP(T41,#REF!,3,0),\" \"),IFERROR(VLOOKUP(T41,#REF!,4,0),\" \"))","v":" "},{"$f":"IFERROR(VLOOKUP(T41,[1]Расход!A$3:E$884,5,0),\" \")","v":" "}," "," "," "," "," "]
[null,null,null,null,null,null,null,null,null,null,null,null,null,null,null,null,null,null,null,0,0,0,0,0,{"$f":"IF($Y$15=$AG$15,IFERROR(VLOOKUP(T42,#REF!,3,0),\" \"),IFERROR(VLOOKUP(T42,#REF!,4,0),\" \"))","v":" "},{"$f":"IFERROR(VLOOKUP(T42,[1]Расход!A$3:E$884,5,0),\" \")","v":" "}," "," "," "," "," "]
[null,null,null,null,null,null,null,null,null,null,null,null,null,null,null,null,null,null,null,0,0,0,0,0,{"$f":"IF($Y$15=$AG$15,IFERROR(VLOOKUP(T43,#REF!,3,0),\" \"),IFERROR(VLOOKUP(T43,#REF!,4,0),\" \"))","v":" "},{"$f":"IFERROR(VLOOKUP(T43,[1]Расход!A$3:E$884,5,0),\" \")","v":" "}," "," "," "," "," "]
[null,null,null,null,null,null,null,null,null,null,null,null,null,null,null,null,null,null,null,0,0,0,0,0,{"$f":"IF($Y$15=$AG$15,IFERROR(VLOOKUP(T44,#REF!,3,0),\" \"),IFERROR(VLOOKUP(T44,#REF!,4,0),\" \"))","v":" "},{"$f":"IFERROR(VLOOKUP(T44,[1]Расход!A$3:E$884,5,0),\" \")","v":" "}," "," "," "," "," "]
[null,null,null,null,null,null,null,null,null,null,null,null,null,null,null,null,null,null,null,0,0,0,0,0,{"$f":"IF($Y$15=$AG$15,IFERROR(VLOOKUP(T45,#REF!,3,0),\" \"),IFERROR(VLOOKUP(T45,#REF!,4,0),\" \"))","v":" "},{"$f":"IFERROR(VLOOKUP(T45,[1]Расход!A$3:E$884,5,0),\" \")","v":" "}," "," "," "," "," "]
[null,null,null,null,null,null,null,null,null,null,null,null,null,null,null,null,null,null,null,0,0,0,0,0,{"$f":"IF($Y$15=$AG$15,IFERROR(VLOOKUP(T46,#REF!,3,0),\" \"),IFERROR(VLOOKUP(T46,#REF!,4,0),\" \"))","v":" "},{"$f":"IFERROR(VLOOKUP(T46,[1]Расход!A$3:E$884,5,0),\" \")","v":" "}," "," "," "," "," "]
[null,null,null,null,null,null,null,null,null,null,null,null,null,null,null,null,null,null,null,0,0,0,0,0,{"$f":"IF($Y$15=$AG$15,IFERROR(VLOOKUP(T47,#REF!,3,0),\" \"),IFERROR(VLOOKUP(T47,#REF!,4,0),\" \"))","v":" "},{"$f":"IFERROR(VLOOKUP(T47,[1]Расход!A$3:E$884,5,0),\" \")","v":" "}," "," "," "," "," "]
[]
[]
[]
[]
[]
[]
[]
[]
[]
[]
[]
[]
[]
[null,null,null,null,null,null,null,null,null,null,null,{"$f":"IF(D61=\"C01\", \"Надбавка затонирование составляет 0 руб.\", IF(D61=\"C02\", \"Внимание! В сумме заказе не учтена надбавка за тонирование. Подробнее см. во вкладке 8\", IF(D61=\"C03\", \"Внимание! В сумме заказе не учтена надбавка за тонирование. Подробнее см. во вкладке 8\", IF(D61=\"C04\", \"Внимание! В сумме заказе не учтена надбавка за тонирование. Она будет расчитана после обработки заказа\", \"\"))))","v":""}]
[null,null,null,null,null,null,null,null,null,null,null,""]
[null,null,null,null,null,null,null,null,null,null,null,""]
[null,null,null,null,null,null,null,null,null,null,null,""]
[null,null,null,null,null,null,null,null,null,null,null,""]
[null,null,null,null,null,null,null,null,null,null,null,""]
[null,null,null,null,null,null,null,null,null,null,null,""]
[null,null,null,null,null,null,null,null,null,null,null,""]
[null,null,null,null,null,null,null,null,null,null,null,""]
[null,null,null,null,null,null,null,null,null,null,null,""]
[null,null,null,null,null,null,null,null,null,null,null,""]
[null,null,null,null,null,null,null,null,null,null,null,""]
[null,null,null,null,null,null,null,null,null,null,null,""]
[null,null,null,null,null,null,null,null,null,null,null,""]
[null,null,null,null,null,null,null,null,null,null,null,""]
[null,null,null,null,null,null,null,null,null,null,null,""]
[null,null,null,null,null,null,null,null,null,null,null,""]
[null,null,null,null,null,null,null,null,null,null,null,""]
[null,null,null,null,null,null,null,null,null,null,null,""]
[null,null,null,null,null,null,null,null,null,null,null,""]
[null,null,null,null,null,null,null,null,null,null,null,""]
[null,null,null,null,null,null,null,null,null,null,null,""]
[null,null,null,null,null,null,null,null,null,null,null,{"$f":"IF(D83=\"C01\", \"Надбавка затонирование составляет 0 руб.\", IF(D83=\"C02\", \"Внимание! В сумме заказе не учтена надбавка за тонирование. Подробнее см. во вкладке 8\", IF(D83=\"C03\", \"Внимание! В сумме заказе не учтена надбавка за тонирование. Подробнее см. во вкладке 8\", IF(D83=\"C04\", \"Внимание! В сумме заказе не учтена надбавка за тонирование. Она будет расчитана после обработки заказа\", \"\"))))","v":""}]
[null,null,null,null,null,null,null,null,null,null,null,""]
[null,null,null,null,null,null,null,null,null,null,null,""]
[null,null,null,null,null,null,null,null,null,null,null,""]
[null,null,null,null,null,null,null,null,null,null,null,""]
[null,null,null,null,null,null,null,null,null,null,null,""]
[null,null,null,null,null,null,null,null,null,null,null,""]
[null,null,null,null,null,null,null,null,null,null,null,""]
[null,null,null,null,null,null,null,null,null,null,null,""]
[null,null,null,null,null,null,null,null,null,null,null,""]
[null,null,null,null,null,null,null,null,null,null,null,""]
[null,null,null,null,null,null,null,null,null,null,null,""]
[null,null,null,null,null,null,null,null,null,null,null,""]
[null,null,null,null,null,null,null,null,null,null,null,""]
[null,null,null,null,null,null,null,null,null,null,null,""]
[null,null,null,null,null,null,null,null,null,null,null,""]
[null,null,null,null,null,null,null,null,null,null,null,""]
[null,null,null,null,null,null,null,null,null,null,null,""]
[null,null,null,null,null,null,null,null,null,null,null,""]
[null,null,null,null,null,null,null,null,null,null,null,""]
[null,null,null,null,null,null,null,null,null,null,null,""]
[null,null,null,null,null,null,null,null,null,null,null,""]
[null,null,null,null,null,null,null,null,null,null,null,""]
[null,null,null,null,null,null,null,null,null,null,null,""]
[null,null,null,null,null,null,null,null,null,null,null,""]
[null,null,null,null,null,null,null,null,null,null,null,""]
[null,null,null,null,null,null,null,null,null,null,null,""]
[null,null,null,null,null,null,null,null,null,null,null,""]
[null,null,null,null,null,null,null,null,null,null,null,""]
[null,null,null,null,null,null,null,null,null,null,null,""]
[null,null,null,null,null,null,null,null,null,null,null,""]
[null,null,null,null,null,null,null,null,null,null,null,""]
[null,null,null,null,null,null,null,null,null,null,null,""]
[null,null,null,null,null,null,null,null,null,null,null,""]
[null,null,null,null,null,null,null,null,null,null,null,""]
["Не нашли нужную позицию?  Ниже вы можете оставить запрос на цену и наличие на складе необходимых позиций"]

{"sheet":"1. ФАСАД","index":1,"n_rows":312,"n_cols":26,"rows_kept":312,"cut":false,"hidden":false,"merged":[[310,25,311,25],[298,25,301,25],[302,25,303,25],[306,25,309,25],[251,25,252,25],[287,25,294,25],[285,25,286,25],[261,25,262,25],[263,25,264,25],[283,25,284,25],[271,25,272,25],[274,25,275,25],[278,25,279,25],[281,25,282,25],[276,25,277,25],[255,25,258,25],[51,25,52,25],[81,25,82,25],[102,25,104,25],[243,25,244,25],[253,25,254,25],[239,25,240,25],[200,25,201,25],[150,25,151,25],[194,25,199,25],[138,25,139,25],[136,25,137,25],[108,25,113,25],[126,25,133,25],[134,25,135,25],[114,25,115,25],[212,25,219,25],[267,25,268,25],[265,25,266,25],[233,25,234,25],[259,25,260,25],[245,25,246,25],[241,25,242,25],[247,25,250,25],[4,25,5,25],[2,25,3,25],[2,9,2,11],[2,14,3,14],[2,18,3,18],[2,19,3,19],[152,25,176,25],[2,0,3,0],[2,1,3,1],[2,3,3,3],[2,2,3,2],[35,25,36,25],[27,25,32,25],[14,25,15,25],[2,6,2,8],[2,13,3,13],[2,16,3,16],[2,17,3,17],[2,21,3,21],[105,25,106,25],[2,22,3,22],[2,23,3,23],[116,25,125,25],[186,25,193,25],[1,0,1,25],[178,25,183,25],[184,25,185,25],[58,25,66,25],[67,25,76,25],[2,12,3,12],[2,20,3,20],[2,15,3,15],[2,4,3,4],[2,5,3,5],[2,24,3,24],[16,25,17,25],[10,25,11,25],[88,25,89,25],[269,25,270,25],[33,25,34,25],[140,25,149,25],[237,25,238,25],[235,25,236,25],[210,25,211,25],[202,25,209,25],[48,25,50,25],[98,25,101,25],[96,25,97,25],[85,25,86,25],[226,25,227,25],[94,25,95,25],[228,25,230,25],[83,25,84,25],[220,25,225,25]]}
[]
["Прайс-лист  Товаров Продуктовой группы раздела «Фасад»\nЦены действительны c 03.03.2022 г."]
["Артикул ","Наименование продукта","Произ-водство","Область \nприменения","Вид материала","Основа материала","Упаковка",null,null,"Min \nрасход продукта",null,null,"Цена БЕЗ учета НДС за единицу измерения","Цена с НДС за единицу измерения","Цена с НДС за 1м² (при min расходе)","Цена с НДС за упаковку","Кол-во единиц товара","Сумма заказа с НДС","Итого вес брутто (кг)","Итого паллет","Наличие на складе","Рекомендованный ассортимент","Количество упаковок на паллете, шт.","Вес одного паллето-места (без палеты), кг.","Норма загрузки авто (20 т.) шт.","Краткое описание продукта"]
[null,null,null,null,null,null,"к-во","ед.","вид упаковки","от","до","единица измерения"]
["00861-002","StoPlex W ","DE","фасад","грунт проникающий","акрил-силоксан",20,"л","Канистра",0.1,0.4,"л/м²",{"$f":"VLOOKUP($A5,'Изменение прайс-листа'!$A$2:$E$798,4,FALSE)","v":540},{"$f":"M5*1.2","v":648},{"$f":"$N5*$J5","v":64.8},{"$f":"$N5*$G5","v":12960},null,{"$f":"Q5*P5","v":0},{"$f":"ROUNDUP(X5/W5*Q5,0)","v":0},{"$f":"Q5/W5","v":0},"●","●",24,498.72,792,"универсальная водоразбавимая грунтовка на акрилатной основе, усиленная силоксаном (гидрофобизирующий эффект). Разбавляется водой в соотношении 1:1"]
["00861-001","StoPlex W ","DE","фасад","грунт проникающий","акрил-силоксан",10,"л","Канистра",0.1,0.4,"л/м²",{"$f":"VLOOKUP($A6,'Изменение прайс-листа'!$A$2:$E$798,4,FALSE)","v":536},{"$f":"M6*1.2","v":643.19999999999993},{"$f":"$N6*$J6","v":64.319999999999993},{"$f":"$N6*$G6","v":6431.9999999999991},null,{"$f":"Q6*P6","v":0},{"$f":"ROUNDUP(X6/W6*Q6,0)","v":0},{"$f":"Q6/W6","v":0},"●",null,60,623.40000000000009,1740]
["00861_012","StoPrim Solid","RU","универсальный","грунт проникающий","акрил",5,"л","Канистра",0.02,0.08,"л/м²",{"$f":"VLOOKUP($A7,'Изменение прайс-листа'!$A$2:$E$798,4,FALSE)","v":566},679.19999999999993,13.584,3395.9999999999995,null,{"$f":"Q7*P7","v":0},0,0,"●","●",96,498.72,3168,"универсальная водорастворимая грунтовка - концентрат на основе акрилата с модифицирующими добавками. Разбавляется водой в соотношении 1:4. Глубоко проникает, хорошо укрепляет основание."]
["00810-015","StoPrim Micro","DE","фасад","грунт проникающий","силикон",3,"л","Канистра",0.01,0.05,"л/м²",{"$f":"VLOOKUP($A8,'Изменение прайс-листа'!$A$2:$E$798,4,FALSE)","v":14448},17337.599999999999,173.37599999999998,52012.799999999996,null,0,0,0,null,null,150,469.35,4950,"глубокопроникающий грунтовочный концентрат на основе силиконовой микроэмульсии, предназначен для проблемных оснований, разбавляется  водой 1:10"]
["00870-006","StoPrim Silikat","DE","универсальный","грунт проникающий","силикат",10,"л","Канистра",0.15,0.6,"л/м²",{"$f":"VLOOKUP($A9,'Изменение прайс-листа'!$A$2:$E$798,4,FALSE)","v":584},700.8,105.11999999999999,7008,null,0,0,0,null,null,60,653.40000000000009,1680,"водоразбавимая бесцветная грунтовка  на силикатной основе, идеальна для минеральных покрытий,\nразбавляется водой 1:1"]
["00870-047","StoPrim Sol GT","DE","универсальный","грунт проникающий","силикат","15","л","Канистра",0.1,0.2,"л/м²",{"$f":"VLOOKUP($A10,'Изменение прайс-листа'!$A$2:$E$798,4,FALSE)","v":720},864,86.4,12960,null,0,0,0,"●","●",24,463.2,792,"Уникальный продукт! водоразбавимая бесцветная грунтовка  на силикатной основе, идеальна для минеральных и органических оснований. Гелевая консистенция, минимизирующая капание"]
["00856-013","StoPrim Grundex","DE","фасад","грунт проникающий","растворитель",20,"л","Канистра",0.2,0.6,"л/м²",{"$f":"VLOOKUP($A11,'Изменение прайс-листа'!$A$2:$E$798,4,FALSE)","v":2078},2493.6,498.72,49872,null,0,0,0,"●",null,24,408,792,"особоглубокопроникающая бесцветная грунтовка на основе полимерных смол, содержит растворитель, предназначена для проблемных оснований, активно защищает от выхода солей на поверхность, возможно применение на гипсовых основаниях"]
["00856-012","StoPrim Grundex","DE","фасад","грунт проникающий","растворитель",10,"л","Канистра",0.2,0.6,"л/м²",{"$f":"VLOOKUP($A12,'Изменение прайс-листа'!$A$2:$E$798,4,FALSE)","v":2262},2714.4,542.88,27144,null,0,0,0,null,null,50,425,1650]
["01304-006","StoPrim Isol","DE","универсальный","грунт изолирующий","акрил",5,"л","Ведро",0.1,0.4,"л/м²",{"$f":"VLOOKUP($A13,'Изменение прайс-листа'!$A$2:$E$798,4,FALSE)","v":2110},2532,253.20000000000002,12660,null,0,0,0,"●",null,60,367.8,1980,"водоразбавимая изолирующая грунтовка на акрилатной основе"]
["00855-003","StoPrim LP","DE","фасад","грунт изолирующий","растворитель","12,5","л","Ведро",0.13,0.15,"л/м²",{"$f":"VLOOKUP($A14,'Изменение прайс-листа'!$A$2:$E$798,4,FALSE)","v":3306},3967.2,515.73599999999999,49590,null,0,0,0,null,null,24,454.20000000000005,792,"изолирующая грунтовка, содержит растворитель"]
["08401-009","Sto-Allgrund AF, белая","DE","металл","грунт антикоррозионный","растворитель","2,5","л","Банка",0.08,0.1,"л/м²",{"$f":"VLOOKUP($A15,'Изменение прайс-листа'!$A$2:$E$798,4,FALSE)","v":4224},5068.8,405.50400000000002,12672,null,0,0,0,"●",null,144,575.71199999999999,4464,"быстросохнущая антикоррозионная грунтовка на основе алкидных смол, содержит растворитель, хорошие адгезионные свойства при нанесении на цинк, оцинкованную сталь, алюминий"]
["08401-011","Sto-Allgrund AF getönt (колерованная)","DE","металл","грунт антикоррозионный","растворитель",2.5,"л","Банка ",0.08,0.1,"л/м²",{"$f":"VLOOKUP($A16,'Изменение прайс-листа'!$A$2:$E$798,4,FALSE)","v":4224},5068.8,405.50400000000002,12672,null,0,0,0,null,null,144,575.71199999999999,4464]
["00889-005","StoPrim Fungal ","DE","универсальный","биоцид","вода",20,"л","Канистра",0.15,0.3,"л/м²",{"$f":"VLOOKUP($A17,'Изменение прайс-листа'!$A$2:$E$798,4,FALSE)","v":468},{"$f":"M17*1.2","v":561.6},{"$f":"$N17*$J17","v":84.24},{"$f":"$N17*$G17","v":11232},null,{"$f":"Q17*P17","v":0},0,0,"●",null,24,498.72,792,"водоразбавимый дезинфицирующий раствор для обработки поверхностей, пораженных водорослями и/или грибком"]
["00889-001","StoPrim Fungal ","DE","универсальный","биоцид","вода",10,"л","Канистра",0.15,0.3,"л/м²",{"$f":"VLOOKUP($A18,'Изменение прайс-листа'!$A$2:$E$798,4,FALSE)","v":480},576,86.399999999999991,5760,null,0,0,0,null,null,60,623.40000000000009,1740]
["00728_002","Sto-Baukleber","RU","фасад","клей","цемент","25","кг","Мешок",5,6,"кг/м²",{"$f":"VLOOKUP($A19,'Изменение прайс-листа'!$A$2:$E$798,4,FALSE)","v":60},72,360,1800,null,0,0,0,"●",null,42,1054.2,780,"усиленный цементно-серый минеральный клеящий раствор для неровных органических и минеральных неэластичных оснований"]
["00728_102","StoLevell Basic K/StoColl Basic","RU","фасад","клей","цемент","25","кг","Мешок",5.2,7.4,"кг/м²",{"$f":"VLOOKUP($A20,'Изменение прайс-листа'!$A$2:$E$798,4,FALSE)","v":38},45.6,237.12,1140,null,0,0,0,"●",null,42,1054.2,780,"цементно-серый минеральный клеящий раствор для минеральных неэластичных оснований"]
["02559-002","Sto-Turbofix mini, баллон 750 мл.","DE","фасад","клей","полиуретан","1","шт.","Баллон",0.13,0.25,"л/м² ",{"$f":"VLOOKUP($A21,'Изменение прайс-листа'!$A$2:$E$798,4,FALSE)","v":2712},3254.4,423.072,3254.4,null,0,0,0,null,null,504,452.08800000000002,16632,"однокомпонентная пена в баллоне под давлением для приклеивания теплоизоляционных плит из пенополистирола"]
["00832-006","Sto-Steinpaste ","DE","универсальный","клей","акрил","16","кг","Ведро",0.5,1.5,"кг/м²",{"$f":"VLOOKUP($A22,'Изменение прайс-листа'!$A$2:$E$798,4,FALSE)","v":1496},1795.2,897.6,28723.200000000001,null,0,0,0,null,null,36,902.69999999999993,714,"универсальный пастообразный дисперсионный клей с особо сильной фиксацией, предназначен для различных типов поверхностей (дерево, оцинкованный металл и т.д.)"]
["00829-004","Sto-Dispersionskleber","DE","фасад","клей","акрил","20","кг","Ведро",1,1.5,"кг/м²",{"$f":"VLOOKUP($A23,'Изменение прайс-листа'!$A$2:$E$798,4,FALSE)","v":764},916.8,916.8,18336,null,0,0,0,null,null,36,902.69999999999993,891,"готовая к применению органическая клеящая масса для ровных слабовпитывающих оснований. Рекомендована для приклеивания к ОСБ, ОСП, ЦСП и другим основаниям."]
["00506-001","Sto-Pistolenschaum SE, 750 мл","DE","фасад","пена","полиуретан","1","шт.","Баллон",0.05,0.25,"л/м² ",{"$f":"VLOOKUP($A24,'Изменение прайс-листа'!$A$2:$E$798,4,FALSE)","v":2296},2755.2,137.76,2755.2,null,0,0,0,"●",null,504,452.08800000000002,16632,"однокомпонентная пена в баллоне под давлением для заполнения швов, отверстий и других полостей в теплоизоляционных плитах шириной до 5 мм"]
["01373_029","StoLevell Duo plus","RU","фасад","клей- армировка СФТК","цемент","25","кг","Мешок",4.5,6,"кг/м²",{"$f":"VLOOKUP($A25,'Изменение прайс-листа'!$A$2:$E$798,4,FALSE)","v":64},76.8,345.59999999999997,1920,null,0,0,0,"●",null,42,1054.2,780,"минеральный клеящий и армирующий усиленный микроволокнами раствор для минеральных оснований, подходит для машинного нанесения"]
["01373_129","StoLevell Basic","RU","фасад","клей- армировка СФТК","цемент","25","кг","Мешок",4.0999999999999996,6,"кг/м²",{"$f":"VLOOKUP($A26,'Изменение прайс-листа'!$A$2:$E$798,4,FALSE)","v":46},55.199999999999996,226.31999999999996,1380,null,0,0,0,"●",null,42,1054.2,780,"цементно-серый минеральный клеящий и армирующий раствор для минеральных оснований. "]
["00815_001","StoLevell Uni ","RU","фасад","клей- армировка СФТК","цемент",25,"кг","Мешок",4,5,"кг/м²",{"$f":"VLOOKUP($A27,'Изменение прайс-листа'!$A$2:$E$798,4,FALSE)","v":74},88.8,355.2,2220,null,0,0,0,"●",null,42,1054.2,780,"минеральный клеящий и армирующий раствор для органических и минеральных неэластичных оснований. Высокая клеящая и армирующая сила, усилен микроволокнами. Низкий расход, натурально-белый цвет."]
["00250-087","StoArmat Classic plus F (натурального цвета)","DE","фасад","армировка","акрил","25","кг","Ведро",3.5,9.5,"кг/м²",{"$f":"VLOOKUP($A28,'Изменение прайс-листа'!$A$2:$E$798,4,FALSE)","v":490},588,2058,14700,null,0,0,0,"●",null,24,616.31999999999994,696,"Уникальный продукт! готовая к применению органическая армирующая масса с направляющим зерном \n(F:0,7 мм; M: 1,2 мм; G: 1,4 мм). \nДля использования на органических и минеральных основаниях систем StoTherm Classic. Не содержит цемента.\nОбогащена базальтом. Высокая эластичность и устойчивость к образованию трещин.                                    "]
["00250-086","StoArmat Classic plus F getönt (колерованная ) C1","DE","фасад","армировка","акрил","25","кг","Ведро",3.5,9.5,"кг/м²",{"$f":"M28+'7. Надбавки'!$C$5","v":536},643.19999999999993,2251.1999999999998,16079.999999999998,null,0,0,0,null,null,24,616.31999999999994,696]
["00250-089","StoArmat Classic plus M (натурального цвета)","DE","фасад","армировка","акрил","25","кг","Ведро",3.5,9.5,"кг/м²",{"$f":"VLOOKUP($A30,'Изменение прайс-листа'!$A$2:$E$798,4,FALSE)","v":490},588,2058,14700,null,0,0,0,null,null,24,616.31999999999994,696]
["00250-088","StoArmat Classic plus M getönt (колерованная ) C1","DE","фасад","армировка","акрил","25","кг","Ведро",3.5,9.5,"кг/м²",{"$f":"M30+'7. Надбавки'!$C$5","v":536},643.19999999999993,2251.1999999999998,16079.999999999998,null,0,0,0,null,null,24,616.31999999999994,696]
["00250-091","StoArmat Classic plus G (натурального цвета)","DE","фасад","армировка","акрил","25","кг","Ведро",3.5,9.5,"кг/м²",{"$f":"VLOOKUP($A32,'Изменение прайс-листа'!$A$2:$E$798,4,FALSE)","v":490},588,2058,14700,null,0,0,0,null,null,24,616.31999999999994,696]
["00250-090","StoArmat Classic plus G getönt (колерованная ) C1","DE","фасад","армировка","акрил","25","кг","Ведро",3.5,9.5,"кг/м²",{"$f":"M32+'7. Надбавки'!$C$5","v":536},643.19999999999993,2251.1999999999998,16079.999999999998,null,0,0,0,null,null,24,616.31999999999994,696]
["00002-002","StoArmat Classic AIMS (натурального цвета)","DE","фасад","армировка","акрил","25","кг","Ведро",3.5,9.5,"кг/м²",{"$f":"VLOOKUP($A34,'Изменение прайс-листа'!$A$2:$E$798,4,FALSE)","v":604},{"$f":"M34*1.2","v":724.8},2536.7999999999997,18120,null,{"$f":"Q34*P34","v":0},{"$f":"ROUNDUP(X34/W34*Q34,0)","v":0},{"$f":"Q34/W34","v":0},null,null,24,616.31999999999994,696,"Уникальный продукт! готовая к применению органическая армирующая масса с направляющим зерном. 95% натурального сырья. 30% содержания сосновго масла"]
["00002-001","StoArmat Classic AIMS getönt (колерованная ) C1","DE","фасад","армировка","акрил","25","кг","Ведро",3.5,9.5,"кг/м²",{"$f":"M34+'7. Надбавки'!$C$5","v":650},780,2730,19500,null,0,0,0,null,null,24,616.31999999999994,696]
["00250-029","StoArmat Classic S1 natur (натурального цвета)","DE","фасад","армировка","акрил","25","кг","Ведро",3.5,6,"кг/м²",{"$f":"VLOOKUP($A36,'Изменение прайс-листа'!$A$2:$E$798,4,FALSE)","v":548},657.6,2301.6,16440,null,0,0,0,"●","●",24,616.31999999999994,696,"Уникальный продукт! готовая к применению органическая армирующая масса с направляющим зерном. Для использования на органических и минеральных основаниях систем StoTherm Classic S1. Не содержит цемента.\nОбогащена базальтом. Высокая эластичность и устойчивость к образованию трещин.                                        "]
["00250-033","StoArmat Classic S1 getönt (колерованная ) C1","DE","фасад","армировка","акрил","25","кг","Ведро",3.5,6,"кг/м²",{"$f":"M36+'7. Надбавки'!$C$5","v":594},712.8,2494.7999999999997,17820,null,0,0,0,null,null,24,616.29999999999995,696]
["00225_002","Sto-Armierungsputz natur (натурального цвета)","RU","фасад","армировка","акрил",25,"кг","Ведро",2.5,4,"кг/м²",{"$f":"VLOOKUP($A38,'Изменение прайс-листа'!$A$2:$E$798,4,FALSE)","v":216},259.2,648,6480,null,0,0,0,"●","●",24,568.00800000000004,768,"Уникальный продукт! органическая, готовая к применению армирующая масса с направляющим зерном, отличающаяся особой механической стойкостью ( до 100 Дж), не горючая "]
["00920_003","Sto-Glasfasergewebe/ стеклосетка F 110 cm, ячейка 4х4 мм.","RU","фасад","сетка","стеклоткань","50","м","Рулон",1,1,"м/м²",{"$f":"VLOOKUP($A39,'Изменение прайс-листа'!$A$2:$E$798,4,FALSE)","v":170},{"$f":"M39*1.2","v":204},204,10200,null,{"$f":"Q39*P39","v":0},0,0,"●","●",35,339.5,1120,"универсальная армирующая сетка из стекловолокна, устойчива к воздействию щелочей. Ширина 110 см.  "]
["00915_002","Sto-Glasfasergewebe G / стеклосетка G 100cм","RU","фасад","сетка","стеклоткань","50","м","Рулон",1,1,"м/м²",{"$f":"VLOOKUP($A40,'Изменение прайс-листа'!$A$2:$E$798,4,FALSE)","v":266},319.2,319.2,15960,null,0,0,0,null,null,35,339.5,1120,"специальная стеклосетка для систем с клинкером, натуральным камнем и т.п."]
["00917_001","Sto-Panzergewebe/ панцерная сетка 100 см","RU","фасад","сетка","стеклоткань","50","м","Рулон",1,1,"м/м²",{"$f":"VLOOKUP($A41,'Изменение прайс-листа'!$A$2:$E$798,4,FALSE)","v":336},403.2,403.2,20160,null,0,0,0,null,null,35,343,1120,"усиленная стекловолокнистая сетка для дополнительного армирования и улучшения прочности на сжатие в удароопасных и цокольных участках, устойчива к щелочам."]
["00920_004","Sto-Detailgewebe/ сетка архитектурная 100 см","RU","фасад","сетка","стеклоткань",50,"м","Рулон",1,1,"м/м²",{"$f":"VLOOKUP($A42,'Изменение прайс-листа'!$A$2:$E$798,4,FALSE)","v":286},343.2,343.2,17160,null,0,0,0,null,null,20,245,660,"тонкая стекловолокнистая сетка для обработки и формирования деталей."]
["00961_013","Gewebewinkel/ уголок 2,5м стеклосетка 10х15","RU","фасад","уголок","ПВХ стеклоткань","2,5","м","Коробка",1,1,"м/мп",{"$f":"VLOOKUP($A43,'Изменение прайс-листа'!$A$2:$E$798,4,FALSE)","v":70},84,84,210,null,0,0,0,"●",null,2000,440,30000,"уголок ПВХ со стеклосеткой / профиль для формирования канта (угол 90˚). Длина - 250 см. "]
["01917-007","Sto-Rolleckwinkel 10х15 см.","DE","фасад","уголок","ПВХ стеклоткань","50","м","Рулон",1,1,"м/мп",{"$f":"VLOOKUP($A44,'Изменение прайс-листа'!$A$2:$E$798,4,FALSE)","v":230},276,276,13800,null,0,0,0,null,null,48,247.2,1584,"профиль складной со стеклосеткой / профиль для формирования любого (изменяемого) угла с интегрированной стекловолокнистой сеткой"]
["01032_005","Anputzleiste профиль примыкания со стеклосеткой 6 мм, 2.4 м","RU","фасад","профиль примыкания","ПВХ стеклоткань","2,4","м","Коробка",1,1,"м/мп",{"$f":"VLOOKUP($A45,'Изменение прайс-листа'!$A$2:$E$798,4,FALSE)","v":"по запросу"},null,null,null,null,null,0,0,"●",null,2000,400,30000,"профиль примыкания со стеклосеткой / профиль для формирования откосов дверных и оконных проемов с уплотнительной прокладкой и интегрированной стекловолокнистой сеткой."]
["04909-010","Ubergangsprofil B/ профиль примык. с кровлей или отливом","DE","фасад","профиль примыкания","ПВХ стеклоткань",2.5,"м","Коробка",1,1,"м/мп",{"$f":"VLOOKUP($A46,'Изменение прайс-листа'!$A$2:$E$798,4,FALSE)","v":1072},1286.3999999999999,1286.3999999999999,3215.9999999999995,null,0,0,0,null,null,2000,400,30000,"профиль с интегрированной стеклосеткой для создания герметичного примыкания с кровлей или отливом."]
["01889_016","Tropfkantenprofil 2,5м с \"закрытым\" капельником","RU","фасад","капельник","ПВХ стеклоткань",2.5,"м","Коробка",1,1,"м/мп",{"$f":"VLOOKUP($A47,'Изменение прайс-листа'!$A$2:$E$798,4,FALSE)","v":"по запросу"},null,null,null,null,null,0,0,"●",null,2000,400,30000,"профиль с капельником и стеклосеткой"]
["01077_017","Соединитель для цокольных шин 30 mm","RU","фасад","соединитель","ПВХ",1,"уп.","Коробка",5.0000000000000001E-3,1.4999999999999999E-2,"шт./мп",{"$f":"VLOOKUP($A48,'Изменение прайс-листа'!$A$2:$E$798,4,FALSE)","v":"по запросу"},null,null,null,null,null,0,0,null,null,360000,24,null,"соединитель для цокольных шин"]
["07845_009","Sockelleiste профиль цокольный 80 мм 2,5 м","RU","фасад","цокольный профиль","алюминий ","2,5","м","без упаковки",1,1,"м/мп",{"$f":"VLOOKUP($A49,'Изменение прайс-листа'!$A$2:$E$798,4,FALSE)","v":"по запросу"},null,null,null,null,null,0,0,null,null,120,60,1800,"профиль цокольных шин"]
["07845_011","Sockelleiste профиль цокольный 100 мм 2,5 м","RU","фасад","цокольный профиль","алюминий ","2,5","м","без упаковки",1,1,"м/мп",{"$f":"VLOOKUP($A50,'Изменение прайс-листа'!$A$2:$E$798,4,FALSE)","v":"по запросу"},null,null,null,null,null,0,0,null,null,120,56.4,1800]
["07845_014","Sockelleiste профиль цокольный 150 мм 2,5 м","RU","фасад","цокольный профиль","алюминий ","2,5","м","без упаковки",1,1,"м/мп",{"$f":"VLOOKUP($A51,'Изменение прайс-листа'!$A$2:$E$798,4,FALSE)","v":"по запросу"},null,null,null,null,null,0,0,null,null,60,54,900]
["01070_011","Unterlegscheibe компенсатор, толщина 3 мм","RU","фасад","компенсатор","ПВХ","1","уп.","Коробка",0.01,0.02,"шт./мп",{"$f":"VLOOKUP($A52,'Изменение прайс-листа'!$A$2:$E$798,4,FALSE)","v":"по запросу"},null,null,null,null,null,0,0,null,null,360000,24,null,"дистанционная шайба с вырезом по центру для механического крепления, из пластмассы, для выравнивания неровностей основания при креплении фиксирующих реек, цокольных шин. Упаковка 100 шт."]
["01070_012","Unterlegscheibe компенсатор, толщина 5 мм","RU","фасад","компенсатор","ПВХ","1","уп.","Коробка",0.01,0.02,"шт./мп",{"$f":"VLOOKUP($A53,'Изменение прайс-листа'!$A$2:$E$798,4,FALSE)","v":"по запросу"},null,null,null,null,null,0,0,null,null,360000,36]
["01900-001","Sto-Dehnfugenband 37/17-32 mm anthrazit","DE","фасад","ПСУЛ","Н/Д","4","м","Рулон",1,1,"м/мп",{"$f":"VLOOKUP($A54,'Изменение прайс-листа'!$A$2:$E$798,4,FALSE)","v":3060},3672,3672,14688,null,0,0,0,null,null,384,23.04,12672,"саморасширяющаяся уплотнительная лента для деформационных швов из импрегнированного мягкого пористого материала."]
["01846-001","Sto-Fugendichtband 2D, 15/5-12 mm","DE","фасад","ПСУЛ","Н/Д","9","м","Рулон",1,1,"м/мп",{"$f":"VLOOKUP($A55,'Изменение прайс-листа'!$A$2:$E$798,4,FALSE)","v":288},345.59999999999997,345.59999999999997,3110.3999999999996,null,0,0,0,null,null,480,64.800000000000011,15840,"саморасширяющаяся уплотнительная лента для  швов из импрегнированного мягкого пористого материала. Для долговечной изоляции мест примыкания."]
["01897-017","Dehnfugenprofil/ профиль деформационный Typ E 2,5м ","DE","фасад","профиль примыкания","ПВХ стеклоткань","2,5","м","Коробка",1,1,"м/мп",{"$f":"VLOOKUP($A56,'Изменение прайс-листа'!$A$2:$E$798,4,FALSE)","v":1520},1824,{"$f":"$N56*$J56","v":1824},{"$f":"$N56*$G56","v":4560},null,0,0,0,null,null,2000,900,30000,"профиль для обработки деформационных швов на плоскости с интегрированной стекловолокнистой сеткой"]
["01897-018","Dehnfugenprofil/ профиль деформационный Typ V 2,5м ","DE","фасад","профиль примыкания","ПВХ стеклоткань","2,5","м","Коробка",1,1,"м/мп",{"$f":"VLOOKUP($A57,'Изменение прайс-листа'!$A$2:$E$798,4,FALSE)","v":1580},1896,1896,4740,null,0,0,0,null,null,2000,760,30000,"профиль для обработки деформационных швов в углах с интегрированной стекловолокнистой сеткой"]
["01897-019","Sto-Dehnfugen-Abdeckprofil E 250 cm","DE","фасад","профиль примыкания","ПВХ","2,5","м","Коробка",1,1,"м/мп",{"$f":"VLOOKUP($A58,'Изменение прайс-листа'!$A$2:$E$798,4,FALSE)","v":792},950.4,950.4,2376,null,0,0,0,null,null,2000,900,30000,"заглушка для деформационного профиля тип Е, может окрашиваться в цвет фасада"]
["04878_025","Sto-Универсальный забивной дюбель Н5 x 135  \nтолщина теплоизоляции 80","RU","фасад","дюбель","пластик/ металл","300","шт.","Коробка",5,15,"шт/м²",{"$f":"VLOOKUP($A59,'Изменение прайс-листа'!$A$2:$E$798,4,FALSE)","v":"по запросу"},null,null,null,null,null,0,0,null,null,76800,121.6,528,"тарельчатый забивной дюбель из полиэтилена с металлическим элементом из закаленной оцинкованной стали, термоголовка из полиамида\nКрепление  теплоизоляции в бетон, полнотелый кирпич, пустотелый материал \nЗона анкеровки: 35мм - бетон, полнотелый кирпич\n"]
["04878_026","Sto-Универсальный забивной дюбель Н5 x 155                         толщина теплоизоляции 100","RU","фасад","дюбель","пластик/ металл","250","шт.","Коробка",5,15,"шт/м²",{"$f":"VLOOKUP($A60,'Изменение прайс-листа'!$A$2:$E$798,4,FALSE)","v":"по запросу"},null,null,null,null,null,0,0,null,null,76800,121.6,528]
["04878_027","Sto-Универсальный забивной дюбель Н5 x 175                            толщина теплоизоляции 120","RU","фасад","дюбель","пластик/ металл","200","шт.","Коробка",5,15,"шт/м²",{"$f":"VLOOKUP($A61,'Изменение прайс-листа'!$A$2:$E$798,4,FALSE)","v":"по запросу"},null,null,null,null,null,0,0,null,null,64000,110.4,528]
["04878_028","Sto-Универсальный забивной дюбель Н5 x 195                             толщина теплоизоляции  140","RU","фасад","дюбель","пластик/ металл","200","шт.","Коробка",5,15,"шт/м²",{"$f":"VLOOKUP($A62,'Изменение прайс-листа'!$A$2:$E$798,4,FALSE)","v":"по запросу"},null,null,null,null,null,0,0,null,null,51200,102.4,528]
["04878_029","Sto-Универсальный забивной дюбель Н5 x 215                             толщина теплоизоляции  160","RU","фасад","дюбель","пластик/ металл","150","шт.","Коробка",5,15,"шт/м²",{"$f":"VLOOKUP($A63,'Изменение прайс-листа'!$A$2:$E$798,4,FALSE)","v":"по запросу"},null,null,null,null,null,0,0,null,null,51200,102.4,528]
["04878_030","Sto-Универсальный забивной дюбель Н5 x 235                                  толщина теплоизоляции 180","RU","фасад","дюбель","пластик/ металл","150","шт.","Коробка",5,15,"шт/м²",{"$f":"VLOOKUP($A64,'Изменение прайс-листа'!$A$2:$E$798,4,FALSE)","v":"по запросу"},null,null,null,null,null,0,0,null,null,38400,91.2,528]
["04878_031","Sto-Универсальный забивной дюбель Н5 x 255                                толщина теплоизоляции 200","RU","фасад","дюбель","пластик/ металл","150","шт.","Коробка",5,15,"шт/м²",{"$f":"VLOOKUP($A65,'Изменение прайс-листа'!$A$2:$E$798,4,FALSE)","v":"по запросу"},null,null,null,null,null,0,0,null,null,38400,96,528]
["04878_032","Sto-Универсальный забивной дюбель Н5 x 275                          толщина теплоизоляции 220","RU","фасад","дюбель","пластик/ металл","100","шт.","Коробка",5,15,"шт/м²",{"$f":"VLOOKUP($A66,'Изменение прайс-листа'!$A$2:$E$798,4,FALSE)","v":"по запросу"},null,null,null,null,null,0,0,null,null,38400,105.6,528]
["04878_033","Sto-Универсальный забивной дюбель Н5 x 295                              толщина теплоизоляции 240","RU","фасад","дюбель","пластик/ металл","100","шт.","Коробка",5,15,"шт/м²",{"$f":"VLOOKUP($A67,'Изменение прайс-листа'!$A$2:$E$798,4,FALSE)","v":"по запросу"},null,null,null,null,null,0,0,null,null,25600,72,528]
["01011_001","Sto-Thermodübel EJ STR 8/60U, длина 115 мм","RU","фасад","дюбель","пластик/ металл",100,"шт.","Коробка",5,15,"шт/м²",{"$f":"VLOOKUP($A68,'Изменение прайс-листа'!$A$2:$E$798,4,FALSE)","v":"по запросу"},null,null,null,null,null,0,0,null,null,25600,72,528,"Тарельчатый дюбель из полиэтилена с закручиваемым металлическим элементом из закаленной оцинкованной стали\nКрепление теплоизоляции в бетон, полнотелый кирпич, пустотелый материал, пенобетон\nКрепление в теплоизоляцию с утапливанием дюбеля. Сверху устанавливается заглушка из минеральной ваты или пенополистерола\nЗона анкеровки для 25мм - бетон, полнотелый кирпич\n65мм - пустотелый кирпич, пенобетон, газобетон."]
["01011_002","Sto- Thermodübel EJ STR 8/60U, длина 135 мм","RU","фасад","дюбель","пластик/ металл",100,"шт.","Коробка",5,15,"шт/м²",{"$f":"VLOOKUP($A69,'Изменение прайс-листа'!$A$2:$E$798,4,FALSE)","v":"по запросу"},null,null,null,null,null,0,0,null,null,25600,86.4,528]
["01011_003","Sto-Thermodübel EJ STR 8/60U, длина 155 мм","RU","фасад","дюбель","пластик/ металл",100,"шт.","Коробка",5,15,"шт/м²",{"$f":"VLOOKUP($A70,'Изменение прайс-листа'!$A$2:$E$798,4,FALSE)","v":"по запросу"},null,null,null,null,null,0,0,null,null,25600,89.6,528]
["01011_004","Sto-Thermodübel EJ STR 8/60U, длина 175 мм","RU","фасад","дюбель","пластик/ металл",100,"шт.","Коробка",5,15,"шт/м²",{"$f":"VLOOKUP($A71,'Изменение прайс-листа'!$A$2:$E$798,4,FALSE)","v":"по запросу"},null,null,null,null,null,0,0,null,null,25600,92.8,528]
["01011_005","Sto-Thermodübel EJ STR 8/60U, длина 195 мм","RU","фасад","дюбель","пластик/ металл",100,"шт.","Коробка",5,15,"шт/м²",{"$f":"VLOOKUP($A72,'Изменение прайс-листа'!$A$2:$E$798,4,FALSE)","v":"по запросу"},null,null,null,null,null,{"$f":"ROUNDUP(X72/W72*Q72,0)","v":0},{"$f":"Q72/W72","v":0},null,null,25600,94.4,528]
["01011_006","Sto-Thermodübel EJ STR 8/60U, длина 215 мм","RU","фасад","дюбель","пластик/ металл",100,"шт.","Коробка",5,15,"шт/м²",{"$f":"VLOOKUP($A73,'Изменение прайс-листа'!$A$2:$E$798,4,FALSE)","v":"по запросу"},null,null,null,null,null,0,0,null,null,25600,97.6,528]
["01011_007","Sto-Thermodübel EJ STR 8/60U, длина 235 мм","RU","фасад","дюбель","пластик/ металл",100,"шт.","Коробка",5,15,"шт/м²",{"$f":"VLOOKUP($A74,'Изменение прайс-листа'!$A$2:$E$798,4,FALSE)","v":"по запросу"},null,null,null,null,null,0,0,null,null,25600,100.8,528]
["01011_008","Sto-Thermodübel EJ STR 8/60U, длина 255 мм","RU","фасад","дюбель","пластик/ металл",100,"шт.","Коробка",5,15,"шт/м²",{"$f":"VLOOKUP($A75,'Изменение прайс-листа'!$A$2:$E$798,4,FALSE)","v":"по запросу"},null,null,null,null,null,0,0,null,null,25600,105.6,528]
["01011_009","Sto-Thermodübel EJ STR 8/60U, длина 275 мм","RU","фасад","дюбель","пластик/ металл",100,"шт.","Коробка",5,15,"шт/м²",{"$f":"VLOOKUP($A76,'Изменение прайс-листа'!$A$2:$E$798,4,FALSE)","v":"по запросу"},null,null,null,null,null,0,0,null,null,25600,108.8,528]
["01011_010","Sto-Thermodübel EJ STR 8/60U, длина 295 мм","RU","фасад","дюбель","пластик/ металл",100,"шт.","Коробка",5,15,"шт/м²",{"$f":"VLOOKUP($A77,'Изменение прайс-листа'!$A$2:$E$798,4,FALSE)","v":"по запросу"},null,null,null,null,null,0,0,null,null,25600,113.6,528]
["00931_001","Sto-Thermodübel RPS / STR заглушка EPS (Rondell Polystyrol)","RU","фасад","заглушка","EPS",100,"шт.","Коробка",5,15,"шт/м²",{"$f":"VLOOKUP($A78,'Изменение прайс-листа'!$A$2:$E$798,4,FALSE)","v":"по запросу"},null,null,null,null,null,0,0,null,null,25600,116.8,528,"цилиндрическая заглушка из пенополистирола для маскировки утопленных в утеплитель дюбельных тарелок при стандартной посадке"]
["00931_002","Sto-Thermodübel RMW / STR заглушка MW (Rondell Mineralwolle)","RU","фасад","заглушка","MW",100,"шт.","Коробка",5,15,"шт/м²",{"$f":"VLOOKUP($A79,'Изменение прайс-листа'!$A$2:$E$798,4,FALSE)","v":"по запросу"},null,null,null,null,null,0,0,null,null,25600,33.6,528,"цилиндрическая заглушка из минеральной ваты для маскировки утопленных в утеплитель дюбельных тарелок при стандартной посадке"]
["00931_003","Sto-Thermodübel VE / STR заглушка EPS малая (Verschlusselement)","RU","фасад","заглушка","EPS",500,"шт.","Коробка",5,15,"шт/м²",{"$f":"VLOOKUP($A80,'Изменение прайс-листа'!$A$2:$E$798,4,FALSE)","v":"по запросу"},null,null,null,null,null,0,0,null,null,25600,100,528,"круглая крышка для поверхностной маскировки дюбельных тарелок"]
["00934_004","Sto-Thermodübel MT Фреза STR tool","RU","фасад","фреза","металл","1","шт.","без упаковки","н/д","н/д","шт",{"$f":"VLOOKUP($A81,'Изменение прайс-листа'!$A$2:$E$798,4,FALSE)","v":"по запросу"},null,null,null,null,null,0,0,null,null,25600,33.6,528,"насадка - фреза на дрель для монтажа дюбелей типа Thermodübel"]
["00801_118","Sto-Putzgrund OR natur (натурального цвета)","RU","фасад","грунт адгезионный","акрил","23","кг","Ведро",0.3,0.4,"кг/м²",{"$f":"VLOOKUP($A82,'Изменение прайс-листа'!$A$2:$E$798,4,FALSE)","v":234},280.8,84.24,6458.4000000000005,null,0,0,0,"●","●",24,568.00800000000004,768,"органическая адгезионная грунтовка с наполнителем (кварцевый песок) для последующего нанесения\nорганических и силиконовых покрытий"]
["00801_122","Sto-Putzgrund OR getönt (колерованная) C1","RU","фасад","грунт адгезионный","акрил","23","кг","Ведро",0.3,0.4,"кг/м²",{"$f":"M82+'7. Надбавки'!$C$5","v":280},336,100.8,7728,null,0,0,0,null,null,24,568.00800000000004,768]
["00804-001","StoPrep Miral natur (натурального цвета)","DE","фасад","грунт адгезионный","силикат",25,"кг","Ведро",0.3,0.4,"кг/м²",{"$f":"VLOOKUP($A84,'Изменение прайс-листа'!$A$2:$E$798,4,FALSE)","v":554},664.8,199.43999999999997,16620,null,0,0,0,null,null,24,616.20000000000005,696,"силикатное пигментированное промежуточное покрытие с наполнителем (кварцевый песок)"]
["00804-020","StoPrep Miral getönt (колерованное) C1","DE","фасад","грунт адгезионный","силикат",25,"кг","Ведро",0.3,0.4,"кг/м²",{"$f":"M84+'7. Надбавки'!$C$5","v":600},720,216,18000,null,0,0,0,null,null,24,616.20000000000005,696]
["00517-001","StoPrim Color weiss (белая)","DE","фасад","грунт адгезионный","силикон","15","л","Ведро",0.1,0.13,"л/м²",{"$f":"VLOOKUP($A86,'Изменение прайс-листа'!$A$2:$E$798,4,FALSE)","v":1062},1274.3999999999999,127.44,19115.999999999996,null,0,0,0,"●","●",24,519.84,792,"промежуточное покрытие на силиконо-кремниевой основе для твердых, гладких, слабовпитывающих оснований"]
["00517-008","StoPrim Color getönt (колерованное) C1","DE","фасад","грунт адгезионный","силикон","15","л","Ведро",0.1,0.13,"л/м²",{"$f":"M86+'7. Надбавки'!$C$6","v":1136},1363.2,136.32000000000002,20448,null,0,0,0,null,null,24,519.84,792]
["00884-001","StoPrep Contact ","DE","универсальный","грунт адгезионный","акрил",25,"кг","Ведро",0.2,0.4,"кг/м²",{"$f":"VLOOKUP($A88,'Изменение прайс-листа'!$A$2:$E$798,4,FALSE)","v":530},636,127.2,15900,null,0,0,0,null,null,24,616.20000000000005,696,"\"адгезионный мостик\" для гладких оснований, может смешиваться с цементом"]
["00747-001","StoLevell Deco weiss (белая)","DE","фасад","шпатлевка","акрил",25,"кг","Ведро",1.3,1.8,"кг/м²",{"$f":"VLOOKUP($A89,'Изменение прайс-листа'!$A$2:$E$798,4,FALSE)","v":496},595.19999999999993,773.76,14879.999999999998,null,0,0,0,"●",null,24,616.20000000000005,696,"органическая финишная шпаклевочная масса, колеруется по системе StoColor System, предназначена для всех минеральных и органических оснований"]
["00747-002","StoLevell Deco getönt (колерованная) C1","DE","фасад","шпатлевка","акрил",25,"кг","Ведро",1.3,1.8,"кг/м²",{"$f":"M89+'7. Надбавки'!$C$5","v":542},650.4,845.52,16260,null,0,0,0,null,null,24,616.20000000000005,696]
["00845-006","StoMiral FL Vario","DE","фасад","штукатурка","цемент","15","кг","Мешок",0.83,8.3000000000000007,"кг/м²",{"$f":"VLOOKUP($A91,'Изменение прайс-листа'!$A$2:$E$798,4,FALSE)","v":312},374.4,310.75199999999995,5616,null,0,0,0,null,null,42,633.78,1176,"минеральная, армированная волокнами легкая штукатурка. Для теплоизоляционной кладки из кирпича, а также для смешанной кладки."]
["04346-019","StoLevell Reno weiss (белая)","DE","фасад","штукатурка","цемент","25","кг","Мешок",1.28,1.3,"кг/м²",{"$f":"VLOOKUP($A92,'Изменение прайс-листа'!$A$2:$E$798,4,FALSE)","v":262},{"$f":"M92*1.2","v":314.39999999999998},{"$f":"$N92*$J92","v":402.43199999999996},{"$f":"$N92*$G92","v":7859.9999999999991},null,{"$f":"Q92*P92","v":0},0,0,null,null,36,903.6,720,"Минеральная фильцующаяся, армированная волокнами шпаклевочная масса, органически улучшенная"]
["04346_120","StoReno fein","RU","универсальный","шпаклевка","цемент","18","кг","Мешок",1.4,1.5,"кг/м²",{"$f":"VLOOKUP($A93,'Изменение прайс-листа'!$A$2:$E$798,4,FALSE)","v":90},104.68799999999999,94.219199999999987,1884.3839999999998,null,0,0,0,"●",null,42,1054.2,780,"шпаклеква минеральная усиленная"]
["04346_121","StoReno","RU","универсальный","шпаклевка","цемент","25","кг","Мешок",1.8,2,"кг/м²",{"$f":"VLOOKUP($A94,'Изменение прайс-листа'!$A$2:$E$798,4,FALSE)","v":42},42.288000000000004,84.576000000000008,1057.2,null,0,0,0,"●",null,42,1054.2,780,"финишная шпаклеква минеральная усиленная"]
["01505_001","Sto-Strukturputz K 1,5 weiss (белая)","RU","фасад","декоративная штукатурка","цемент","25","кг","Мешок",1.9,2,"кг/м²",{"$f":"VLOOKUP($A95,'Изменение прайс-листа'!$A$2:$E$798,4,FALSE)","v":54},{"$f":"M95*1.2","v":64.8},{"$f":"$N95*$J95","v":123.11999999999999},{"$f":"$N95*$G95","v":1620},null,0,0,0,"●",null,42,1054.2,780,"минеральная финишная штукатурка, усиленная органическими добавками - царапанная структура (\"шуба\") для минеральных оснований\n"]
["01502_004","Sto-Strukturputz K 2,0 weiss (белая)","RU","фасад","декоративная штукатурка","цемент","25","кг","Мешок",2.4,2.5,"кг/м²",{"$f":"VLOOKUP($A96,'Изменение прайс-листа'!$A$2:$E$798,4,FALSE)","v":54},64.8,155.51999999999998,1620,null,0,0,0,"●",null,42,1054.2,780]
["01512_001","Sto-Strukturputz R 1,5 weiss (белая)","RU","фасад","декоративная штукатурка","цемент",25,"кг","Мешок",1.9,2,"кг/м²",{"$f":"VLOOKUP($A97,'Изменение прайс-листа'!$A$2:$E$798,4,FALSE)","v":54},64.8,123.11999999999999,1620,null,0,0,0,"●",null,42,1054.2,780,"минеральная финишная штукатурка, усиленная органическими добавками - бороздчатая структура (\"короед\") для минеральных оснований"]
["01512_002","Sto-Strukturputz R 2,0 weiss (белая)","RU","фасад","декоративная штукатурка","цемент","25","кг","Мешок",2.4,2.5,"кг/м²",{"$f":"VLOOKUP($A98,'Изменение прайс-листа'!$A$2:$E$798,4,FALSE)","v":54},64.8,155.51999999999998,1620,null,0,0,0,"●",null,42,1054.2,780]
["08744-001","StoMiral K 1,0 weiss (белая)","DE","фасад","декоративная штукатурка","цемент",25,"кг","Мешок",1.6,1.7,"кг/м²",{"$f":"VLOOKUP($A99,'Изменение прайс-листа'!$A$2:$E$798,4,FALSE)","v":312},374.4,599.04,9360,null,0,0,0,null,null,36,903.6,720,"минеральная финишная штукатурка, усиленная органическими добавками - царапанная структура (\"шуба\") для минеральных оснований\n"]
["01380-001","StoMiral K 1,5 weiss (белая)","DE","фасад","декоративная штукатурка","цемент",25,"кг","Мешок",1.8,1.9,"кг/м²",{"$f":"VLOOKUP($A100,'Изменение прайс-листа'!$A$2:$E$798,4,FALSE)","v":312},374.4,673.92,9360,null,0,0,0,null,null,36,903.6,720]
["01381-001","StoMiral K 2,0 weiss (белая)","DE","фасад","декоративная штукатурка","цемент",25,"кг","Мешок",2.4,2.5,"кг/м²",{"$f":"VLOOKUP($A101,'Изменение прайс-листа'!$A$2:$E$798,4,FALSE)","v":312},374.4,898.56,9360,null,0,0,0,null,null,36,903.6,720]
["01382-001","StoMiral K 3,0 weiss (белая)","DE","фасад","декоративная штукатурка","цемент",25,"кг","Мешок",2.7,2.8,"кг/м²",{"$f":"VLOOKUP($A102,'Изменение прайс-листа'!$A$2:$E$798,4,FALSE)","v":312},374.4,1010.88,9360,null,0,0,0,null,null,36,903.6,720]
["01385-001","StoMiral R 1,5 weiss (белая)","DE","фасад","декоративная штукатурка","цемент",25,"кг","Мешок",1.8,1.9,"кг/м²",{"$f":"VLOOKUP($A103,'Изменение прайс-листа'!$A$2:$E$798,4,FALSE)","v":312},374.4,673.92,9360,null,0,0,0,null,null,36,903.6,720,"финишная штукатурка, усиленная органическими добавками - бороздчатая структура (\"короед\") для минеральных оснований\n"]
["01386-001","StoMiral R 2,0 weiss (белая)","DE","фасад","декоративная штукатурка","цемент",25,"кг","Мешок",2.4,2.5,"кг/м²",{"$f":"VLOOKUP($A104,'Изменение прайс-листа'!$A$2:$E$798,4,FALSE)","v":312},374.4,898.56,9360,null,0,0,0,null,null,36,903.6,720]
["01387-001","StoMiral R 3,0 weiss (белая)","DE","фасад","декоративная штукатурка","цемент",25,"кг","Мешок",2.8,2.9,"кг/м²",{"$f":"VLOOKUP($A105,'Изменение прайс-листа'!$A$2:$E$798,4,FALSE)","v":312},374.4,1048.32,9360,null,0,0,0,null,null,36,903.6,720]
["00113-020","StoMiral MP weiss (белая)","DE","фасад","декоративная штукатурка","цемент",25,"кг","Мешок",1.5,4,"кг/м²",{"$f":"VLOOKUP($A106,'Изменение прайс-листа'!$A$2:$E$798,4,FALSE)","v":312},374.4,561.59999999999991,9360,null,0,0,0,null,null,36,903.6,720,"минеральная финишная штукатурка с моделируемой структурой"]
["00113-023","StoMiral MP getönt (колерованная) C1","DE","фасад","декоративная штукатурка","цемент","25","кг","Мешок",1.5,4,"кг/м²",{"$f":"M106+'7. Надбавки'!$C$5","v":358},429.59999999999997,644.4,10740,null,0,0,0,null,null,36,903.6,720]
["01388-001","StoMiral Nivell F (мелкозернистая)","DE","фасад","декоративная штукатурка","цемент",25,"кг","Мешок",1.7,1.8,"кг/м²",{"$f":"VLOOKUP($A108,'Изменение прайс-листа'!$A$2:$E$798,4,FALSE)","v":312},374.4,636.4799999999999,9360,null,0,0,0,null,null,36,903.6,720,"мелкозернистая минеральная штукатурка для имитации затертой штукатурки, необходимо покрывать фасадной краской  "]
["01247_001","StoMarlit K (RU) 1.0 weiss (белая)","RU","фасад","декоративная штукатурка","акрил","25","кг","Ведро",1.9,2,"кг/м²",{"$f":"VLOOKUP($A109,'Изменение прайс-листа'!$A$2:$E$798,4,FALSE)","v":214},256.8,487.92,6420,null,0,0,0,"●",null,24,616.20000000000005,720,"органическая финишная штукатурка (с высокой паропроницаемостью) с зернистой структурой (\"шуба\") для наружных работ, применяется на минеральных и органических основаниях.                                                                                                                                                                                                                                                                                                                                                               "]
["01247_003","StoMarlit K (RU) 1.0  getönt (колерованная)  C1","RU","фасад","декоративная штукатурка","акрил","25","кг","Ведро",1.9,2,"кг/м²",{"$f":"M109+'7. Надбавки'!$C$5","v":260},312,592.79999999999995,7800,null,0,0,0,null,null,24,616.20000000000005,720]
["02131_001","StoMarlit K (RU) 1.5 weiss (белая)","RU","фасад","декоративная штукатурка","акрил","25","кг","Ведро",2.4,2.5,"кг/м²",{"$f":"VLOOKUP($A111,'Изменение прайс-листа'!$A$2:$E$798,4,FALSE)","v":214},256.8,616.32000000000005,6420,null,0,0,0,"●",null,24,616.20000000000005,720]
["02131_002","StoMarlit K (RU) 1.5  getönt (колерованная)  C1","RU","фасад","декоративная штукатурка","акрил","25","кг","Ведро",2.4,2.5,"кг/м²",{"$f":"M111+'7. Надбавки'!$C$5","v":260},312,748.8,7800,null,0,0,0,null,null,24,616.20000000000005,720]
["02132_001","StoMarlit K (RU) 2.0 weiss (белая)","RU","фасад","декоративная штукатурка","акрил","25","кг","Ведро",3.1,3.2,"кг/м²",{"$f":"VLOOKUP($A113,'Изменение прайс-листа'!$A$2:$E$798,4,FALSE)","v":214},256.8,796.08,6420,null,0,0,0,"●",null,24,616.20000000000005,720]
["02132_002","StoMarlit K (RU) 2.0 getönt (колерованная) C1","RU","фасад","декоративная штукатурка","акрил","25","кг","Ведро",3.1,3.2,"кг/м²",{"$f":"M113+'7. Надбавки'!$C$5","v":260},312,967.2,7800,null,0,0,0,null,null,24,616.20000000000005,720]
["02142_001","StoMarlit R (RU) 2.0 weiss (белая)","RU","фасад","декоративная штукатурка","акрил","25","кг","Ведро",2.8,2.9,"кг/м²",{"$f":"VLOOKUP($A115,'Изменение прайс-листа'!$A$2:$E$798,4,FALSE)","v":214},256.8,719.04,6420,null,0,0,0,"●",null,24,616.20000000000005,720,"органическая финишная штукатурка (с высокой паропроницаемостью) с бороздчатой структурой (\"короед\") для наружных работ, применяется на минеральных и органических основаниях.                                                              "]
["02142_002","StoMarlit R (RU) 2.0 getönt (колерованная) C1","RU","фасад","декоративная штукатурка","акрил","25","кг","Ведро",2.8,2.9,"кг/м²",{"$f":"M115+'7. Надбавки'!$C$5","v":260},312,873.59999999999991,7800,null,0,0,0,null,null,24,616.20000000000005,720]
["00130-001","Stolit K 1,0 weiss (белая)","DE","фасад","декоративная штукатурка","акрил",25,"кг","Ведро",1.8,1.9,"кг/м²",{"$f":"VLOOKUP($A117,'Изменение прайс-листа'!$A$2:$E$798,4,FALSE)","v":580},696,1252.8,17400,null,0,0,0,null,null,24,616.20000000000005,696,"органическая, армированная волокнами, усиленная финишная штукатурка с царапанной структурой (\"шуба\"), применяется на минеральных и органических основаниях"]
["00130-005","Stolit K 1,0 getönt (колерованная) C1","DE","фасад","декоративная штукатурка","акрил",25,"кг","Ведро",1.8,1.9,"кг/м²",{"$f":"M117+'7. Надбавки'!$C$5","v":626},751.19999999999993,1352.1599999999999,18780,null,0,0,0,null,null,24,616.20000000000005,696]
["00131-001","Stolit K 1,5 weiss (белая)","DE","фасад","декоративная штукатурка","акрил",25,"кг","Ведро",2.2999999999999998,2.4,"кг/м²",{"$f":"VLOOKUP($A119,'Изменение прайс-листа'!$A$2:$E$798,4,FALSE)","v":580},696,1600.8,17400,null,0,0,0,null,null,24,616.20000000000005,696]
["00131-053","Stolit K 1,5 getönt (колерованная) C1","DE","фасад","декоративная штукатурка","акрил",25,"кг","Ведро",2.2999999999999998,2.4,"кг/м²",{"$f":"M119+'7. Надбавки'!$C$5","v":626},751.19999999999993,1727.7599999999998,18780,null,0,0,0,null,null,24,616.20000000000005,696]
["00132-001","Stolit K 2,0 weiss (белая)","DE","фасад","декоративная штукатурка","акрил",25,"кг","Ведро",3,3.1,"кг/м²",{"$f":"VLOOKUP($A121,'Изменение прайс-листа'!$A$2:$E$798,4,FALSE)","v":580},696,2088,17400,null,0,0,0,null,null,24,616.20000000000005,696]
["00132-003","Stolit K 2,0 getönt (колерованная) C1","DE","фасад","декоративная штукатурка","акрил",25,"кг","Ведро",3,3.1,"кг/м²",{"$f":"M121+'7. Надбавки'!$C$5","v":626},751.19999999999993,2253.6,18780,null,0,0,0,null,null,24,616.20000000000005,696]
["00134-001","Stolit K 3,0 weiss (белая)","DE","фасад","декоративная штукатурка","акрил",25,"кг","Ведро",4.3,4.4000000000000004,"кг/м²",{"$f":"VLOOKUP($A123,'Изменение прайс-листа'!$A$2:$E$798,4,FALSE)","v":580},696,2992.7999999999997,17400,null,0,0,0,null,null,24,616.20000000000005,696]
["00134-003","Stolit K 3,0 getönt (колерованная) C1","DE","фасад","декоративная штукатурка","акрил",25,"кг","Ведро",4.3,4.4000000000000004,"кг/м²",{"$f":"M123+'7. Надбавки'!$C$5","v":626},751.19999999999993,3230.1599999999994,18780,null,0,0,0,null,null,24,616.20000000000005,696]
["00135-001","Stolit K 6,0 weiss (белая)","DE","фасад","декоративная штукатурка","акрил",25,"кг","Ведро",6,6.1,"кг/м²",{"$f":"VLOOKUP($A125,'Изменение прайс-листа'!$A$2:$E$798,4,FALSE)","v":606},727.19999999999993,4363.2,18180,null,0,0,0,null,null,24,616.20000000000005,696]
["00135-002","Stolit K 6,0 getönt (колерованная) C1","DE","фасад","декоративная штукатурка","акрил",25,"кг","Ведро",6,6.1,"кг/м²",{"$f":"M125+'7. Надбавки'!$C$5","v":652},782.4,4694.3999999999996,19560,null,0,0,0,null,null,24,616.20000000000005,696]
["00141-001","Stolit R 1,5 weiss (белая)","DE","фасад","декоративная штукатурка","акрил",25,"кг","Ведро",2.2000000000000002,2.2999999999999998,"кг/м²",{"$f":"VLOOKUP($A127,'Изменение прайс-листа'!$A$2:$E$798,4,FALSE)","v":580},696,1531.2,17400,null,0,0,0,null,null,24,616.20000000000005,696,"органическая, армированная волокнами, усиленная финишная штукатурка с бороздчатой структурой (\"короед\") для наружных работ, применяется на минеральных и органических основаниях\n"]
["00141-046","Stolit R 1,5 getönt (колерованная) C1 ","DE","фасад","декоративная штукатурка","акрил",25,"кг","Ведро",2.2000000000000002,2.2999999999999998,"кг/м²",{"$f":"M127+'7. Надбавки'!$C$5","v":626},751.19999999999993,1652.6399999999999,18780,null,0,0,0,null,null,24,616.20000000000005,696]
["00142-002","Stolit R 2,0 weiss (белая)","DE","фасад","декоративная штукатурка","акрил",25,"кг","Ведро",2.7,2.8,"кг/м²",{"$f":"VLOOKUP($A129,'Изменение прайс-листа'!$A$2:$E$798,4,FALSE)","v":580},696,1879.2,17400,null,0,0,0,null,null,24,616.20000000000005,696]
["00142-047","Stolit R 2,0 getönt (колерованная) C1","DE","фасад","декоративная штукатурка","акрил",25,"кг","Ведро",2.7,2.8,"кг/м²",{"$f":"M129+'7. Надбавки'!$C$5","v":626},751.19999999999993,2028.24,18780,null,0,0,0,null,null,24,616.20000000000005,696]
["00143-001","Stolit R 3,0 weiss (белая)","DE","фасад","декоративная штукатурка","акрил",25,"кг","Ведро",3.5,3.6,"кг/м²",{"$f":"VLOOKUP($A131,'Изменение прайс-листа'!$A$2:$E$798,4,FALSE)","v":580},696,2436,17400,null,0,0,0,null,null,24,616.20000000000005,696]
["00143-048","Stolit R 3,0 getönt (колерованная) C1","DE","фасад","декоративная штукатурка","акрил",25,"кг","Ведро",3.5,3.6,"кг/м²",{"$f":"M131+'7. Надбавки'!$C$5","v":626},751.19999999999993,2629.2,18780,null,0,0,0,null,null,24,616.20000000000005,696]
["00144-001","Stolit R 6,0 weiss (белая)","DE","фасад","декоративная штукатурка","акрил","25","кг","Ведро",5.6,5.7,"кг/м²",{"$f":"VLOOKUP($A133,'Изменение прайс-листа'!$A$2:$E$798,4,FALSE)","v":648},777.6,4354.5599999999995,19440,null,0,0,0,null,null,24,616.20000000000005,696]
["00144-003","Stolit R 6,0 getönt (колерованная) C1","DE","фасад","декоративная штукатурка","акрил","25","кг","Ведро",5.6,5.7,"кг/м²",{"$f":"M133+'7. Надбавки'!$C$5","v":694},832.8,4663.6799999999994,20820,null,0,0,0,null,null,24,616.20000000000005,696]
["00183-001","Stolit MP weiss (белая)","DE","фасад","декоративная штукатурка","акрил","25","кг","Ведро",1.5,2.5,"кг/м²",{"$f":"VLOOKUP($A135,'Изменение прайс-листа'!$A$2:$E$798,4,FALSE)","v":580},696,1044,17400,null,0,0,0,"●","●",24,616.20000000000005,696,"органическая финишная штукатурка с моделируемой структурой для наружных работ, применяется на минеральных и органических основаниях"]
["00183-014","Stolit MP getönt (колерованная) C1","DE","фасад","декоративная штукатурка","акрил","25","кг","Ведро",1.5,2.5,"кг/м²",{"$f":"M135+'7. Надбавки'!$C$5","v":626},751.19999999999993,1126.8,18780,null,0,{"$f":"ROUNDUP(X136/W136*Q136,0)","v":0},{"$f":"Q136/W136","v":0},null,null,24,616.20000000000005,696]
["00966-001","Stolit Effect weiss (белая)","DE","фасад","декоративная штукатурка","акрил",25,"кг","Ведро",3.5,5.5,"кг/м²",{"$f":"VLOOKUP($A137,'Изменение прайс-листа'!$A$2:$E$798,4,FALSE)","v":580},{"$f":"M137*1.2","v":696},{"$f":"$N137*$J137","v":2436},{"$f":"$N137*$G137","v":17400},null,{"$f":"Q137*P137","v":0},0,0,null,null,24,616.20000000000005,696,"специальная наружная штукатурка на искусственных смолах. Высокая защита от атмосферных воздействий, хорошая паропроницаемость."]
["00966-002","Stolit Effect getönt (колерованная) C1","DE","фасад","декоративная штукатурка","акрил",25,"кг","Ведро",3.5,5.5,"кг/м²",{"$f":"M137+'7. Надбавки'!$C$5","v":626},751.19999999999993,2629.2,18780,null,0,0,0,null,null,24,616.20000000000005,696]
["04366-003","Stolit Milano natur (натурального цвета)","DE","фасад","декоративная штукатурка","акрил",25,"кг","Ведро",1.5,2.5,"кг/м²",{"$f":"VLOOKUP($A139,'Изменение прайс-листа'!$A$2:$E$798,4,FALSE)","v":580},696,1044,17400,null,0,0,0,"●","●",24,616.20000000000005,696,"тонкая наружная штукатурка на исскуственных смолах. Высокая эластичность и устойчивость к атмосферным воздействиям. Возможность моделирования различных структур, высокая стабильность цветового тона."]
["04366-004","Stolit Milano getönt (колерованная) C1","DE","фасад","декоративная штукатурка","акрил",25,"кг","Ведро",1.5,2.5,"кг/м²",{"$f":"M139+'7. Надбавки'!$C$5","v":626},751.19999999999993,1126.8,18780,null,0,0,0,null,null,24,616.20000000000005,696]
["09576-010","Stolit AIMS K 1,0 weiss (белая)","DE","фасад","декоративная штукатурка","акрил",25,"кг","Ведро",1.5,2.5,"кг/м²",{"$f":"VLOOKUP($A141,'Изменение прайс-листа'!$A$2:$E$798,4,FALSE)","v":792},{"$f":"M141*1.2","v":950.4},1425.6,23760,null,{"$f":"Q141*P141","v":0},{"$f":"ROUNDUP(X141/W141*Q141,0)","v":0},{"$f":"Q141/W141","v":0},null,null,24,616.20000000000005,696,"Уникальный продукт! органическая, армированная волокнами, усиленная финишная штукатурка с бороздчатой структурой (\"короед\") для наружных работ, применяется на минеральных и органических основаниях. 95% натурального сырья. Содержит 30% натурального масла сосны"]
["09576-009","Stolit AIMS K 1,0 getönt (колерованная) C1","DE","фасад","декоративная штукатурка","акрил",25,"кг","Ведро",1.5,2.5,"кг/м²",{"$f":"M141+'7. Надбавки'!$C$5","v":838},1005.5999999999999,1508.3999999999999,25139.999999999996,null,0,0,0,null,null,24,616.20000000000005,696]
["09576-006","Stolit AIMS K 1,5 weiss (белая)","DE","фасад","декоративная штукатурка","акрил",25,"кг","Ведро",1.5,2.5,"кг/м²",{"$f":"VLOOKUP($A143,'Изменение прайс-листа'!$A$2:$E$798,4,FALSE)","v":792},950.4,1425.6,23760,null,0,0,0,null,null,24,616.20000000000005,696]
["09576-005","Stolit AIMS K 1,5 getönt (колерованная) C1","DE","фасад","декоративная штукатурка","акрил",25,"кг","Ведро",1.5,2.5,"кг/м²",{"$f":"M143+'7. Надбавки'!$C$5","v":838},1005.5999999999999,1508.3999999999999,25139.999999999996,null,0,0,0,null,null,24,616.20000000000005,696]
["09576-002","Stolit AIMS K 2,0 weiss (белая)","DE","фасад","декоративная штукатурка","акрил",25,"кг","Ведро",1.5,2.5,"кг/м²",{"$f":"VLOOKUP($A145,'Изменение прайс-листа'!$A$2:$E$798,4,FALSE)","v":792},950.4,1425.6,23760,null,0,0,0,null,null,24,616.20000000000005,696]
["09576-001","Stolit AIMS K 2,0 getönt (колерованная) C1","DE","фасад","декоративная штукатурка","акрил",25,"кг","Ведро",1.5,2.5,"кг/м²",{"$f":"M145+'7. Надбавки'!$C$5","v":838},1005.5999999999999,1508.3999999999999,25139.999999999996,null,0,0,0,null,null,24,616.20000000000005,696]
["09576-008","Stolit AIMS K 3,0 weiss (белая)","DE","фасад","декоративная штукатурка","акрил",25,"кг","Ведро",1.5,2.5,"кг/м²",{"$f":"VLOOKUP($A147,'Изменение прайс-листа'!$A$2:$E$798,4,FALSE)","v":792},950.4,1425.6,23760,null,0,0,0,null,null,24,616.20000000000005,696]
["09576-007","Stolit AIMS K 3,0 getönt (колерованная) C1","DE","фасад","декоративная штукатурка","акрил",25,"кг","Ведро",1.5,2.5,"кг/м²",{"$f":"M147+'7. Надбавки'!$C$5","v":838},1005.5999999999999,1508.3999999999999,25139.999999999996,null,0,0,0,null,null,24,616.20000000000005,696]
["09576-004","Stolit AIMS MP weiss (белая)","DE","фасад","декоративная штукатурка","акрил",25,"кг","Ведро",1.5,2.5,"кг/м²",{"$f":"VLOOKUP($A149,'Изменение прайс-листа'!$A$2:$E$798,4,FALSE)","v":848},1017.5999999999999,1526.3999999999999,25439.999999999996,null,0,0,0,null,null,24,616.20000000000005,696]
["09576-003","Stolit AIMS MP getönt (колерованная) C1","DE","фасад","декоративная штукатурка","акрил",25,"кг","Ведро",1.5,2.5,"кг/м²",{"$f":"M149+'7. Надбавки'!$C$5","v":894},1072.8,1609.1999999999998,26820,null,0,0,0,null,null,24,616.20000000000005,696]
["01383-001","StoNivellit weiss (белая)","DE","фасад","декоративная штукатурка","акрил",25,"кг","Ведро",1.5,1.7,"кг/м²",{"$f":"VLOOKUP($A151,'Изменение прайс-листа'!$A$2:$E$798,4,FALSE)","v":614},736.8,1105.1999999999998,18420,null,0,0,0,null,null,24,616.20000000000005,696,"мелкозернистая наружная штукатурка на искусственных смолах. Не содержит цемента, высокая погодоустойчивость и эластичность, белая, колеруемая."]
["01383-008","StoNivellit getönt (колерованная) C1  ","DE","фасад","декоративная штукатурка","акрил",25,"кг","Ведро",1.5,1.7,"кг/м²",{"$f":"M151+'7. Надбавки'!$C$5","v":660},792,1188,19800,null,0,0,0,null,null,24,616.20000000000005,696]
["00152-062","Sto-Superlit K 2,0 405  (размер зерна 2,00 мм)","DE","фасад","декоративная штукатурка","акрил","23","кг","Ведро",5,6,"кг/м²",{"$f":"VLOOKUP($A153,'Изменение прайс-листа'!$A$2:$E$798,4,FALSE)","v":734},{"$f":"M153*1.2","v":880.8},{"$f":"$N153*$J153","v":4404},{"$f":"$N153*$G153","v":20258.399999999998},null,{"$f":"Q153*P153","v":0},0,0,null,null,24,568.00800000000004,768,"Уникальный продукт! органическая штукатурка из смеси натуральных цветных камней. Высокая устойчивость к механическим нагрузкам, высокая эластичность, хорошая пароницаемость, погодоустойчавая. "]
["00152-063","Sto-Superlit K 2,0 409  (размер зерна 2,00 мм)","DE","фасад","декоративная штукатурка","акрил","23","кг","Ведро",5,6,"кг/м²",{"$f":"VLOOKUP($A154,'Изменение прайс-листа'!$A$2:$E$798,4,FALSE)","v":734},880.8,4404,20258.399999999998,null,0,0,0,null,null,24,568.00800000000004,768]
["00152-077","Sto-Superlit K 2,0 411  (размер зерна 2,00 мм)","DE","фасад","декоративная штукатурка","акрил","23","кг","Ведро",5,6,"кг/м²",{"$f":"VLOOKUP($A155,'Изменение прайс-листа'!$A$2:$E$798,4,FALSE)","v":734},880.8,4404,20258.399999999998,null,0,0,0,null,null,24,568.00800000000004,768]
["00152-078","Sto-Superlit K 2,0 412  (размер зерна 2,00 мм)","DE","фасад","декоративная штукатурка","акрил","23","кг","Ведро",5,6,"кг/м²",{"$f":"VLOOKUP($A156,'Изменение прайс-листа'!$A$2:$E$798,4,FALSE)","v":734},880.8,4404,20258.399999999998,null,0,0,0,null,null,24,568.00800000000004,768]
["00152-064","Sto-Superlit K 2,0 413  (размер зерна 2,00 мм)","DE","фасад","декоративная штукатурка","акрил","23","кг","Ведро",5,6,"кг/м²",{"$f":"VLOOKUP($A157,'Изменение прайс-листа'!$A$2:$E$798,4,FALSE)","v":734},880.8,4404,20258.399999999998,null,0,0,0,null,null,24,568.00800000000004,768]
["00152-079","Sto-Superlit K 2,0 414  (размер зерна 2,00 мм)","DE","фасад","декоративная штукатурка","акрил","23","кг","Ведро",5,6,"кг/м²",{"$f":"VLOOKUP($A158,'Изменение прайс-листа'!$A$2:$E$798,4,FALSE)","v":734},880.8,4404,20258.399999999998,null,0,0,0,null,null,24,568.00800000000004,768]
["00152-080","Sto-Superlit K 2,0 416  (размер зерна 2,00 мм)","DE","фасад","декоративная штукатурка","акрил","23","кг","Ведро",5,6,"кг/м²",{"$f":"VLOOKUP($A159,'Изменение прайс-листа'!$A$2:$E$798,4,FALSE)","v":734},880.8,4404,20258.399999999998,null,0,0,0,null,null,24,568.00800000000004,768]
["00152-030","Sto-Superlit K 2,0 800  (размер зерна 2,00 мм)","DE","фасад","декоративная штукатурка","акрил","23","кг","Ведро",5,6,"кг/м²",{"$f":"VLOOKUP($A160,'Изменение прайс-листа'!$A$2:$E$798,4,FALSE)","v":734},880.8,4404,20258.399999999998,null,0,0,0,null,null,24,568.00800000000004,768]
["00152-041","Sto-Superlit K 2,0 818  (размер зерна 2,00 мм)","DE","фасад","декоративная штукатурка","акрил","23","кг","Ведро",5,6,"кг/м²",{"$f":"VLOOKUP($A161,'Изменение прайс-листа'!$A$2:$E$798,4,FALSE)","v":734},880.8,4404,20258.399999999998,null,0,0,0,null,null,24,568.00800000000004,768]
["00152-043","Sto-Superlit K 2,0 820  (размер зерна 2,00 мм)","DE","фасад","декоративная штукатурка","акрил","23","кг","Ведро",5,6,"кг/м²",{"$f":"VLOOKUP($A162,'Изменение прайс-листа'!$A$2:$E$798,4,FALSE)","v":734},880.8,4404,20258.399999999998,null,0,0,0,null,null,24,568.00800000000004,768]
["00152-044","Sto-Superlit K 2,0 821  (размер зерна 2,00 мм)","DE","фасад","декоративная штукатурка","акрил","23","кг","Ведро",5,6,"кг/м²",{"$f":"VLOOKUP($A163,'Изменение прайс-листа'!$A$2:$E$798,4,FALSE)","v":734},880.8,4404,20258.399999999998,null,0,0,0,null,null,24,568.00800000000004,768]
["00152-047","Sto-Superlit K 2,0 824  (размер зерна 2,00 мм)","DE","фасад","декоративная штукатурка","акрил","23","кг","Ведро",5,6,"кг/м²",{"$f":"VLOOKUP($A164,'Изменение прайс-листа'!$A$2:$E$798,4,FALSE)","v":734},880.8,4404,20258.399999999998,null,0,0,0,null,null,24,568.00800000000004,768]
["00152-051","Sto-Superlit K 2,0 828  (размер зерна 2,00 мм)","DE","фасад","декоративная штукатурка","акрил","23","кг","Ведро",5,6,"кг/м²",{"$f":"VLOOKUP($A165,'Изменение прайс-листа'!$A$2:$E$798,4,FALSE)","v":734},880.8,4404,20258.399999999998,null,0,0,0,null,null,24,568.00800000000004,768]
["00152-054","Sto-Superlit K 2,0 831  (размер зерна 2,00 мм)","DE","фасад","декоративная штукатурка","акрил","23","кг","Ведро",5,6,"кг/м²",{"$f":"VLOOKUP($A166,'Изменение прайс-листа'!$A$2:$E$798,4,FALSE)","v":734},880.8,4404,20258.399999999998,null,0,0,0,null,null,24,568.00800000000004,768]
["00152-056","Sto-Superlit K 2,0 833  (размер зерна 2,00 мм)","DE","фасад","декоративная штукатурка","акрил","23","кг","Ведро",5,6,"кг/м²",{"$f":"VLOOKUP($A167,'Изменение прайс-листа'!$A$2:$E$798,4,FALSE)","v":734},880.8,4404,20258.399999999998,null,0,0,0,null,null,24,568.00800000000004,768]
["00152-057","Sto-Superlit K 2,0 834  (размер зерна 2,00 мм)","DE","фасад","декоративная штукатурка","акрил","23","кг","Ведро",5,6,"кг/м²",{"$f":"VLOOKUP($A168,'Изменение прайс-листа'!$A$2:$E$798,4,FALSE)","v":734},880.8,4404,20258.399999999998,null,0,0,0,null,null,24,568.00800000000004,768]
["00152-083","Sto-Superlit K 2,0 841  (размер зерна 2,00 мм)","DE","фасад","декоративная штукатурка","акрил","23","кг","Ведро",5,6,"кг/м²",{"$f":"VLOOKUP($A169,'Изменение прайс-листа'!$A$2:$E$798,4,FALSE)","v":734},880.8,4404,20258.399999999998,null,0,0,0,null,null,24,568.00800000000004,768]
["00152-061","Sto-Superlit K 2,0 403  (размер зерна 2,00 мм)","DE","фасад","декоративная штукатурка","акрил","23","кг","Ведро",5,6,"кг/м²",{"$f":"VLOOKUP($A170,'Изменение прайс-листа'!$A$2:$E$798,4,FALSE)","v":734},{"$f":"M170*1.2","v":880.8},{"$f":"$N170*$J170","v":4404},{"$f":"$N170*$G170","v":20258.399999999998},null,{"$f":"Q170*P170","v":0},0,0,null,null,24,568.00800000000004,768]
["00152-076","Sto-Superlit K 2,0 404  (размер зерна 2,00 мм)","DE","фасад","декоративная штукатурка","акрил","23","кг","Ведро",5,6,"кг/м²",{"$f":"VLOOKUP($A171,'Изменение прайс-листа'!$A$2:$E$798,4,FALSE)","v":808},969.59999999999991,4848,22300.799999999999,null,0,0,0,null,null,24,568.00800000000004,768]
["00152-065","Sto-Superlit K 2,0 415  (размер зерна 2,00 мм)","DE","фасад","декоративная штукатурка","акрил","23","кг","Ведро",5,6,"кг/м²",{"$f":"VLOOKUP($A172,'Изменение прайс-листа'!$A$2:$E$798,4,FALSE)","v":808},969.59999999999991,4848,22300.799999999999,null,0,0,0,null,null,24,568.00800000000004,768]
["00152-050","Sto-Superlit K 2,0 827  (размер зерна 2,00 мм)","DE","фасад","декоративная штукатурка","акрил","23","кг","Ведро",5,6,"кг/м²",{"$f":"VLOOKUP($A173,'Изменение прайс-листа'!$A$2:$E$798,4,FALSE)","v":808},969.59999999999991,4848,22300.799999999999,null,0,0,0,null,null,24,568.00800000000004,768]
["00152-052","Sto-Superlit K 2,0 829  (размер зерна 2,00 мм)","DE","фасад","декоративная штукатурка","акрил","23","кг","Ведро",5,6,"кг/м²",{"$f":"VLOOKUP($A174,'Изменение прайс-листа'!$A$2:$E$798,4,FALSE)","v":808},969.59999999999991,4848,22300.799999999999,null,0,0,0,null,null,24,568.00800000000004,768]
["00152-055","Sto-Superlit K 2,0 832  (размер зерна 2,00 мм)","DE","фасад","декоративная штукатурка","акрил","23","кг","Ведро",5,6,"кг/м²",{"$f":"VLOOKUP($A175,'Изменение прайс-листа'!$A$2:$E$798,4,FALSE)","v":808},969.59999999999991,4848,22300.799999999999,null,0,0,0,null,null,24,568.00800000000004,768]
["00152-059","Sto-Superlit K 2,0 836  (размер зерна 2,00 мм)","DE","фасад","декоративная штукатурка","акрил","23","кг","Ведро",5,6,"кг/м²",{"$f":"VLOOKUP($A176,'Изменение прайс-листа'!$A$2:$E$798,4,FALSE)","v":808},969.59999999999991,4848,22300.799999999999,null,0,0,0,null,null,24,568.00800000000004,768]
["00152-084","Sto-Superlit K 2,0 842  (размер зерна 2,00 мм)","DE","фасад","декоративная штукатурка","акрил","23","кг","Ведро",5,6,"кг/м²",{"$f":"VLOOKUP($A177,'Изменение прайс-листа'!$A$2:$E$798,4,FALSE)","v":808},969.59999999999991,4848,22300.799999999999,null,0,0,0,null,null,24,568.00800000000004,768]
["00866-001","StoSuperlit Protect  transparent (прозрачный)","DE","фасад","лазурь","акрил",15,"кг","Ведро",0.16,0.4,"кг/м²",{"$f":"VLOOKUP($A178,'Изменение прайс-листа'!$A$2:$E$798,4,FALSE)","v":2224},{"$f":"M178*1.2","v":2668.7999999999997},{"$f":"$N178*$J178","v":427.00799999999998},{"$f":"$N178*$G178","v":40031.999999999993},null,{"$f":"Q178*P178","v":0},0,0,null,null,24,375.84000000000003,792,"прозрачное защитное, полуглянцевое покрытие, идеально подходит для старых мозаичных штукатурок типа StoSuperlit."]
["14524_002","Sto-Silkolit K (RU) 1,0 weiss (белая)","RU","фасад","декоративная штукатурка","силикон",25,"кг","Ведро",1.9,1.9,"кг/м²",{"$f":"VLOOKUP($A179,'Изменение прайс-листа'!$A$2:$E$798,4,FALSE)","v":258},{"$f":"M179*1.2","v":309.59999999999997},{"$f":"$N179*$J179","v":588.2399999999999},{"$f":"$N179*$G179","v":7739.9999999999991},null,{"$f":"Q179*P179","v":0},0,0,"●","●",24,616.20000000000005,720,"наружняя стандартная силиконовая штукатурка. Структура зернистая - типа \"шуба\". Выдерживает механические нагрузки,  хорошая самоочищаемость, высокая паропроницаемость и водоотталкивающая способность, хорошая погодоустойчивость, белая, колеруемая, готова к применению.                      "]
["14524_001","Sto-Silkolit K (RU) 1,0 getönt  (колерованная) C1","RU","фасад","декоративная штукатурка","силикон",25,"кг","Ведро",1.9,1.9,"кг/м²",{"$f":"M179+'7. Надбавки'!$C$5","v":304},364.8,693.12,9120,null,0,0,0,null,null,24,616.20000000000005,720]
["14006_031","Sto-Silkolit K (RU) 1,5 weiss (белая)","RU","фасад","декоративная штукатурка","силикон",25,"кг","Ведро",2.4,2.5,"кг/м²",{"$f":"VLOOKUP($A181,'Изменение прайс-листа'!$A$2:$E$798,4,FALSE)","v":258},309.59999999999997,743.03999999999985,7739.9999999999991,null,0,0,0,"●","●",24,616.20000000000005,720]
["14006_032","Sto-Silkolit K (RU) 1,5 getönt  (колерованная) C1","RU","фасад","декоративная штукатурка","силикон",25,"кг","Ведро",2.4,2.5,"кг/м²",{"$f":"M181+'7. Надбавки'!$C$5","v":304},364.8,875.52,9120,null,0,0,0,null,null,24,616.20000000000005,720]
["14007_037","Sto-Silkolit K (RU) 2,0 weiss (белая)","RU","фасад","декоративная штукатурка","силикон",25,"кг","Ведро",3.1,3.2,"кг/м²",{"$f":"VLOOKUP($A183,'Изменение прайс-листа'!$A$2:$E$798,4,FALSE)","v":258},309.59999999999997,959.75999999999988,7739.9999999999991,null,0,0,0,"●","●",24,616.20000000000005,720]
["14007_036","Sto-Silkolit K (RU) 2,0 getönt (колерованная) C1","RU","фасад","декоративная штукатурка","силикон",25,"кг","Ведро",3.1,3.2,"кг/м²",{"$f":"M183+'7. Надбавки'!$C$5","v":304},364.8,1130.8800000000001,9120,null,0,0,0,null,null,24,616.20000000000005,720]
["14009_002","Sto-Silkolit R (RU) 2,0 weiss (белая)","RU","фасад","декоративная штукатурка","силикон",25,"кг","Ведро",3,3.1,"кг/м²",{"$f":"VLOOKUP($A185,'Изменение прайс-листа'!$A$2:$E$798,4,FALSE)","v":258},309.59999999999997,928.8,7739.9999999999991,null,0,0,0,"●",null,24,616.20000000000005,720,"наружняя стандартная силиконовая штукатурка. Структура зернистая - типа \"короед\". Выдерживает механические нагрузки,  хорошая самоочищаемость, высокая паропроницаемость и водоотталкивающая способность, хорошая погодоустойчивость, белая, колеруемая, готова к применению. "]
["14009_001","Sto-Silkolit R (RU) 2,0 getönt (колерованная) C1","RU","фасад","декоративная штукатурка","силикон",25,"кг","Ведро",3,3.1,"кг/м²",{"$f":"M185+'7. Надбавки'!$C$5","v":304},364.8,1094.4000000000001,9120,null,0,0,0,null,null,24,616.20000000000005,720]
["01220-001","StoSilco K 1,0 fein weiss (мелкозернистая белая)","DE","фасад","декоративная штукатурка","силикон",25,"кг","Ведро",2,2.1,"кг/м²",{"$f":"VLOOKUP($A187,'Изменение прайс-листа'!$A$2:$E$798,4,FALSE)","v":612},734.4,1468.8,18360,null,0,0,0,null,null,24,616.20000000000005,696,"наружняя силиконовая улучшенная штукатурка. Структура зернистая - типа \"шуба\". Выдерживает механические нагрузки, хорошо самоочищающаяся, отличная устойчивость против воздействия микроорганизмов, высокая паропроницаемость и водоотталкивающая способность, хорошая погодоустойчивость, белая, колеруемая, высокая стабильность цветового фона, готова к применению."]
["01220-024","StoSilco K 1,0 fein getönt (мелкозернистая колерованная) C1","DE","фасад","декоративная штукатурка","силикон",25,"кг","Ведро",2,2.1,"кг/м²",{"$f":"M187+'7. Надбавки'!$C$5","v":658},789.6,1579.2,19740,null,0,0,0,null,null,24,616.20000000000005,696]
["01218-001","StoSilco K 1,5  weiss (белая)","DE","фасад","декоративная штукатурка","силикон",25,"кг","Ведро",2.2999999999999998,2.4,"кг/м²",{"$f":"VLOOKUP($A189,'Изменение прайс-листа'!$A$2:$E$798,4,FALSE)","v":612},734.4,1689.12,18360,null,0,0,0,null,null,24,616.20000000000005,696]
["01218-043","StoSilco K 1,5  getönt (колерованная) C1 ","DE","фасад","декоративная штукатурка","силикон",25,"кг","Ведро",2.2999999999999998,2.4,"кг/м²",{"$f":"M189+'7. Надбавки'!$C$5","v":658},789.6,1816.08,19740,null,0,0,0,null,null,24,616.20000000000005,696]
["00186-001","StoSilco K 2,0 weiss (белая)","DE","фасад","декоративная штукатурка","силикон",25,"кг","Ведро",3,3.1,"кг/м²",{"$f":"VLOOKUP($A191,'Изменение прайс-листа'!$A$2:$E$798,4,FALSE)","v":612},734.4,2203.1999999999998,18360,null,0,0,0,null,null,24,616.20000000000005,696]
["00186-026","StoSilco K 2,0 getönt (колерованная) C1 ","DE","фасад","декоративная штукатурка","силикон",25,"кг","Ведро",3,3.1,"кг/м²",{"$f":"M191+'7. Надбавки'!$C$5","v":658},789.6,2368.8000000000002,19740,null,0,0,0,null,null,24,616.20000000000005,696]
["00187-001","StoSilco K 3,0 weiss (белая)","DE","фасад","декоративная штукатурка","силикон",25,"кг","Ведро",4.3,4.4000000000000004,"кг/м²",{"$f":"VLOOKUP($A193,'Изменение прайс-листа'!$A$2:$E$798,4,FALSE)","v":612},734.4,3157.9199999999996,18360,null,0,0,0,null,null,24,616.20000000000005,696]
["00187-028","StoSilco K 3,0 getönt (колерованная) C1","DE","фасад","декоративная штукатурка","силикон",25,"кг","Ведро",4.3,4.4000000000000004,"кг/м²",{"$f":"M193+'7. Надбавки'!$C$5","v":658},789.6,3395.2799999999997,19740,null,0,0,0,null,null,24,616.20000000000005,696]
["01219-001","StoSilco R 1,5 weiss (белая)","DE","фасад","декоративная штукатурка","силикон",25,"кг","Ведро",2.2000000000000002,2.2999999999999998,"кг/м²",{"$f":"VLOOKUP($A195,'Изменение прайс-листа'!$A$2:$E$798,4,FALSE)","v":696},835.19999999999993,1837.44,20880,null,0,0,0,null,null,24,616.20000000000005,696,"наружняя силиконовая улучшенная штукатурка. Структура бороздчатая - типа \"короед\". Выдерживает механические нагрузки, хорошо самоочищающаяся, отличная устойчивость к воздействию микроорганизмов, высокая паропроницаемость и водоотталкивающая способность, хорошая погодоустойчивость, белая, колеруемая, высокая стабильность цветового фона, готова к применению."]
["01219-018","StoSilco R 1,5 getönt  (колерованная) C1","DE","фасад","декоративная штукатурка","силикон",25,"кг","Ведро",2.2000000000000002,2.2999999999999998,"кг/м²",{"$f":"M195+'7. Надбавки'!$C$5","v":742},890.4,1958.88,22260,null,0,0,0,null,null,24,616.20000000000005,696]
["00188-001","StoSilco R 2,0 weiss (белая)","DE","фасад","декоративная штукатурка","силикон",25,"кг","Ведро",2.7,2.8,"кг/м²",{"$f":"VLOOKUP($A197,'Изменение прайс-листа'!$A$2:$E$798,4,FALSE)","v":696},835.19999999999993,2255.04,20880,null,0,0,0,null,null,24,616.20000000000005,696]
["00188-023","StoSilco R 2,0 getönt  (колерованная) C1","DE","фасад","декоративная штукатурка","силикон",25,"кг","Ведро",2.7,2.8,"кг/м²",{"$f":"M197+'7. Надбавки'!$C$5","v":742},890.4,2404.08,22260,null,0,0,0,null,null,24,616.20000000000005,696]
["00189-001","StoSilco R 3,0 weiss (белая)","DE","фасад","декоративная штукатурка","силикон",25,"кг","Ведро",3.5,3.6,"кг/м²",{"$f":"VLOOKUP($A199,'Изменение прайс-листа'!$A$2:$E$798,4,FALSE)","v":696},835.19999999999993,2923.2,20880,null,0,0,0,null,null,24,616.20000000000005,696]
["00189-024","StoSilco R 3,0 getönt (колерованная) C1","DE","фасад","декоративная штукатурка","силикон",25,"кг","Ведро",3.5,3.6,"кг/м²",{"$f":"M199+'7. Надбавки'!$C$5","v":742},890.4,3116.4,22260,null,0,0,0,null,null,24,616.20000000000005,696]
["01214-001","StoSilco MP weiss (белая)","DE","фасад","декоративная штукатурка","силикон",25,"кг","Ведро",1.5,2.5,"кг/м²",{"$f":"VLOOKUP($A201,'Изменение прайс-листа'!$A$2:$E$798,4,FALSE)","v":696},835.19999999999993,1252.8,20880,null,0,0,0,null,null,24,616.20000000000005,696,"финишная штукатурка на основе силиконовых смол с моделируемой структурой "]
["01214-013","StoSilco MP getönt (колерованная) C1","DE","фасад","декоративная штукатурка","силикон",25,"кг","Ведро",1.5,2.5,"кг/м²",{"$f":"M201+'7. Надбавки'!$C$5","v":742},890.4,1335.6,22260,null,0,0,0,null,null,24,616.20000000000005,696]
["04096-001","StoLotusan  K 1,0  weiss (белая)","DE","фасад","декоративная штукатурка","силикон/Лотос",25,"кг","Ведро",1.9,2,"кг/м²",{"$f":"VLOOKUP($A203,'Изменение прайс-листа'!$A$2:$E$798,4,FALSE)","v":866},1039.2,1974.48,25980,null,0,0,0,null,null,24,616.20000000000005,696,"Уникальный продукт! Самоочищающаяся финишная штукатурка с \"эффектом лотоса\" и царапанной структурой (\"шуба\")"]
["04096-002","StoLotusan  K 1,0  getönt (колерованная) C1","DE","фасад","декоративная штукатурка","силикон/Лотос",25,"кг","Ведро",1.9,2,"кг/м²",{"$f":"M203+'7. Надбавки'!$C$5","v":912},1094.3999999999999,2079.3599999999997,27359.999999999996,null,0,0,0,null,null,24,616.20000000000005,696]
["04790-001","StoLotusan  K 1,5  weiss (белая)","DE","фасад","декоративная штукатурка","силикон/Лотос",25,"кг","Ведро",2.2999999999999998,2.5,"кг/м²",{"$f":"VLOOKUP($A205,'Изменение прайс-листа'!$A$2:$E$798,4,FALSE)","v":866},1039.2,2390.16,25980,null,0,0,0,null,null,24,616.20000000000005,696]
["04790-002","StoLotusan  K 1,5  getönt (колерованная) C1","DE","фасад","декоративная штукатурка","силикон/Лотос",25,"кг","Ведро",2.2999999999999998,2.5,"кг/м²",{"$f":"M205+'7. Надбавки'!$C$5","v":912},1094.3999999999999,2517.1199999999994,27359.999999999996,null,0,0,0,null,null,24,616.20000000000005,696]
["04430-005","StoLotusan  K 2,0 weiss (белая)","DE","фасад","декоративная штукатурка","силикон/Лотос",25,"кг","Ведро",3.2,3.3,"кг/м²",{"$f":"VLOOKUP($A207,'Изменение прайс-листа'!$A$2:$E$798,4,FALSE)","v":866},{"$f":"M207*1.2","v":1039.2},{"$f":"$N207*$J207","v":3325.4400000000005},{"$f":"$N207*$G207","v":25980},null,0,0,0,null,null,24,616.20000000000005,696]
["04430-006","StoLotusan  K 2,0 getönt (колерованная) C1","DE","фасад","декоративная штукатурка","силикон/Лотос",25,"кг","Ведро",3.2,3.3,"кг/м²",{"$f":"M207+'7. Надбавки'!$C$5","v":912},1094.3999999999999,3502.08,27359.999999999996,null,0,0,0,null,null,24,616.20000000000005,696]
["04432-001","StoLotusan  K 3,0 weiss (белая)","DE","фасад","декоративная штукатурка","силикон/Лотос",25,"кг","Ведро",4.3,4.4000000000000004,"кг/м²",{"$f":"VLOOKUP($A209,'Изменение прайс-листа'!$A$2:$E$798,4,FALSE)","v":866},1039.2,4468.5600000000004,25980,null,{"$f":"Q209*P209","v":0},0,0,null,null,24,616.20000000000005,696]
["04432-002","StoLotusan  K 3,0 getönt (колерованная) C1","DE","фасад","декоративная штукатурка","силикон/Лотос",25,"кг","Ведро",4.3,4.4000000000000004,"кг/м²",{"$f":"M209+'7. Надбавки'!$C$5","v":912},1094.3999999999999,4705.9199999999992,27359.999999999996,null,0,{"$f":"ROUNDUP(X210/W210*Q210,0)","v":0},{"$f":"Q210/W210","v":0},null,null,24,616.20000000000005,696]
["04792-001","StoLotusan MP weiss (белая)","DE","фасад","декоративная штукатурка","силикон/Лотос",25,"кг","Ведро",1.2,4,"кг/м²",{"$f":"VLOOKUP($A211,'Изменение прайс-листа'!$A$2:$E$798,4,FALSE)","v":866},1039.2,1247.04,25980,null,0,0,0,null,null,24,616.20000000000005,696,"Уникальный продукт! самоочищающаяся финишная штукатурка с \"эффектом лотоса\" и моделируемой структурой "]
["04792-002","StoLotusan MP getönt (колерованная) C1","DE","фасад","декоративная штукатурка","силикон/Лотос",25,"кг","Ведро",1.2,4,"кг/м²",{"$f":"M211+'7. Надбавки'!$C$5","v":912},1094.3999999999999,1313.2799999999997,27359.999999999996,null,0,0,0,null,null,24,616.20000000000005,696]
["02119-001","StoSil  K 1,0  weiss (белая)","DE","фасад","декоративная штукатурка","силикат",25,"кг","Ведро",2.2000000000000002,2.2999999999999998,"кг/м²",{"$f":"VLOOKUP($A213,'Изменение прайс-листа'!$A$2:$E$798,4,FALSE)","v":578},693.6,1525.92,17340,null,0,0,0,null,null,24,616.20000000000005,696,"финишная штукартурка на основе силикатных смол с царапанной структурой (\"шуба\") для минеральных оснований"]
["02119-002","StoSil  K 1,0  getönt (колерованная) C1","DE","фасад","декоративная штукатурка","силикат",25,"кг","Ведро",2.2000000000000002,2.2999999999999998,"кг/м²",{"$f":"M213+'7. Надбавки'!$C$5","v":624},748.8,1647.3600000000001,18720,null,0,0,0,null,null,24,616.20000000000005,696]
["00103-001","StoSil  K 1,5  weiss (белая)","DE","фасад","декоративная штукатурка","силикат",25,"кг","Ведро",2.4,2.5,"кг/м²",{"$f":"VLOOKUP($A215,'Изменение прайс-листа'!$A$2:$E$798,4,FALSE)","v":578},693.6,1664.64,17340,null,0,0,0,null,null,24,616.20000000000005,696]
["00103-039","StoSil  K 1,5  getönt (колерованная) C1","DE","фасад","декоративная штукатурка","силикат",25,"кг","Ведро",2.4,2.5,"кг/м²",{"$f":"M215+'7. Надбавки'!$C$5","v":624},748.8,1797.12,18720,null,0,0,0,null,null,24,616.20000000000005,696]
["00104-001","StoSil  K 2,0 weiss (белая)","DE","фасад","декоративная штукатурка","силикат",25,"кг","Ведро",3,3.1,"кг/м²",{"$f":"VLOOKUP($A217,'Изменение прайс-листа'!$A$2:$E$798,4,FALSE)","v":578},693.6,2080.8000000000002,17340,null,0,0,0,null,null,24,616.20000000000005,696]
["00104-039","StoSil  K 2,0 getönt (колерованная) C1","DE","фасад","декоративная штукатурка","силикат",25,"кг","Ведро",3,3.1,"кг/м²",{"$f":"M217+'7. Надбавки'!$C$5","v":624},748.8,2246.3999999999996,18720,null,0,0,0,null,null,24,616.20000000000005,696]
["00105-001","StoSil  K 3,0 weiss (белая)","DE","фасад","декоративная штукатурка","силикат",25,"кг","Ведро",4.3,4.4000000000000004,"кг/м²",{"$f":"VLOOKUP($A219,'Изменение прайс-листа'!$A$2:$E$798,4,FALSE)","v":578},693.6,2982.48,17340,null,0,0,0,null,null,24,616.20000000000005,696]
["00105-038","StoSil  K 3,0 getönt (колерованная) C1","DE","фасад","декоративная штукатурка","силикат",25,"кг","Ведро",4.3,4.4000000000000004,"кг/м²",{"$f":"M219+'7. Надбавки'!$C$5","v":624},748.8,3219.8399999999997,18720,null,0,0,0,null,null,24,616.20000000000005,696]
["00107-001","StoSil  R 1.5 weiss (белая)","DE","фасад","декоративная штукатурка","силикат",25,"кг","Ведро",2.4,2.5,"кг/м²",{"$f":"VLOOKUP($A221,'Изменение прайс-листа'!$A$2:$E$798,4,FALSE)","v":622},746.4,1791.36,18660,null,0,0,0,null,null,24,616.20000000000005,696,"финишная штукартурка на основе силикатных смол с бороздчатой структурой (\"короед\") для минеральных оснований"]
["00107-036","StoSil  R 1.5 getönt (колерованная) C1","DE","фасад","декоративная штукатурка","силикат",25,"кг","Ведро",2.4,2.5,"кг/м²",{"$f":"M221+'7. Надбавки'!$C$5","v":668},801.6,1923.84,20040,null,0,0,0,null,null,24,616.20000000000005,696]
["00108-001","StoSil  R 2,0 weiss (белая)","DE","фасад","декоративная штукатурка","силикат",25,"кг","Ведро",3,3.1,"кг/м²",{"$f":"VLOOKUP($A223,'Изменение прайс-листа'!$A$2:$E$798,4,FALSE)","v":622},746.4,2239.1999999999998,18660,null,0,0,0,null,null,24,616.20000000000005,696]
["00108-038","StoSil  R 2,0 getönt (колерованная) C1","DE","фасад","декоративная штукатурка","силикат",25,"кг","Ведро",3,3.1,"кг/м²",{"$f":"M223+'7. Надбавки'!$C$5","v":668},801.6,2404.8000000000002,20040,null,0,0,0,null,null,24,616.20000000000005,696]
["00109-001","StoSil  R 3,0 weiss (белая)","DE","фасад","декоративная штукатурка","силикат",25,"кг","Ведро",3.9,4,"кг/м²",{"$f":"VLOOKUP($A225,'Изменение прайс-листа'!$A$2:$E$798,4,FALSE)","v":622},746.4,2910.96,18660,null,0,0,0,null,null,24,616.20000000000005,696]
["00109-039","StoSil  R 3,0 getönt (колерованная) C1","DE","фасад","декоративная штукатурка","силикат",25,"кг","Ведро",3.9,4,"кг/м²",{"$f":"M225+'7. Надбавки'!$C$5","v":668},801.6,3126.2400000000002,20040,null,0,0,0,null,null,24,616.20000000000005,696]
["00110-001","StoSil MP weiss (белая)","DE","фасад","декоративная штукатурка","силикат",25,"кг","Ведро",1.5,2.5,"кг/м²",{"$f":"VLOOKUP($A227,'Изменение прайс-листа'!$A$2:$E$798,4,FALSE)","v":622},746.4,1119.5999999999999,18660,null,0,0,0,null,null,24,616.20000000000005,696,"финишная штукатурка на основе силикатных смол с моделируемой структурой для минеральных оснований"]
["00110-034","StoSil MP getönt (колерованная) C1","DE","фасад","декоративная штукатурка","силикат",25,"кг","Ведро",1.5,2.5,"кг/м²",{"$f":"M227+'7. Надбавки'!$C$5","v":668},801.6,1202.4000000000001,20040,null,0,0,0,null,null,24,616.20000000000005,696]
["14217-002","Siliciumcarbid F 54","DE","универсальный","эффектная добавка","Н/Д","25","кг","мешок",0.1,0.5,"кг/м²",{"$f":"VLOOKUP($A229,'Изменение прайс-листа'!$A$2:$E$798,4,FALSE)","v":1024},{"$f":"M229*1.2","v":1228.8},{"$f":"$N229*$J229","v":122.88},{"$f":"$N229*$G229","v":30720},null,{"$f":"Q229*P229","v":0},0,0,null,null,40,1080,680,"карбид силиция, для создания декоративных поверхностей с эффектом мерцания (подходит для фасадов c материалом Stolit-Effect и для интерьеров)"]
["14218-002","Siliciumcarbid F 20","DE","универсальный","эффектная добавка","Н/Д","25","кг","мешок",0.1,0.5,"кг/м²",{"$f":"VLOOKUP($A230,'Изменение прайс-листа'!$A$2:$E$798,4,FALSE)","v":1024},1228.8,122.88,30720,null,0,0,0,null,null,40,1080,680]
["14219-002","Siliciumcarbid F 14","DE","универсальный","эффектная добавка","Н/Д","25","кг","мешок",0.1,0.5,"кг/м²",{"$f":"VLOOKUP($A231,'Изменение прайс-листа'!$A$2:$E$798,4,FALSE)","v":1024},1228.8,122.88,30720,null,0,0,0,null,null,40,1080,680]
["03299-005","StoEffect Vetro","DE","универсальный","эффектная добавка","Н/Д","20","кг","Ведро",0.1,0.3,"кг/м²",{"$f":"VLOOKUP($A232,'Изменение прайс-листа'!$A$2:$E$798,4,FALSE)","v":2262},2714.4,271.44,54288,null,0,0,0,null,null,24,495.84000000000003,792,"эффектная прозрачная обсыпка для придания мерцающего эффекта как на фасаде, так и в интерьере. Используется совместно с штукатурками или красками Sto. "]
["04399-002","StoEffect Terrazzo natur (натурального цвета)","DE","универсальный","эффектная добавка","Н/Д","25","кг","Ведро",0.2,0.35,"кг/м²",{"$f":"VLOOKUP($A233,'Изменение прайс-листа'!$A$2:$E$798,4,FALSE)","v":418},501.59999999999997,100.32,12540,null,0,0,0,null,null,24,616.20000000000005,6965,"смесь из нескольких видов натурального песка для создания декоративных  покрытий, например, в сочетании со Stolit Effect. Подходит для фасадов и интерьеров."]
["14026_129","StoColor Neosil B (OR) weiss (белая)","RU","фасад","краска","акрил","15","л","Ведро",0.16,0.25,"л/м² ",{"$f":"VLOOKUP($A234,'Изменение прайс-листа'!$A$2:$E$798,4,FALSE)","v":594},712.8,114.048,10692,null,0,0,0,"●","●",24,574.79999999999995,744,"фасадная матовая  краска на основе полимерных смол с высокой паропроницаемостью. "]
["14026_229","StoColor Neosil B (OR) getönt (колерованная) C1","RU","фасад","краска","акрил","15","л","Ведро",0.16,0.25,"л/м² ",{"$f":"M234+'7. Надбавки'!$C$6","v":668},801.6,128.256,12024,null,0,0,0,null,null,24,574.79999999999995,744]
["14026_130","StoColor Neosil B (OR) G ","RU","фасад","краска","акрил","15","л","Ведро",0.16,0.25,"л/м²",{"$f":"VLOOKUP($A236,'Изменение прайс-листа'!$A$2:$E$798,4,FALSE)","v":610},732,117.12,10980,null,{"$f":"Q236*P236","v":0},0,0,null,null,24,574.79999999999995,744,"фасадная матовая  краска на основе полимерных смол с высокой паропроницаемостью с биоцидными добавками."]
["14026_230","StoColor Neosil B (OR) G (колерованная) С1","RU","фасад","краска","акрил","15","л","Ведро",0.16,0.25,"л/м²",{"$f":"M236+'7. Надбавки'!$C$6","v":684},820.8,131.328,12312,null,0,0,0,null,null,24,574.79999999999995,744]
[null,"StoColor Neosil SG (OR) weiss (белая)","RU","фасад","краска","силикон","15","л","Ведро",0.16,0.25,"л/м² ",{"$f":"'Изменение прайс-листа'!D65","v":776},{"$f":"M238*1.2","v":931.19999999999993},148.99199999999999,13967.999999999998,null,0,{"$f":"ROUNDUP(X238/W238*Q238,0)","v":0},{"$f":"Q238/W238","v":0},"●","●",24,574.79999999999995,744,"фасадная матовая краска на основе полимерных смол с высокой паропроницаемостью. С содержанием силикона и антигрибковой добавкой"]
[null,"StoColor Neosil SG (OR) getönt (колерованная) C1","RU","фасад","краска","силикон","15","л","Ведро",0.16,0.25,"л/м² ",{"$f":"M238+'7. Надбавки'!$C$6","v":850},1020,163.20000000000002,15300,null,0,0,0,null,null,24,574.79999999999995,744]
["00270-001","StoColor Top weiss (белая)","DE","универсальный","краска","акрил",15,"л","Ведро",0.18,0.2,"л/м² ",{"$f":"VLOOKUP($A240,'Изменение прайс-листа'!$A$2:$E$798,4,FALSE)","v":1648},1977.6,355.96799999999996,29664,null,{"$f":"Q240*P240","v":0},0,0,"●","●",24,510.84000000000003,792,"матовая дисперсионная краска на чисто акрилатной основе с антикоррозионными добавками, применяется на различных типах оснований, включая древесину и металл."]
["00270-015","StoColor Top getönt (колерованная) C1","DE","универсальный","краска","акрил",15,"л","Ведро",0.18,0.2,"л/м² ",{"$f":"M240+'7. Надбавки'!$C$6","v":1722},2066.4,371.952,30996,null,0,0,0,null,null,24,510.84000000000003,792]
["09548-002","StoColor Dryonic weiss (белая)","DE","фасад","краска","акрил","15","л","Ведро",0.12,0.15,"л/м² ",{"$f":"VLOOKUP($A242,'Изменение прайс-листа'!$A$2:$E$798,4,FALSE)","v":1950},2340,280.8,35100,null,0,0,0,"●","●",24,478.43999999999994,792,"Уникальный новый продукт! Краска с \"эффектом сухого фасада\" - \"Сухая поверхность, несмотря ни на что\". Отлично колеруется во многие цвета. Низкий расход. Подходит для поверхностей почти любого типа."]
["09548-001","StoColor Dryonic getönt (колер.) C1 ","DE","фасад","краска","акрил","15","л","Ведро",0.12,0.15,"л/м² ",{"$f":"M242+'7. Надбавки'!$C$6","v":2024},2428.7999999999997,291.45599999999996,36431.999999999993,null,0,0,0,null,null,24,478.43999999999994,792]
["09548-006","StoColor Dryonic G (белая)","DE","фасад","краска","акрил","15","л","Ведро",0.12,0.15,"л/м² ",{"$f":"VLOOKUP($A244,'Изменение прайс-листа'!$A$2:$E$798,4,FALSE)","v":2216},{"$f":"M244*1.2","v":2659.2},319.10399999999998,39888,null,{"$f":"Q244*P244","v":0},0,0,null,null,24,478.43999999999994,792,"Уникальный новый продукт! Краска с \"эффектом сухого фасада\" - \"Сухая поверхность, несмотря ни на что\". Отлично колеруется во многие цвета. Низкий расход. Подходит для поверхностей почти любого типа. Усилена антигрибковой добавкой G"]
["09548-005","StoColor Dryonic G getönt (колер.) С1","DE","фасад","краска","акрил","15","л","Ведро",0.12,0.15,"л/м² ",{"$f":"M244+'7. Надбавки'!$C$6","v":2290},{"$f":"M245*1.2","v":2748},329.76,41220,null,{"$f":"Q245*P245","v":0},0,0,null,null,24,478.43999999999994,792]
["09548-016","StoColor Dryonic S  weiss (белая)","DE","фасад","краска","акрил","15","л","Ведро",0.12,0.15,"л/м² ",{"$f":"VLOOKUP($A246,'Изменение прайс-листа'!$A$2:$E$798,4,FALSE)","v":2730},3276,393.12,49140,null,0,0,0,null,null,24,478.43999999999994,792,"Уникальный новый продукт! Краска с \"эффектом сухого фасада\" - \"Сухая поверхность, несмотря ни на что\". Изготовлена по технологии \"Сан Блок\"- гарантия от выгорания до 5-ти лет, даже для насыщенных тонов. Отлично колеруется во многие цвета. Низкий расход. Подходит для поверхностей почти любого типа. Колеровка некоторых цветов на головном предприятии (в Германии)"]
["09548-015","StoColor Dryonic S getönt (колер.) C1 ","DE","фасад","краска","акрил","15","л","Ведро",0.12,0.15,"л/м² ",{"$f":"M246+'7. Надбавки'!$C$6","v":2804},3364.7999999999997,403.77599999999995,50471.999999999993,null,0,0,0,null,null,24,478.43999999999994,792]
["09548-024","StoColor Dryonic Wood weiss (белая)","DE","древесина","краска","акрил",10,"л","Ведро",0.12,0.15,"л/м² ",{"$f":"VLOOKUP($A248,'Изменение прайс-листа'!$A$2:$E$798,4,FALSE)","v":2374},2848.7999999999997,341.85599999999994,28487.999999999996,null,0,0,0,null,null,27,358.83,891,"Уникальный новый продукт! Краска для дерева с \"эффектом сухого фасада\" - \"Сухая поверхность, несмотря ни на что\". Отлично колеруется во многие цвета. Низкий расход. Подходит для покраски деревянных поверхностей."]
["09548-023","StoColor Dryonic Wood getönt (колер.) C1 ","DE","древесина","краска","акрил","10","л","Ведро",0.12,0.15,"л/м² ",{"$f":"M248+'7. Надбавки'!$C$6","v":2448},2937.6,352.512,29376,null,0,0,0,null,null,27,358.83,891]
["09548-035","StoColor Dryonic Wood weiss (белая)","DE","древесина","краска","акрил","2,5","л","Ведро",0.12,0.15,"л/м² ",{"$f":"VLOOKUP($A250,'Изменение прайс-листа'!$A$2:$E$798,4,FALSE)","v":3040},3648,437.76,9120,null,0,0,0,null,null,72,239.256,2376]
["09548-033","StoColor Dryonic Wood getönt (колер.) C1 ","DE","древесина","краска","акрил","2,5","л","Ведро",0.12,0.15,"л/м² ",{"$f":"M250+'7. Надбавки'!$C$6","v":3114},3736.7999999999997,448.41599999999994,9342,null,0,0,0,null,null,72,239.256,2376]
["02939-001","StoColor Photosan weiss (белая)","DE","фасад","краска","акрил","15","л","Ведро",0.15,0.18,"л/м² ",{"$f":"VLOOKUP($A252,'Изменение прайс-листа'!$A$2:$E$798,4,FALSE)","v":2958},{"$f":"M252*1.2","v":3549.6},{"$f":"$N252*$J252","v":532.43999999999994},{"$f":"$N252*$G252","v":53244},null,{"$f":"Q252*P252","v":0},0,0,null,null,24,550.79999999999995,792,"Уникальный продукт! активная фасадная краска с с функцией очищения воздуха. Рекомендована для покраски первой линии домов в мегаполисах. Высокая укрывистость и водоотталкивающая способность. Сохраняет структуру основания."]
["02939-002","StoColor Photosan getönt (колерованная) C1","DE","фасад","краска","акрил","15","л","Ведро",0.15,0.18,"л/м² ",{"$f":"M252+'7. Надбавки'!$C$6","v":3032},3638.4,545.76,54576,null,0,0,0,null,null,24,550.79999999999995,792]
["08780-003","StoColor X-blaсk  (колерованная) C1","DE","фасад","краска","акрил","15","л","Ведро",0.15,0.18,"л/м² ",{"$f":"VLOOKUP($A254,'Изменение прайс-листа'!$A$2:$E$798,4,FALSE)","v":2962},3554.4,533.16,53316,null,0,0,0,null,null,24,537.84,792,"Уникальный продукт! специальная краска для насыщенных цветов, предотвращает чрезмерный нагрев фасада. Специально разработана для систем теплоизоляции. Поставляется под заказ и только колерованная."]
["08780-004","StoColor X-blaсk  (колерованная) C1","DE","фасад","краска","акрил","5","л","Ведро",0.15,0.18,"л/м² ",{"$f":"VLOOKUP($A255,'Изменение прайс-листа'!$A$2:$E$798,4,FALSE)","v":3214},3856.7999999999997,578.52,19284,null,0,0,0,null,null,60,450.3,1980]
["00230-003","StoColor S grob weiss (крупный наполнитель, белая)","DE","универсальный","структурная краска","акрил",25,"кг","Ведро",0.35,0.4,"кг/м² ",{"$f":"VLOOKUP($A256,'Изменение прайс-листа'!$A$2:$E$798,4,FALSE)","v":646},775.19999999999993,271.31999999999994,19380,null,0,0,0,"●",null,24,616.20000000000005,696,"Уникальный продукт! Матовая наполненная дисперсионная краска с тонкой или грубой структурой. Позволяет создавать различные структуры, обладает прекрасными заполняющими свойствами."]
["00230-001","StoColor S grob getönt (крупный наполнитель, колерованная)","DE","универсальный","структурная краска","акрил",25,"кг","Ведро",0.35,0.4,"кг/м² ",{"$f":"M256+'7. Надбавки'!$C$5","v":692},830.4,290.64,20760,null,0,0,0,null,null,24,616.20000000000005,696]
["00231-001","StoColor S fein weiss (мелкий наполнитель, белая)","DE","универсальный","структурная краска","акрил",25,"кг","Ведро",0.25,0.3,"кг/м² ",{"$f":"VLOOKUP($A258,'Изменение прайс-листа'!$A$2:$E$798,4,FALSE)","v":602},722.4,180.6,18060,null,0,0,0,"●","●",24,616.20000000000005,696]
["00231-004","StoColor S fein getönt (мелкий наполнитель, колерованная)","DE","универсальный","структурная краска","акрил",25,"кг","Ведро",0.25,0.3,"кг/м² ",{"$f":"M258+'7. Надбавки'!$C$5","v":648},777.6,194.4,19440,null,0,0,0,null,null,24,616.20000000000005,696]
["00278-001","StoColor Jumbosil weiss (белая)","DE","фасад","краска","силикон",15,"л","Ведро",0.2,0.25,"л/м² ",{"$f":"VLOOKUP($A260,'Изменение прайс-листа'!$A$2:$E$798,4,FALSE)","v":1050},1260,252,18900,null,0,0,0,"●","●",24,572.04,744,"Уникальный продукт! Надежная силиконовая матовая фасадная краска. Отлично колеруется во многие цвета, укрывистая. При правильном нанесении надежно защищает фасад на многие года. "]
["00278-006","StoColor Jumbosil getönt (колерованная) C1","DE","фасад","краска","силикон",15,"л","Ведро",0.2,0.25,"л/м² ",{"$f":"M260+'7. Надбавки'!$C$6","v":1124},1348.8,269.76,20232,null,0,0,0,null,null,24,572.04,744]
["00217-082","StoColor Silco weiss (белая)","DE","фасад","краска","силикон","15","л","Ведро",0.18,0.2,"л/м² ",{"$f":"VLOOKUP($A262,'Изменение прайс-листа'!$A$2:$E$798,4,FALSE)","v":1236},1483.2,266.976,22248,null,0,0,0,null,null,24,561.16800000000001,768,"Уникальная, чисто силиконовая матовая фасадная краска (кол-во силиконового связующего около 50%). Колеруется во многие цвета, укрывистая. При правильном нанесении надежно защищает фасад на многие года. "]
["00217-079","StoColor Silco getönt (колерованная) С1","DE","фасад","краска","силикон","15","л","Ведро",0.18,0.2,"л/м² ",{"$f":"M262+'7. Надбавки'!$C$6","v":1310},1572,282.95999999999998,23580,null,0,0,0,null,null,24,561.16800000000001,768]
["00269-061","StoColor Silco G weiss (белая)","DE","фасад","краска","силикон","15","л","Ведро",0.18,0.2,"л/м² ",{"$f":"VLOOKUP($A264,'Изменение прайс-листа'!$A$2:$E$798,4,FALSE)","v":1412},1694.3999999999999,304.99199999999996,25415.999999999996,null,{"$f":"Q264*P264","v":0},0,0,null,null,24,561.16800000000001,768,"Уникальная, чисто силиконовая матовая фасадная краска (кол-во силиконового связующего около 50%). Колеруется во многие цвета, укрывистая. При правильном нанесении надежно защищает фасад на многие года. Усилена антигрибковой добавкой G"]
["00269-060","StoColor Silco G getönt","DE","фасад","краска","силикон","15","л","Ведро",0.18,0.2,"л/м² ",{"$f":"M264+'7. Надбавки'!$C$6","v":1486},1783.2,320.976,26748,null,0,0,0,null,null,24,561.16800000000001,768]
["00239-002","StoColor Silco Fill weiss (белая)","DE","фасад","структурная краска","силикон",25,"кг","Ведро",0.35,0.4,"кг/м²",{"$f":"VLOOKUP($A266,'Изменение прайс-листа'!$A$2:$E$798,4,FALSE)","v":860},1032,361.2,25800,null,{"$f":"Q266*P266","v":0},0,0,null,null,24,369.71999999999997,792,"наполненная краска на силиконовой основе, применяется на неэластичных органических и минеральных основаниях, заполняет неровности, имеет структуру \"апельсиновой корки\"   "]
["00239-013","StoColor Silco Fill getönt (колерованная) C1","DE","фасад","структурная краска","силикон",25,"кг","Ведро",0.35,0.4,"кг/м²",{"$f":"M266+'7. Надбавки'!$C$6","v":934},1120.8,392.28,28020,null,{"$f":"Q267*P267","v":0},0,0,null,null,24,369.71999999999997,792]
["03206-064","StoColor Lotusan weiss (белая)","DE","фасад","краска","силикон/Лотос",12.5,"л","Ведро",0.17,0.2,"л/м² ",{"$f":"VLOOKUP($A268,'Изменение прайс-листа'!$A$2:$E$798,4,FALSE)","v":1502},1802.3999999999999,306.40800000000002,22530,null,0,0,0,"●","●",32,628,928,"Уникальный продукт! Единственная в мире самоочищающаяся силиконовая краска с \"эффектом лотоса\". Очень низкий расход. Подходит для поверхностей многих типов"]
["03206-063","StoColor Lotusan getönt (колер.) C1 ","DE","фасад","краска","силикон/Лотос",12.5,"л","Ведро",0.17,0.2,"л/м² ",{"$f":"M268+'7. Надбавки'!$C$6","v":1576},1891.1999999999998,321.50400000000002,23639.999999999996,null,0,0,0,null,null,32,628,928]
["09624-004","StoColor Lotusan AIMS weiss (белая)","DE","фасад","краска","силикон/Лотос",15,"л","Ведро",0.17,0.2,"л/м² ",{"$f":"VLOOKUP($A270,'Изменение прайс-листа'!$A$2:$E$798,4,FALSE)","v":1762},{"$f":"M270*1.2","v":2114.4},359.44800000000004,31716,null,{"$f":"Q270*P270","v":0},{"$f":"ROUNDUP(X270/W270*Q270,0)","v":0},{"$f":"Q270/W270","v":0},null,null,32,628,928,"Уникальный продукт! Единственная в мире самоочищающаяся силиконовая краска с \"эффектом лотоса\". 95% натурального сырья. Аромат сосны."]
["09624-003","StoColor Lotusan AIMS getönt (колер.) C1 ","DE","фасад","краска","силикон/Лотос",15,"л","Ведро",0.17,0.2,"л/м² ",{"$f":"M270+'7. Надбавки'!$C$6","v":1836},2203.1999999999998,374.54399999999998,33048,null,0,0,0,null,null,32,628,928]
["00207-014","StoColor Sil weiss (белая)","DE","фасад","краска","силикат",15,"л","Ведро",0.15,0.2,"л/м² ",{"$f":"VLOOKUP($A272,'Изменение прайс-листа'!$A$2:$E$798,4,FALSE)","v":1208},1449.6,217.43999999999997,21744,null,0,0,0,null,null,24,586.43999999999994,744,"дисперсионно-силикатная краска для минеральных поверхностей. Низкий расход."]
["00207-050","StoColor Sil getönt (колерованная) C1","DE","фасад","краска","силикат",15,"л","Ведро",0.15,0.2,"л/м² ",{"$f":"M272+'7. Надбавки'!$C$6","v":1282},1538.3999999999999,230.75999999999996,23075.999999999996,null,0,0,0,null,null,24,586.43999999999994,744]
["00248-001","StoColor Sil Lasura","DE","фасад","лазурь","силикат",10,"л","Канистра",0.13,0.15,"л/м² ",{"$f":"VLOOKUP($A274,'Изменение прайс-листа'!$A$2:$E$798,4,FALSE)","v":996},{"$f":"M274*1.2","v":1195.2},{"$f":"$N274*$J274","v":155.376},{"$f":"$N274*$G274","v":11952},null,{"$f":"Q274*P274","v":0},0,0,"●",null,60,635.4,1680,"дисперсионно - силикатная лазурь для нанесения лессирующего финишного покрытия."]
["09549-002","StoColor Solical (белая)","DE","фасад","краска","соль-силикат",15,"л","Ведро",0.15,0.2,"л/м² ",{"$f":"VLOOKUP($A275,'Изменение прайс-листа'!$A$2:$E$798,4,FALSE)","v":1506},1807.2,271.08,27108,null,0,0,0,null,null,24,586.43999999999994,744,"Уникальная краска на основе сольсиликата! Отлично противостоит атмосферным осадкам, очень высокая паропроницаемость, 100% адгезия к минеральным основаниям"]
["09549-001","StoColor Solical (колерованная) C1","DE","фасад","краска","соль-силикат",15,"л","Ведро",0.15,0.2,"л/м² ",{"$f":"M275+'7. Надбавки'!$C$6","v":1580},1896,284.39999999999998,28440,null,0,0,0,null,null,24,586.43999999999994,744]
["09549-006","StoColor Solical G (белая)","DE","фасад","краска","соль-силикат",15,"л","Ведро",0.15,0.2,"л/м² ",{"$f":"VLOOKUP($A277,'Изменение прайс-листа'!$A$2:$E$798,4,FALSE)","v":1730},{"$f":"M277*1.2","v":2076},311.39999999999998,31140,null,{"$f":"Q277*P277","v":0},0,0,null,null,24,586.43999999999994,744,"Уникальная краска на основе сольсиликата! Отлично противостоит атмосферным осадкам, очень высокая паропроницаемость, 100% адгезия к минеральным основаниям. Усилена антигрибковой добавкой G"]
["09549-005","StoColor Solical G (колерованная) С1","DE","фасад","краска","соль-силикат",15,"л","Ведро",0.15,0.2,"л/м² ",{"$f":"M277+'7. Надбавки'!$C$6","v":1804},{"$f":"M278*1.2","v":2164.7999999999997},324.71999999999997,32471.999999999996,null,{"$f":"Q278*P278","v":0},{"$f":"ROUNDUP(X278/W278*Q278,0)","v":0},{"$f":"Q278/W278","v":0},null,null,24,586.43999999999994,744]
["00058-002","StoColor Solical Fill (белая)","DE","фасад","структурная краска","соль-силикат",25,"л","Ведро",0.3,0.35,"л/м² ",{"$f":"VLOOKUP($A279,'Изменение прайс-листа'!$A$2:$E$798,4,FALSE)","v":958},1149.5999999999999,344.87999999999994,28739.999999999996,null,0,0,0,null,null,24,616.31999999999994,744,"Уникальная структурная краска на основе сольсиликата! Отлично противостоит атмосферным осадкам, очень высокая паропроницаемость, 100% адгезия к минеральным основаниям"]
["00058-001","StoColor Solical Fill (колерованная) C1","DE","фасад","структурная краска","соль-силикат",25,"л","Ведро",0.3,0.35,"л/м² ",{"$f":"M279+'7. Надбавки'!$C$6","v":1032},1238.3999999999999,371.51999999999992,30959.999999999996,null,0,0,0,null,null,24,616.31999999999994,744]
["00256-002","StoColor Sumpfkalk natur (натурального цвета)","DE","фасад","краска","известь",30,"кг","Ведро",0.2,0.25,"кг/м²",{"$f":"VLOOKUP($A281,'Изменение прайс-листа'!$A$2:$E$798,4,FALSE)","v":718},{"$f":"M281*1.2","v":861.6},{"$f":"$N281*$J281","v":172.32000000000002},{"$f":"$N281*$G281","v":25848},null,{"$f":"Q281*P281","v":0},0,0,null,null,24,748.8,576,"натуральная известковая краска для минеральных поверхностей, имеет вид обожженного известкового болотного мрамора"]
["00488-004","StoColor Lastic weiss (белая)","DE","фасад","санирующая краска","акрил","15","л","Ведро",0.35,0.45,"л/м² ",{"$f":"VLOOKUP($A282,'Изменение прайс-листа'!$A$2:$E$798,4,FALSE)","v":1666},1999.1999999999998,699.71999999999991,29987.999999999996,null,0,0,0,"●","●",24,498.24,792,"шелковисто-матовая дисперсионная краска для высокоэластичных покрытий, сохраняет  эластичность при низких температурах. Рекомендована в системе санации Sto-Rissanierungssystem"]
["00488-010","StoColor Lastic getönt (колерованная) C1","DE","фасад","санирующая краска","акрил",15,"л","Ведро",0.35,0.45,"л/м² ",{"$f":"M282+'7. Надбавки'!$C$6","v":1740},2088,730.8,31320,null,0,0,0,null,null,24,498.24,792]
["00274-001","StoColor Fibrasil weiss (белая)","DE","фасад","санирующая краска","акрил",15,"л","Ведро",0.2,0.3,"л/м² ",{"$f":"VLOOKUP($A284,'Изменение прайс-листа'!$A$2:$E$798,4,FALSE)","v":1686},2023.1999999999998,404.64,30347.999999999996,null,0,0,0,null,null,24,498.24,792,"матовая эластичная дисперсионная краска, усиленная полисилоксаном, особо подходит для перекрытия мелких трещин, создает небольшую структуру. "]
["00274-007","StoColor Fibrasil getönt (колерованная) C1","DE","фасад","санирующая краска","акрил",15,"л","Ведро",0.2,0.3,"л/м² ",{"$f":"M284+'7. Надбавки'!$C$6","v":1760},2112,422.40000000000003,31680,null,0,0,0,null,null,24,498.24,792]
["01358-001","StoColor Silco Elast weiss (белая)","DE","фасад","санирующая краска","силикон",15,"л","Ведро",0.3,0.5,"л/м² ",{"$f":"VLOOKUP($A286,'Изменение прайс-листа'!$A$2:$E$798,4,FALSE)","v":1874},2248.7999999999997,674.63999999999987,33731.999999999993,null,0,0,0,null,null,24,539.28,792,"эластичная фасадная краска на основе силиконовой смолы, сохраняет эластичность  при низких температурах. Рекомендована в системе санации Sto-Risssanierungssystem"]
["01358-003","StoColor Silco Elast getönt (колерованная) C1","DE","фасад","санирующая краска","силикон",15,"л","Ведро",0.3,0.5,"л/м² ",{"$f":"M286+'7. Надбавки'!$C$6","v":1948},2337.6,701.28,35064,null,0,0,0,null,null,24,539.28,792]
["00319-011","StoColor Metallic natur (серебристого цвета) 37800М","DE","фасад","краска металлик","акрил",10,"л","Ведро",0.15,0.2,"л/м² ",{"$f":"VLOOKUP($A288,'Изменение прайс-листа'!$A$2:$E$798,4,FALSE)","v":2424},{"$f":"M288*1.2","v":2908.7999999999997},{"$f":"$N288*$J288","v":436.31999999999994},{"$f":"$N288*$G288","v":29087.999999999996},null,{"$f":"Q288*P288","v":0},0,0,"●","●",27,310.77,891,"декоративное водоразбавимое финишное покрытие (краска) с эффектом \"металлик\"  для наружных и внутренних работ"]
["00319-004","StoColor Metallic getönt (колерованная, серебристая) C1","DE","фасад","краска металлик","акрил","10","л","Ведро",0.15,0.2,"л/м² ",{"$f":"M288+'7. Надбавки'!$C$6","v":2498},2997.6,449.64,29976,null,0,0,0,null,null,27,310.77,891]
["00319-010","StoColor Metallic natur (серебристого цвета) 37800М","DE","фасад","краска металлик","акрил",5,"л","Ведро",0.15,0.2,"л/м² ",{"$f":"VLOOKUP($A290,'Изменение прайс-листа'!$A$2:$E$798,4,FALSE)","v":2594},3112.7999999999997,466.91999999999996,15563.999999999998,null,0,0,0,"●","●",60,345.3,1980]
["00319-003","StoColor Metallic getönt (колерованная, серебристая) C1","DE","фасад","краска металлик","акрил",5,"л","Ведро",0.15,0.2,"л/м² ",{"$f":"M290+'7. Надбавки'!$C$6","v":2668},3201.6,480.23999999999995,16008,null,0,0,0,null,null,60,345.3,1980]
["00319-025","StoColor Metallic natur (золотистого цвета) 37820М","DE","фасад","краска металлик","акрил","10","л","Ведро",0.15,0.2,"л/м² ",{"$f":"VLOOKUP($A292,'Изменение прайс-листа'!$A$2:$E$798,4,FALSE)","v":4872},5846.4,876.95999999999992,58464,null,0,0,0,"●",null,27,307.8,891]
["00319-104","StoColor Metallic getönt (колерованная, золотистая) C1","DE","фасад","краска металлик","акрил","10","л","Ведро",0.15,0.2,"л/м² ",{"$f":"M292+'7. Надбавки'!$C$6","v":4946},5935.2,890.28,59352,null,0,0,0,null,null,27,307.8,891]
["00319-024","StoColor Metallic natur (золотистого цвета) 37820М","DE","фасад","краска металлик","акрил","5","л","Ведро",0.15,0.2,"л/м² ",{"$f":"VLOOKUP($A294,'Изменение прайс-листа'!$A$2:$E$798,4,FALSE)","v":4944},5932.8,889.92,29664,null,0,0,0,"●",null,60,342,1980]
["00319-103","StoColor Metallic getönt (колерованная, золотистая) C1","DE","фасад","краска металлик","акрил","5","л","Ведро",0.15,0.2,"л/м² ",{"$f":"M294+'7. Надбавки'!$C$6","v":5018},6021.5999999999995,903.2399999999999,30107.999999999996,null,0,0,0,null,null,60,342,1980]
["00846_001","StoColl KM ","RU","универсальный","клей","цемент","25","кг","Мешок",3.5,4.5,"кг/м²",{"$f":"VLOOKUP($A296,'Изменение прайс-листа'!$A$2:$E$798,4,FALSE)","v":104},{"$f":"M296*1.2","v":124.8},{"$f":"$N296*$J296","v":436.8},{"$f":"$N296*$G296","v":3120},null,{"$f":"Q296*P296","v":0},0,0,null,null,42,1054.2,780,"минеральный эластичный раствор для укладки клинкерной и керамической  плитки, плит из природного камня и стеклянной мозаики"]
["00515-001","StoSilco HC","DE","фасад","гидрофобизатор","силикон","25","кг","Ведро ",0.2,0.3,"кг/м²",{"$f":"VLOOKUP($A297,'Изменение прайс-листа'!$A$2:$E$798,4,FALSE)","v":4604},5524.8,1104.96,138120,null,0,0,0,null,null,24,648,672,"пропитывающий водоотталкивающий крем на основе силана, не содержит растворителя. Используется для защиты, в т.ч. и как финишное покрытие для кирпичной кладки."]
["00780-001","Sto-Flexyl ","DE","универсальный","гидроизоляция","акрил",18,"кг","Ведро",0.5,1.3,"кг/м²",{"$f":"VLOOKUP($A298,'Изменение прайс-листа'!$A$2:$E$798,4,FALSE)","v":1032},1238.3999999999999,619.19999999999993,22291.199999999997,null,0,0,0,"●","●",24,447.98400000000004,792,"органическая шпаклевка-клей для гидроизоляции в области цоколя и соприкосновения с землей"]
["01817-001","StoSeal F 505 grau (серый), картридж 310 мл","DE","универсальный","герметик","гибридный",1,"шт.","Картридж",0.01,0.02,"л/м.п.",{"$f":"VLOOKUP($A299,'Изменение прайс-листа'!$A$2:$E$798,4,FALSE)","v":1296},1555.2,15.552000000000001,1555.2,null,0,0,0,"●",null,1008,951.55199999999991,19152,"однокомпонентная высокоэластичная масса (герметик) для заполнения фасадных швов"]
["01817-002","StoSeal F 505 grau (серый),  600 мл","DE","универсальный","герметик","гибридный","1","шт.","Картридж",0.01,0.02,"л/м.п.",{"$f":"VLOOKUP($A300,'Изменение прайс-листа'!$A$2:$E$798,4,FALSE)","v":2068},2481.6,24.815999999999999,2481.6,null,0,0,0,null,null,504,907.2,10080]
["01812-001","StoSeal F 505 weiss (белый), картридж 310 мл","DE","универсальный","герметик","гибридный",1,"шт.","Картридж",0.01,0.02,"л/м.п.",{"$f":"VLOOKUP($A301,'Изменение прайс-листа'!$A$2:$E$798,4,FALSE)","v":1296},1555.2,15.552000000000001,1555.2,null,0,0,0,"●","●",1008,951.55199999999991,19152]
["01812-002","StoSeal F 505 weiss (белый), 600 мл","DE","универсальный","герметик","гибридный",1,"шт.","Картридж",0.01,0.02,"л/м.п.",{"$f":"VLOOKUP($A302,'Изменение прайс-листа'!$A$2:$E$798,4,FALSE)","v":2068},2481.6,24.815999999999999,2481.6,null,0,0,0,null,null,504,907.2,10080]
["08441-013","StoCorr Metallac getönt (колерованная)","DE","металл","эмаль","алкид",2.5,"л","Банка",0.11,0.25,"л/м²",{"$f":"VLOOKUP($A303,'Изменение прайс-листа'!$A$2:$E$798,4,FALSE)","v":4250},{"$f":"M303*1.2","v":5100},561,12750,null,{"$f":"Q303*P303","v":0},0,0,null,null,528,757.15199999999993,12672,"толстослойная эмаль с цинком для защиты от коррозии железа, оцинкованной стали, меди, алюминия. Для наружных и внутренних работ. Выполняет функции грунтовки, промежуточного и финишного покрытия. Хорошая адгезия к различным металлам, отличная растекаемость и эластичность. Полуглянцевая поверхность."]
["08441-015","StoCorr Metallac getönt колерованный (1,0 л.)","DE","металл","эмаль","алкид",1,"л","Банка",0.11,0.25,"л/м²",{"$f":"VLOOKUP($A304,'Изменение прайс-листа'!$A$2:$E$798,4,FALSE)","v":7656},9187.1999999999989,1010.5919999999999,9187.1999999999989,null,0,0,0,null,null,144,516.24,4752]
["08430-001","StoRadiatorlac AF краска для радиаторов и труб","DE","металл","эмаль","алкид",2.5,"л","Банка",0.1,0.2,"л/м²",{"$f":"VLOOKUP($A305,'Изменение прайс-листа'!$A$2:$E$798,4,FALSE)","v":3740},4488,448.8,11220,null,0,0,0,null,null,528,757.15199999999993,12672,"эмаль на алкидной основе, не желтеет, выдерживает высокие температуры"]
["04806-012","StoCorr Finish колерованный","DE","металл","эмаль","алкид",5,"л","Ведро",0.16,0.4,"л/м²",{"$f":"VLOOKUP($A306,'Изменение прайс-листа'!$A$2:$E$798,4,FALSE)","v":5742},6890.4,1102.4639999999999,34452,null,0,0,0,null,null,144,544.75199999999995,4752,"эмаль с высоким содержанием слюды, для наружных и внутренних работ. В качестве основного, промежуточного и окончательного покрытия для стальных конструкций или оцинкованных поверхностей, таких как ангары, трубопроводы, мосты, металлические фасады, контейнеры, крыши и стены. Обеспечивает превосходную защиту от коррозии даже в агрессивной среде, термостойкость до 80 градусов."]
["02399-034","StoAqua Top Satin weiss (белый) 5l ","DE","древесина","лазурь","алкид",5,"л","Банка",0.12,0.17,"л/м²",{"$f":"VLOOKUP($A307,'Изменение прайс-листа'!$A$2:$E$798,4,FALSE)","v":3256},3907.2,468.86399999999998,19536,null,0,0,0,null,null,60,453.90000000000003,1980,"лазурь по дереву, для внутренних и наружних работ. На основе водорастворимой алкидной смолы. Высокая защита от УФ-излучения, высокая проникающая способность, не содержит биоцидов. Колеруется по системе StoColor, RAL, Holzfarbtöne (Цвета древесины)"]
["02399-004","StoAqua Top Satin 5l колеров. С1","DE","древесина","лазурь","алкид",5,"л","Банка",0.12,0.17,"л/м²",{"$f":"M307+'7. Надбавки'!$C$6","v":3330},3996,479.52,19980,null,0,0,0,null,null,60,339.3,1980]
["02399-033","StoAqua Top Satin weiss (белый) 2,5l","DE","древесина","лазурь","алкид",2.5,"л","Банка",0.12,0.17,"л/м²",{"$f":"VLOOKUP($A309,'Изменение прайс-листа'!$A$2:$E$798,4,FALSE)","v":3100},3720,446.4,9300,null,0,0,0,"●",null,160,467.2,5280]
["02399-005","StoAqua Top Satin 2,5l колеров. С1","DE","древесина","лазурь","алкид",2.5,"л","Банка",0.12,0.17,"л/м²",{"$f":"M309+'7. Надбавки'!$C$6","v":3174},3808.7999999999997,457.05599999999993,9522,null,0,0,0,null,null,160,467.2,5280]
["00163-006","Sto-Rissfüller fein (мелкозернистый)","DE","фасад","шпатлевка","акрил",25,"кг","Ведро",1,3,"кг/м²",{"$f":"VLOOKUP($A311,'Изменение прайс-листа'!$A$2:$E$798,4,FALSE)","v":668},{"$f":"M311*1.2","v":801.6},{"$f":"$N311*$J311","v":801.6},{"$f":"$N311*$G311","v":20040},null,{"$f":"Q311*P311","v":0},0,0,null,null,24,616.20000000000005,696,"натурально-белый готовый к применению эластичный материал на основе искусственных смол для тонкослойного поверхностного нанесения и заполнения трещин "]
["00163-001","Sto-Rissfüller fein (мелкозернистый)","DE","фасад","шпатлевка","акрил",8,"кг","Ведро",1,3,"кг/м²",{"$f":"VLOOKUP($A312,'Изменение прайс-листа'!$A$2:$E$798,4,FALSE)","v":780},{"$f":"M312*1.2","v":936},{"$f":"$N312*$J312","v":936},{"$f":"$N312*$G312","v":7488},null,{"$f":"Q312*P312","v":0},0,0,null,null,60,492.96,1980]

{"sheet":"2. ИНТЕРЬЕР","index":2,"n_rows":254,"n_cols":29,"rows_kept":254,"cut":false,"hidden":false,"merged":[[187,28,188,28],[190,28,197,28],[178,28,179,28],[252,28,253,28],[249,28,250,28],[247,28,248,28],[205,28,206,28],[235,28,238,28],[232,28,234,28],[207,28,208,28],[209,28,212,28],[219,28,223,28],[229,28,230,28],[214,28,215,28],[245,28,246,28],[180,28,181,28],[183,28,186,28],[1,0,1,28],[2,0,3,0],[2,1,3,1],[2,17,3,17],[2,18,3,18],[2,23,3,23],[2,25,3,25],[2,26,3,26],[2,20,3,20],[2,16,3,16],[2,24,3,24],[2,19,3,19],[2,27,3,27],[2,28,3,28],[170,28,171,28],[81,28,86,28],[87,28,94,28],[155,28,156,28],[165,28,168,28],[172,28,173,28],[157,28,164,28],[149,28,154,28],[127,28,134,28],[103,28,110,28],[145,28,148,28],[141,28,144,28],[2,2,3,2],[2,3,3,3],[26,28,27,28],[46,28,49,28],[61,28,64,28],[34,28,39,28],[40,28,43,28],[44,28,45,28],[4,28,5,28],[2,4,3,4],[2,5,3,5],[2,9,2,11],[10,28,11,28],[2,15,3,15],[2,21,3,21],[2,22,3,22],[198,28,204,28],[2,12,2,14],[2,8,3,8],[2,6,3,6],[2,7,3,7],[14,28,17,28],[19,28,20,28],[29,28,30,28],[50,28,59,28],[139,28,140,28],[135,28,138,28],[73,28,80,28],[65,28,72,28],[95,28,102,28],[174,28,177,28],[111,28,118,28]]}
[]
["Прайс-лист  Товаров Продуктовой группы раздела «Интерьер»\nЦены действительны c 03.03.2022 г."]
["Артикул ","Наименование продукта","Производство","Область применения","Вид материала","Основа материала","Класс влажного истирания","Класс укрывистости","Степень матовости","Упаковка",null,null,"Min\nрасход продукта",null,null,"Цена БЕЗ учета НДС за единицу измерения","Цена с НДС за единицу измерения","Цена с НДС за 1м² (при min расходе)","Цена с НДС за упаковку","Кол-во единиц товара","Сумма заказа с НДС","Итого вес брутто (кг)","Итого паллет","Наличие на складе","Рекомендованный ассортимент","Количество упаковок на паллете, шт.","Вес одного паллето-места (без палеты), кг.","Норма загрузки авто (20 т.) шт.","Краткое описание продукта"]
[null,null,null,null,null,null,null,null,null,"к-во","ед.","вид упаковки","от","до","единица измерения"]
["00518-002","StoPrim Plex","DE","интерьер","грунт проникающий","акрил","н/д","н/д","н/д",20,"л","Канистра",0.1,0.4,"л/м²",{"$f":"VLOOKUP($A5,'Изменение прайс-листа'!$A$2:$E$798,4,FALSE)","v":620},{"$f":"P5*1.2","v":744},{"$f":"Q5*M5","v":74.400000000000006},{"$f":"Q5*J5","v":14880},null,{"$f":"T5*S5","v":0},{"$f":"ROUNDUP(AA5/Z5*T5,0)","v":0},{"$f":"T5/Z5","v":0},"●",null,24,498.72,792,"универсальная грунтовка на акрилатной основе, не содержит растворителей и пластификаторов"]
["00518-001","StoPrim Plex","DE","интерьер","грунт проникающий","акрил","н/д","н/д","н/д",10,"л","Канистра",0.1,0.4,"л/м²",{"$f":"VLOOKUP($A6,'Изменение прайс-листа'!$A$2:$E$798,4,FALSE)","v":612},{"$f":"P6*1.2","v":734.4},{"$f":"Q6*M6","v":73.44},{"$f":"Q6*J6","v":7344},null,{"$f":"T6*S6","v":0},{"$f":"ROUNDUP(AA6/Z6*T6,0)","v":0},{"$f":"T6/Z6","v":0},"●",null,60,623.40000000000009,1740]
["09609-001","StoPrim GT","DE","интерьер","грунт проникающий","акрил","н/д","н/д","н/д","15","л","Ведро",0.1,0.3,"л/м²",{"$f":"VLOOKUP($A7,'Изменение прайс-листа'!$A$2:$E$798,4,FALSE)","v":740},{"$f":"P7*1.2","v":888},{"$f":"Q7*M7","v":88.800000000000011},{"$f":"Q7*J7","v":13320},null,{"$f":"T7*S7","v":0},0,{"$f":"T7/Z7","v":0},"●","●",24,439.20000000000005,792,"Уникальный продукт! Проникающая грунтовка с технологией \"Гель-Технолоджи\", не капает, не образует подтеков. Идеальна для нанесения валиком! Идеальна для сложных поверхностей с \"косым\" светом"]
["00870-047","StoPrim Sol GT","DE","универсальный","грунт проникающий","силикат","н/д","н/д","н/д",15,"л","Ведро",0.1,0.2,"л/м²",{"$f":"VLOOKUP($A8,'Изменение прайс-листа'!$A$2:$E$798,4,FALSE)","v":720},864,86.4,12960,null,0,0,0,"●","●",24,439.20000000000005,792,"Уникальный продукт! водоразбавимая бесцветная грунтовка  на силикатной основе, идеальна для минеральных и органических оснований. Гелевая консистенция, минимизурующая образование капель"]
["00861_012","StoPrim Solid","RU","универсальный","грунт проникающий","акрил","н/д","н/д","н/д","5","л","Канистра",0.02,0.08,"л/м²",{"$f":"VLOOKUP($A9,'Изменение прайс-листа'!$A$2:$E$798,4,FALSE)","v":566},{"$f":"P9*1.2","v":679.19999999999993},{"$f":"Q9*M9","v":13.584},{"$f":"Q9*J9","v":3395.9999999999995},null,{"$f":"T9*S9","v":0},0,0,"●","●",96,498.72,3168,"универсальная водорастворимая грунтовка - концентрат на основе акрилата с модифицирующими добавками. Разбавляется водой в соотношении 1:4. Глубоко проникает, хорошо укрепляет основание."]
["00870-006","StoPrim Silikat","DE","универсальный","грунт проникающий","силикат","н/д","н/д","н/д","10","л","Канистра ",0.15,0.6,"л/м²",{"$f":"VLOOKUP($A10,'Изменение прайс-листа'!$A$2:$E$798,4,FALSE)","v":584},700.8,105.11999999999999,7008,null,0,0,0,null,null,60,653.40000000000009,1680,"водоразбавимая бесцветная грунтовка                        на силикатной основе, идеальна для минеральных покрытий"]
["00517-001","StoPrim Color weiss (белая)","DE","универсальный","грунт адгезионный","акрил","н/д","н/д","н/д",15,"л","Ведро",0.2,0.3,"л/м²",{"$f":"VLOOKUP($A11,'Изменение прайс-листа'!$A$2:$E$798,4,FALSE)","v":1062},1274.3999999999999,254.88,19115.999999999996,null,0,0,0,"●","●",24,519.84,792,"грунтовочная краска, не содержит растворителей и пластификаторов, при высыхании не выделяет вредных веществ"]
["00517-008","StoPrim Color getönt (колерованная)","DE","универсальный","грунт адгезионный","акрил","н/д","н/д","н/д",15,"л","Ведро",0.2,0.3,"л/м²",{"$f":"P11+'7. Надбавки'!$C$6","v":1136},1363.2,272.64000000000004,20448,null,0,0,0,null,null,24,519.84,792]
["01304-006","StoPrim Isol","DE","универсальный","грунт изолирующий","акрил","н/д","н/д","н/д",5,"л","Ведро",0.1,0.4,"л/м²",{"$f":"VLOOKUP($A13,'Изменение прайс-листа'!$A$2:$E$798,4,FALSE)","v":2110},2532,253.20000000000002,12660,null,0,0,0,"●",null,60,367.8,1980,"водоразбавимая изолирующая грунтовка на акрилатной основе"]
["00855-003","StoPrim LP","DE","универсальный","грунт изолирующий","растворитель","н/д","н/д","н/д",12.5,"л","Ведро",0.13,0.15,"л/м²",{"$f":"VLOOKUP($A14,'Изменение прайс-листа'!$A$2:$E$798,4,FALSE)","v":3306},3967.2,515.73599999999999,49590,null,0,0,0,null,null,24,454.20000000000005,792,"изолирующая грунтовка, содержит растворитель"]
["00872-001","StoPrep In natur (натурального цвета)","DE","интерьер","грунт адгезионный","акрил","н/д","н/д","н/д",25,"кг","Ведро",0.18,0.32,"кг/м²",{"$f":"VLOOKUP($A15,'Изменение прайс-листа'!$A$2:$E$798,4,FALSE)","v":640},768,138.24,19200,null,0,0,0,null,null,24,616.20000000000005,696,"органическое предварительное и промежуточное покрытие, упрощает последующее нанесение штукатурных слоев, улучшает адгезию"]
["00872-006","StoPrep In getönt (колерованное)","DE","интерьер","грунт адгезионный","акрил","н/д","н/д","н/д",25,"кг","Ведро",0.18,0.32,"кг/м²",{"$f":"P15+'7. Надбавки'!$C$5","v":686},823.19999999999993,148.17599999999999,20580,null,0,0,0,null,null,24,616.20000000000005,696]
["00872-004","StoPrep In natur (натурального цвета)","DE","интерьер","грунт адгезионный","акрил","н/д","н/д","н/д",8,"кг","Ведро",0.18,0.32,"кг/м²",{"$f":"VLOOKUP($A17,'Изменение прайс-листа'!$A$2:$E$798,4,FALSE)","v":810},972,174.95999999999998,7776,null,0,0,0,null,null,60,495.36,1980]
["00872-005","StoPrep In getönt (колерованное) ","DE","интерьер","грунт адгезионный","акрил","н/д","н/д","н/д",8,"кг","Ведро",0.18,0.32,"кг/м²",{"$f":"P17+'7. Надбавки'!$C$5","v":856},1027.2,184.89600000000002,8217.6,null,0,0,0,null,null,60,495.36,1980]
["00884-001","StoPrep Contact","DE","универсальный","грунт адгезионный","акрил","н/д","н/д","н/д","25","кг","Ведро",0.2,2,"кг/м²",{"$f":"VLOOKUP($A19,'Изменение прайс-листа'!$A$2:$E$798,4,FALSE)","v":530},636,127.2,15900,null,0,0,0,null,null,24,616.20000000000005,696,"\"адгезионный мостик\" для гладких оснований, может смешиваться с цементом"]
["00749-018","StoLevell In XXL (мешок)","DE","интерьер","шпатлевка","акрил","н/д","н/д","matt",25,"кг","Мешок",0.8,3,"кг/м²",{"$f":"VLOOKUP($A20,'Изменение прайс-листа'!$A$2:$E$798,4,FALSE)","v":362},434.4,347.52,10860,null,0,0,0,null,null,36,903.6,720,"органическая заполняющая шпаклевочная масса для машинного и ручного нанесения "]
["00749-019","StoLevell In XXL (ведро)","DE","интерьер","шпатлевка","акрил","н/д","н/д","matt",25,"кг","Ведро",0.8,3,"кг/м²",{"$f":"VLOOKUP($A21,'Изменение прайс-листа'!$A$2:$E$798,4,FALSE)","v":436},523.19999999999993,418.55999999999995,13079.999999999998,null,0,0,0,"●","●",24,614.40000000000009,696]
["00822-001","StoLevell in Resist","DE","интерьер","шпатлевка","акрил","н/д","н/д","matt",25,"кг","Ведро",0.8,3,"кг/м²",{"$f":"VLOOKUP($A22,'Изменение прайс-листа'!$A$2:$E$798,4,FALSE)","v":438},525.6,420.48,13140,null,0,0,0,null,null,24,616.20000000000005,696,"органическая шпаклевка для влажных помещений"]
["01230-001","StoLevell In G","DE","интерьер","шпатлевка","акрил","н/д","н/д","matt",25,"кг","Ведро",1.1000000000000001,5,"кг/м²",{"$f":"VLOOKUP($A23,'Изменение прайс-листа'!$A$2:$E$798,4,FALSE)","v":400},{"$f":"P23*1.2","v":480},{"$f":"Q23*M23","v":528},{"$f":"Q23*J23","v":12000},null,{"$f":"T23*S23","v":0},0,0,null,null,24,616.20000000000005,696,"грубая органическая шпаклевка"]
["00819-001","StoLevell in Sil","DE","интерьер","шпатлевка","силикат","н/д","н/д","matt",25,"кг","Ведро",0.8,3,"кг/м²",{"$f":"VLOOKUP($A24,'Изменение прайс-листа'!$A$2:$E$798,4,FALSE)","v":462},554.4,443.52,13860,null,0,0,0,null,null,24,616.20000000000005,696,"дисперсионная силикатная шпаклевка для минеральных и органических оснований, проста в применении, наносится вручную, легко шлифуется"]
["08899-001","StoLevell Calce RP (мешок)","DE","интерьер","шпатлевка","известь","н/д","н/д","matt",25,"кг","Мешок",12,24,"кг/м²",{"$f":"VLOOKUP($A25,'Изменение прайс-листа'!$A$2:$E$798,4,FALSE)","v":266},319.2,3830.3999999999996,7980,null,0,0,0,null,null,36,903.6,720,"известковая шпатлевка"]
["09320-001","StoLevell Calce FS (мешок)","DE","интерьер","шпатлевка","известь","н/д","н/д","matt",25,"кг","Мешок",4,8,"кг/м²",{"$f":"VLOOKUP($A26,'Изменение прайс-листа'!$A$2:$E$798,4,FALSE)","v":276},331.2,1324.8,8280,null,0,0,0,null,null,36,903.6,720,"известковая финишная шпаклевка"]
["01245-001","StoLevell In As","DE","интерьер","шпатлевка","акрил","н/д","н/д","matt","25","кг","Мешок",1,5,"кг/м²",{"$f":"VLOOKUP($A27,'Изменение прайс-листа'!$A$2:$E$798,4,FALSE)","v":360},432,432,10800,null,0,0,0,null,null,40,1004,720,"органическая особотонкая готовая к применению шпаклевка, идеально подходит для нанесения методом безвоздушного напыления, а также при помощи валика или шпателя"]
["01245-003","StoLevell In As","DE","интерьер","шпатлевка","акрил","н/д","н/д","matt","25","кг","Ведро",1,5,"кг/м²",{"$f":"VLOOKUP($A28,'Изменение прайс-листа'!$A$2:$E$798,4,FALSE)","v":436},523.19999999999993,523.19999999999993,13079.999999999998,null,0,0,0,null,null,24,616.20000000000005,696]
["08414-004","StoLevell In Repair","DE","древесина","шпатлевка","акрил","н/д","н/д","matt","1","шт","Туба",0.25,0.4,"кг/м²",{"$f":"VLOOKUP($A29,'Изменение прайс-листа'!$A$2:$E$798,4,FALSE)","v":872},1046.3999999999999,261.59999999999997,1046.3999999999999,null,0,{"$error":"#VALUE!"},{"$error":"#VALUE!"},null,null,"Н/Д","Н/Д","Н/Д","органическая шпаклевка для заполнения и выравнивания небольших площадей, подходит для древесины, бетона"]
["02970-001","StoLevell In Fill","DE","интерьер","шпатлевка","гипс","н/д","н/д","matt",15,"кг","Мешок",0.3,30,"кг/м²",{"$f":"VLOOKUP($A30,'Изменение прайс-листа'!$A$2:$E$798,4,FALSE)","v":442},530.4,159.11999999999998,7956,null,0,0,0,null,null,48,722.88,1200,"минеральная (на основе гипса) шпаклевочная масса для выравнивания поверхности, заполнения трещин, швов"]
["02970-002","StoLevell In Fill","DE","интерьер","шпатлевка","гипс","н/д","н/д","matt",5,"кг","Мешок",0.3,30,"кг/м²",{"$f":"VLOOKUP($A31,'Изменение прайс-листа'!$A$2:$E$798,4,FALSE)","v":492},590.4,177.11999999999998,2952,null,0,0,0,null,null,140,763,3360]
["01276-008","StoLevell In RS","DE","интерьер","шпатлевка","цемент","н/д","н/д","matt","15","кг","Мешок",0.5,45,"кг/м²",{"$f":"VLOOKUP($A32,'Изменение прайс-листа'!$A$2:$E$798,4,FALSE)","v":448},537.6,268.8,8064,null,0,0,0,null,null,48,722.88,1200,"минеральная шпаклевка для заполнения монтажных швов бетонных плит перекрытий, шпаклевание бетона и т.п."]
["04346_120","StoReno feim","RU","универсальный","шпаклевка","цемент","н/д","н/д",null,"18","кг","Мешок",0.9,0.9,"кг/м131",{"$f":"VLOOKUP($A33,'Изменение прайс-листа'!$A$2:$E$798,4,FALSE)","v":90},{"$f":"P33*1.2","v":108},{"$f":"Q33*M33","v":97.2},{"$f":"Q33*J33","v":1944},null,0,0,0,"●",null,42,1054.2,780,"финишная шпаклеква минеральная усиленная"]
["04346_121","StoReno","RU","универсальный","шпаклевка","цемент","н/д","н/д",null,"25","кг","Мешок",2,2,"кг/м132",{"$f":"VLOOKUP($A34,'Изменение прайс-листа'!$A$2:$E$798,4,FALSE)","v":42},50.4,100.8,1260,null,0,0,0,"●",null,42,1054.2,780,"шпаклеква минеральная усиленная"]
["09620-002","StoDecosit K 1,0 weiss (белая)","DE","интерьер","декоративная штукатурка","акрил","н/д","н/д","matt",25,"кг","Ведро",2,2.1,"кг/м²",{"$f":"VLOOKUP($A35,'Изменение прайс-листа'!$A$2:$E$798,4,FALSE)","v":490},588,1176,14700,null,0,0,0,"●","●",24,616.20000000000005,696,"органическая финишная экологически чистая штукатурка для внутренних работ с царапанной структурой (\"шуба\"). Подходит для помещений с повышенными требованиями к экологичности применяемых материалов (больницы, детские сады). Сертификация TÜV"]
["09620-001","StoDecosit K 1,0 getönt (колерованная) C1","DE","интерьер","декоративная штукатурка","акрил","н/д","н/д","matt",25,"кг","Ведро",2,2.1,"кг/м²",{"$f":"P35+'7. Надбавки'!$C$5","v":536},643.19999999999993,1286.3999999999999,16079.999999999998,null,0,0,0,null,null,24,616.20000000000005,696]
["09620-004","StoDecosit K 1,5 weiss (белая)","DE","интерьер","декоративная штукатурка","акрил","н/д","н/д","matt",25,"кг","Ведро",2.2000000000000002,2.2999999999999998,"кг/м²",{"$f":"VLOOKUP($A37,'Изменение прайс-листа'!$A$2:$E$798,4,FALSE)","v":490},588,1293.6000000000001,14700,null,0,0,0,"●",null,24,616.20000000000005,696]
["09620-003","StoDecosit K 1,5 getönt (колерованная) C1","DE","интерьер","декоративная штукатурка","акрил","н/д","н/д","matt",25,"кг","Ведро",2.2000000000000002,2.2999999999999998,"кг/м²",{"$f":"P37+'7. Надбавки'!$C$5","v":536},643.19999999999993,1415.04,16079.999999999998,null,0,0,0,null,null,24,616.20000000000005,696]
["09620-006","StoDecosit K 2,0 weiss (белая)","DE","интерьер","декоративная штукатурка","акрил","н/д","н/д","matt",25,"кг","Ведро",2.9,3,"кг/м²",{"$f":"VLOOKUP($A39,'Изменение прайс-листа'!$A$2:$E$798,4,FALSE)","v":490},588,1705.2,14700,null,0,0,0,"●",null,24,616.20000000000005,696]
["09620-005","StoDecosit K 2,0 getönt (колерованная) C1","DE","интерьер","декоративная штукатурка","акрил","н/д","н/д","matt",25,"кг","Ведро",2.9,3,"кг/м²",{"$f":"P39+'7. Надбавки'!$C$5","v":536},643.19999999999993,1865.2799999999997,16079.999999999998,null,0,0,0,null,null,24,616.20000000000005,696]
["09620-008","StoDecosit R 1,0 weiss (белая)","DE","интерьер","декоративная штукатурка","акрил","н/д","н/д","matt",25,"кг","Ведро",1.6,1.8,"кг/м²",{"$f":"VLOOKUP($A41,'Изменение прайс-листа'!$A$2:$E$798,4,FALSE)","v":490},588,940.80000000000007,14700,null,0,0,0,"●","●",24,616.20000000000005,696,"органическая финишная экологически чистая штукатурка для внутренних работ, с бороздчатой структурой (\"короед\"). Подходит для помещений с повышенными требованиями к экологичности применяемых материалов (больницы, детские сады). Сертификация TÜV"]
["09620-007","StoDecosit R 1,0 getönt (колерованная) C1","DE","интерьер","декоративная штукатурка","акрил","н/д","н/д","matt",25,"кг","Ведро",1.6,1.8,"кг/м²",{"$f":"P41+'7. Надбавки'!$C$5","v":536},643.19999999999993,1029.1199999999999,16079.999999999998,null,0,0,0,null,null,24,616.20000000000005,696]
["09620-010","StoDecosit R 1,5 weiss (белая)","DE","интерьер","декоративная штукатурка","акрил","н/д","н/д","matt",25,"кг","Ведро",2.2000000000000002,2.2999999999999998,"кг/м²",{"$f":"VLOOKUP($A43,'Изменение прайс-листа'!$A$2:$E$798,4,FALSE)","v":512},614.4,1351.68,15360,null,0,0,0,"●",null,24,616.20000000000005,696]
["09620-009","StoDecosit R 1,5 getönt (колерованная) C1","DE","интерьер","декоративная штукатурка","акрил","н/д","н/д","matt",25,"кг","Ведро",2.2000000000000002,2.2999999999999998,"кг/м²",{"$f":"P43+'7. Надбавки'!$C$5","v":558},669.6,1473.1200000000001,16740,null,0,0,0,null,null,24,616.20000000000005,696]
["09620-012","StoDecosit MP 0,5 weiss (белая)","DE","интерьер","декоративная штукатурка","акрил","н/д","н/д","matt",25,"кг","Ведро",1.5,4,"кг/м²",{"$f":"VLOOKUP($A45,'Изменение прайс-листа'!$A$2:$E$798,4,FALSE)","v":512},614.4,921.59999999999991,15360,null,0,0,0,"●","●",24,616.20000000000005,696,"органическая финишная экологически чистая штукатурка для внутренних работ с моделируемой структурой. Подходит для помещений с повышенными требованиями к экологичности строительных материалов (больницы, детские сады). Сертификация TÜV"]
["09620-011","StoDecosit MP 0,5 getönt (колерованная) C1","DE","интерьер","декоративная штукатурка","акрил","н/д","н/д","matt",25,"кг","Ведро",1.5,4,"кг/м²",{"$f":"P45+'7. Надбавки'!$C$5","v":558},{"$f":"P46*1.2","v":669.6},{"$f":"Q46*M46","v":1004.4000000000001},{"$f":"Q46*J46","v":16740},null,{"$f":"T46*S46","v":0},0,0,null,null,24,616.20000000000005,696]
["09620-014","StoDecosit SP 1,0 weiss (белая)","DE","интерьер","декоративная штукатурка","акрил","н/д","н/д","matt",25,"кг","Ведро",0.5,0.8,"кг/м²",{"$f":"VLOOKUP($A47,'Изменение прайс-листа'!$A$2:$E$798,4,FALSE)","v":550},660,330,16500,null,0,0,0,"●","●",24,616.20000000000005,696,"органическая финишная экологически чистая штукатурка для внутренних работ с эффектом \"набрызга\" для реализации творческого дизайна поверхностей стен и потолков. Подходит для помещений с повышенными требованиями к экологичности применяемых материалов (больницы, детские сады). Сертификация TÜV"]
["09620-013","StoDecosit SP 1,0 getönt (колерованная) C1","DE","интерьер","декоративная штукатурка","акрил","н/д","н/д","matt",25,"кг","Ведро",0.5,0.8,"кг/м²",{"$f":"P47+'7. Надбавки'!$C$5","v":596},715.19999999999993,357.59999999999997,17880,null,0,0,0,null,null,24,616.20000000000005,696]
["09620-016","StoDecosit SP 1,5 weiss (белая)","DE","интерьер","декоративная штукатурка","акрил","н/д","н/д","matt",25,"кг","Ведро",0.7,0.9,"кг/м²",{"$f":"VLOOKUP($A49,'Изменение прайс-листа'!$A$2:$E$798,4,FALSE)","v":550},660,461.99999999999994,16500,null,0,0,0,"●","●",24,616.20000000000005,696]
["09620-015","StoDecosit SP 1,5 getönt (колерованная) C1","DE","интерьер","декоративная штукатурка","акрил","н/д","н/д","matt",25,"кг","Ведро",0.7,0.9,"кг/м²",{"$f":"P49+'7. Надбавки'!$C$5","v":596},715.19999999999993,500.63999999999993,17880,null,0,0,0,null,null,24,616.20000000000005,696]
["00180-023","Sto-Granit K 1,5 цвет 800","DE","интерьер","декоративная штукатурка","акрил","н/д","н/д","satinmatt",23,"кг","Ведро",3.5,5,"кг/м²",{"$f":"VLOOKUP($A51,'Изменение прайс-листа'!$A$2:$E$798,4,FALSE)","v":766},919.19999999999993,3217.2,21141.599999999999,null,0,0,0,null,null,24,568.00800000000004,768,"органическая штукатурка из дробленого натурального камня, величина зерна 1,5 мм. Цвета в ассортименте, цвет и фактуру см. по номеру в каталоге или в образцах."]
["00180-024","Sto-Granit K 1,5 цвет 801","DE","интерьер","декоративная штукатурка","акрил","н/д","н/д","satinmatt",23,"кг","Ведро",3.5,5,"кг/м²",{"$f":"VLOOKUP($A52,'Изменение прайс-листа'!$A$2:$E$798,4,FALSE)","v":766},919.19999999999993,3217.2,21141.599999999999,null,0,0,0,null,null,24,568.00800000000004,768]
["00180-029","Sto-Granit K 1,5 цвет 802","DE","интерьер","декоративная штукатурка","акрил","н/д","н/д","satinmatt",23,"кг","Ведро",3.5,5,"кг/м²",{"$f":"VLOOKUP($A53,'Изменение прайс-листа'!$A$2:$E$798,4,FALSE)","v":766},919.19999999999993,3217.2,21141.599999999999,null,0,0,0,null,null,24,568.00800000000004,768]
["00180-025","Sto-Granit K 1,5 цвет 803","DE","интерьер","декоративная штукатурка","акрил","н/д","н/д","satinmatt",23,"кг","Ведро",3.5,5,"кг/м²",{"$f":"VLOOKUP($A54,'Изменение прайс-листа'!$A$2:$E$798,4,FALSE)","v":766},919.19999999999993,3217.2,21141.599999999999,null,0,0,0,null,null,24,568.00800000000004,768]
["00180-030","Sto-Granit K 1,5 цвет 804","DE","интерьер","декоративная штукатурка","акрил","н/д","н/д","satinmatt",23,"кг","Ведро",3.5,5,"кг/м²",{"$f":"VLOOKUP($A55,'Изменение прайс-листа'!$A$2:$E$798,4,FALSE)","v":1260},1512,5292,34776,null,0,0,0,null,null,24,568.00800000000004,768]
["00180-031","Sto-Granit K 1,5 цвет 808","DE","интерьер","декоративная штукатурка","акрил","н/д","н/д","satinmatt",23,"кг","Ведро",3.5,5,"кг/м²",{"$f":"VLOOKUP($A56,'Изменение прайс-листа'!$A$2:$E$798,4,FALSE)","v":766},919.19999999999993,3217.2,21141.599999999999,null,0,0,0,null,null,24,568.00800000000004,768]
["00180-032","Sto-Granit K 1,5 цвет 812","DE","интерьер","декоративная штукатурка","акрил","н/д","н/д","satinmatt",23,"кг","Ведро",3.5,5,"кг/м²",{"$f":"VLOOKUP($A57,'Изменение прайс-листа'!$A$2:$E$798,4,FALSE)","v":1260},1512,5292,34776,null,0,0,0,null,null,24,568.00800000000004,768]
["00180-033","Sto-Granit K 1,5 цвет 813","DE","интерьер","декоративная штукатурка","акрил","н/д","н/д","satinmatt",23,"кг","Ведро",3.5,5,"кг/м²",{"$f":"VLOOKUP($A58,'Изменение прайс-листа'!$A$2:$E$798,4,FALSE)","v":1260},1512,5292,34776,null,0,0,0,null,null,24,568.00800000000004,768]
["00180-027","Sto-Granit K 1,5 цвет 821","DE","интерьер","декоративная штукатурка","акрил","н/д","н/д","satinmatt",23,"кг","Ведро",3.5,5,"кг/м²",{"$f":"VLOOKUP($A59,'Изменение прайс-листа'!$A$2:$E$798,4,FALSE)","v":766},919.19999999999993,3217.2,21141.599999999999,null,0,0,0,null,null,24,568.00800000000004,768]
["00180-028","Sto-Granit K 1,5 цвет 824","DE","интерьер","декоративная штукатурка","акрил","н/д","н/д","satinmatt",23,"кг","Ведро",3.5,5,"кг/м²",{"$f":"VLOOKUP($A60,'Изменение прайс-листа'!$A$2:$E$798,4,FALSE)","v":766},919.19999999999993,3217.2,21141.599999999999,null,0,0,0,null,null,24,568.00800000000004,768]
["09217-003","StoCalce Activ MP 1,0 (натуральный белый)","DE","интерьер","декоративная штукатурка","известь","н/д","н/д","matt",25,"кг","Мешок",1.5,4.5,"кг/м²",{"$f":"VLOOKUP($A61,'Изменение прайс-листа'!$A$2:$E$798,4,FALSE)","v":320},{"$f":"P61*1.2","v":384},{"$f":"Q61*M61","v":576},{"$f":"Q61*J61","v":9600},null,{"$f":"T61*S61","v":0},0,0,null,null,36,902.69999999999993,720,"известковая моделируемая декоративная штукатурка. Регулирует микроклимат в помещении."]
["00039-001","StoColor Basic weiss (белая)","DE","интерьер","краска","акрил",3,2,"matt",15,"л","Ведро",0.12,0.28000000000000003,"л/м²",{"$f":"VLOOKUP($A62,'Изменение прайс-листа'!$A$2:$E$798,4,FALSE)","v":588},705.6,84.671999999999997,10584,null,0,0,0,"●","●",24,566.64,768,"не содержащая вредных веществ матовая органическая дисперсионная краска с высокой степенью белизны. Хорошая укрывистость. Не содержит растворителей и пластификаторов, характеризуется крайне низкой эмиссией вредных веществ. Имеет сертификат TÜV, не содержит субстанций, вызывающих эффект потемнения."]
["00039-006","StoColor Basic getönt (колерованная) С1","DE","интерьер","краска","акрил",3,2,"matt","15","л","Ведро",0.12,0.28000000000000003,"л/м²",{"$f":"P62+'7. Надбавки'!$C$6","v":662},794.4,95.327999999999989,11916,null,0,0,0,null,null,24,566.64,768]
["00039-002","StoColor  Basic weiss (белая)","DE","интерьер","краска","акрил",3,2,"matt","10","л","Ведро",0.12,0.28000000000000003,"л/м²",{"$f":"VLOOKUP($A64,'Изменение прайс-листа'!$A$2:$E$798,4,FALSE)","v":666},799.19999999999993,95.903999999999982,7991.9999999999991,null,0,0,0,"●",null,27,425.52,891]
["00039-007","StoColor Basic getönt (колерованная) С1","DE","интерьер","краска","акрил",3,2,"matt","10","л","Ведро",0.12,0.28000000000000003,"л/м²",{"$f":"P64+'7. Надбавки'!$C$6","v":740},888,106.56,8880,null,0,0,0,null,null,27,425.52,891]
["00237-024","StoColor In  weiss (белая)","DE","интерьер","краска","акрил",3,1,"matt",15,"л","Ведро",0.13,0.3,"л/м²",{"$f":"VLOOKUP($A66,'Изменение прайс-листа'!$A$2:$E$798,4,FALSE)","v":638},765.6,99.528000000000006,11484,null,0,0,0,"●",null,24,541.43999999999994,792,"универсальная дисперсионная матовая краска. Широкий спектр колеровки, имеет сертификат TÜV как безвредный продукт. Легко наносится, класс укрывистости - 2."]
["00237-082","StoColor In getönt (колерованная) С 1","DE","интерьер","краска","акрил",3,1,"matt","15","л","Ведро",0.13,0.3,"л/м²",{"$f":"P66+'7. Надбавки'!$C$6","v":712},854.4,111.072,12816,null,0,0,0,null,null,24,541.43999999999994,792]
["00237-022","StoColor In  weiss (белая)","DE","интерьер","краска","акрил",3,1,"matt","10","л","Ведро",0.13,0.3,"л/м²",{"$f":"VLOOKUP($A68,'Изменение прайс-листа'!$A$2:$E$798,4,FALSE)","v":722},866.4,112.63200000000001,8664,null,0,0,0,"●",null,27,406.62,891]
["00237-081","StoColor In getönt (колерованная) С 1","DE","интерьер","краска","акрил",3,1,"matt","10","л","Ведро",0.13,0.3,"л/м²",{"$f":"P68+'7. Надбавки'!$C$6","v":796},955.19999999999993,124.176,9552,null,0,0,0,null,null,27,406.62,891]
["00237-020","StoColor In  weiss (белая)","DE","интерьер","краска","акрил",3,1,"matt","5","л","Ведро",0.13,0.3,"л/м²",{"$f":"VLOOKUP($A70,'Изменение прайс-листа'!$A$2:$E$798,4,FALSE)","v":742},890.4,115.752,4452,null,0,{"$f":"ROUNDUP(AA70/Z70*T70,0)","v":0},{"$f":"T70/Z70","v":0},"●",null,60,451.8,1980]
["00237-086","StoColor In getönt (колерованная) С 1","DE","интерьер","краска","акрил",3,1,"matt",5,"л","Ведро",0.13,0.3,"л/м²",{"$f":"P70+'7. Надбавки'!$C$6","v":816},979.19999999999993,127.29599999999999,4896,null,0,0,0,null,null,60,451.8,1980]
["00237-018","StoColor In  weiss (белая)","DE","интерьер","краска","акрил",3,1,"matt","2,5","л","Ведро",0.13,0.3,"л/м²",{"$f":"VLOOKUP($A72,'Изменение прайс-листа'!$A$2:$E$798,4,FALSE)","v":1392},1670.3999999999999,217.15199999999999,4176,null,0,0,0,"●",null,72,271.08,2376]
["00237-093","StoColor In getönt (колерованная) С 1","DE","интерьер","краска","акрил",3,1,"matt","2,5","л","Ведро",0.13,0.3,"л/м²",{"$f":"P72+'7. Надбавки'!$C$6","v":1466},1759.2,228.69600000000003,4398,null,0,0,0,null,null,72,271.08,2376]
["00229-007","StoColor Rapid weiss (белая)","DE","интерьер","краска","акрил",2,1,"matt","15","л","Ведро",0.13,0.3,"л/м²",{"$f":"VLOOKUP($A74,'Изменение прайс-листа'!$A$2:$E$798,4,FALSE)","v":1074},1288.8,167.54400000000001,19332,null,0,0,0,null,null,24,540,792,"проверенная на отсутствие вредных примесей, дисперсионная краска с высокой укрывистостью. Однослойная дисперсионная краска, очень высокая степень белизны. Устойчива к мытью, не содержит растворителей и пластификаторов, с очень слабой эммисией вредных веществ, имеет сертификат TÜV как безвредный продукт, не содержит субстанций , способствующих образованию \"черных пятен\" (отложение копоти и пыли на стенах)."]
["00229-046","StoColor Rapid getönt  (колерованная) С 1","DE","интерьер","краска","акрил",2,1,"matt","15","л","Ведро",0.13,0.3,"л/м²",{"$f":"P74+'7. Надбавки'!$C$6","v":1148},1377.6,179.08799999999999,20664,null,0,0,0,null,null,24,540,792]
["00229-006","StoColor Rapid weiss (белая)","DE","интерьер","краска","акрил",2,1,"matt",10,"л","Ведро",0.13,0.3,"л/м²",{"$f":"VLOOKUP($A76,'Изменение прайс-листа'!$A$2:$E$798,4,FALSE)","v":1166},1399.2,181.89600000000002,13992,null,0,0,0,null,null,27,405.53999999999996,891]
["00229-047","StoColor Rapid getönt  (колерованная) С 1","DE","интерьер","краска","акрил",2,1,"matt",10,"л","Ведро",0.13,0.3,"л/м²",{"$f":"P76+'7. Надбавки'!$C$6","v":1240},1488,193.44,14880,null,0,0,0,null,null,27,405.53999999999996,891]
["00229-005","StoColor Rapid weiss (белая)","DE","интерьер","краска","акрил",2,1,"matt","5","л","Ведро",0.13,0.3,"л/м²",{"$f":"VLOOKUP($A78,'Изменение прайс-листа'!$A$2:$E$798,4,FALSE)","v":1170},1404,182.52,7020,null,0,0,0,null,null,60,450.59999999999997,1980]
["00229-086","StoColor Rapid getönt  (колерованная) С 1","DE","интерьер","краска","акрил",2,1,"matt","5","л","Ведро",0.13,0.3,"л/м²",{"$f":"P78+'7. Надбавки'!$C$6","v":1244},1492.8,194.06399999999999,7464,null,0,0,0,null,null,60,450.59999999999997,1980]
["00229-004","StoColor Rapid weiss (белая)","DE","интерьер","краска","акрил",2,1,"matt","2,5","л","Ведро",0.13,0.3,"л/м²",{"$f":"VLOOKUP($A80,'Изменение прайс-листа'!$A$2:$E$798,4,FALSE)","v":1742},2090.4,271.75200000000001,5226,null,0,0,0,null,null,72,270.36,2376]
["00229-087","StoColor Rapid getönt (колерованная) С 1","DE","интерьер","краска","акрил",2,1,"matt","2,5","л","Ведро",0.13,0.3,"л/м²",{"$f":"P80+'7. Надбавки'!$C$6","v":1816},2179.1999999999998,283.29599999999999,5448,null,0,0,0,null,null,72,270.36,2376]
["08011-004","StoColor Rapid Satin weiss (белая)","DE","интерьер","краска","акрил",1,1,"satin",15,"л","Ведро",0.13,0.3,"л/м²",{"$f":"VLOOKUP($A82,'Изменение прайс-листа'!$A$2:$E$798,4,FALSE)","v":1188},1425.6,185.328,21384,null,0,0,0,null,null,24,534.96,792,"проверенная на отсутствие вредных примесей, дисперсионная шелковисто-глянцевая краска с высокой укрывистостью. Однослойная, очень высокая степень белизны. Устойчива к мытью, не содержит растворителей и пластификаторов, с очень слабой эммисией вредных веществ, имеет сертификат TÜV как безвредный продукт. Не содержит субстанций, способствующих образованию \"черных пятен\" (отложение копоти и пыли на стенах)."]
["08011-009","StoColor Rapid Satin getönt (колерованная) C1","DE","интерьер","краска","акрил",1,1,"satin",15,"л","Ведро",0.13,0.3,"л/м²",{"$f":"P82+'7. Надбавки'!$C$6","v":1262},1514.3999999999999,196.87199999999999,22715.999999999996,null,0,0,0,null,null,24,534.96,792]
["08011-003","StoColor Rapid Satin weiss (белая)","DE","интерьер","краска","акрил",1,1,"satin","10","л","Ведро",0.13,0.3,"л/м²",{"$f":"VLOOKUP($A84,'Изменение прайс-листа'!$A$2:$E$798,4,FALSE)","v":1334},1600.8,208.10400000000001,16008,null,0,0,0,null,null,27,401.76000000000005,891]
["08011-008","StoColor Rapid Satin getönt (колерованная) C1","DE","интерьер","краска","акрил",1,1,"satin","10","л","Ведро",0.13,0.3,"л/м²",{"$f":"P84+'7. Надбавки'!$C$6","v":1408},1689.6,219.648,16896,null,0,0,0,null,null,27,401.76000000000005,891]
["08011-002","StoColor Rapid Satin weiss (белая)","DE","интерьер","краска","акрил",1,1,"satin","5","л","Ведро",0.13,0.3,"л/м²",{"$f":"VLOOKUP($A86,'Изменение прайс-листа'!$A$2:$E$798,4,FALSE)","v":1452},1742.3999999999999,226.512,8712,null,0,0,0,null,null,60,446.40000000000003,1980]
["08011-007","StoColor Rapid Satin getönt (колерованная) C1","DE","интерьер","краска","акрил",1,1,"satin",5,"л","Ведро",0.13,0.3,"л/м²",{"$f":"P86+'7. Надбавки'!$C$6","v":1526},1831.2,238.05600000000001,9156,null,0,0,0,null,null,60,446.40000000000003,1980]
["08109-004","StoColor Rapid Ultramatt weiss (белая)","DE","интерьер","краска","акрил",2,1,"stumpfmatt","15","л","Ведро",0.13,0.3,"л/м²",{"$f":"VLOOKUP($A88,'Изменение прайс-листа'!$A$2:$E$798,4,FALSE)","v":946},1135.2,147.57600000000002,17028,null,0,0,0,"●","●",24,552.24,792,"дисперсионная краска для сложных поверхностей с добавлением силиконовой эмульсии, с увеличенным временем высыхания. Предназначена для окрашивания сложноосвещенных поверхностей (\"косой свет\"). Глубоко матовая, имеет ограниченный спектр колеровки, высокая степень белизны. Имеет сертификат TÜV как безвредный продукт, класс укрывистости -1."]
["08109-008","StoColor Rapid Ultramatt getönt   (колерованная) С 1","DE","интерьер","краска","акрил",2,1,"stumpfmatt","15","л","Ведро",0.13,0.3,"л/м²",{"$f":"P88+'7. Надбавки'!$C$6","v":1020},1224,159.12,18360,null,0,0,0,null,null,24,552.24,792]
["08109-003","StoColor Rapid Ultramatt weiss (белая)","DE","интерьер","краска","акрил",2,1,"stumpfmatt","10","л","Ведро",0.13,0.3,"л/м²",{"$f":"VLOOKUP($A90,'Изменение прайс-листа'!$A$2:$E$798,4,FALSE)","v":1034},1240.8,161.304,12408,null,0,0,0,"●",null,27,414.71999999999997,891]
["08109-007","StoColor Rapid Ultramatt getönt  (колерованная) С 1","DE","интерьер","краска","акрил",2,1,"stumpfmatt",10,"л","Ведро",0.13,0.3,"л/м²",{"$f":"P90+'7. Надбавки'!$C$6","v":1108},1329.6,172.84799999999998,13296,null,0,0,0,null,null,27,414.71999999999997,891]
["08109-002","StoColor Rapid Ultramatt weiss (белая)","DE","интерьер","краска","акрил",2,1,"stumpfmatt",5,"л","Ведро",0.13,0.3,"л/м²",{"$f":"VLOOKUP($A92,'Изменение прайс-листа'!$A$2:$E$798,4,FALSE)","v":1158},1389.6,180.648,6948,null,0,0,0,"●",null,60,460.79999999999995,1980]
["08109-006","StoColor Rapid Ultramatt getönt   (колерованная) С 1","DE","интерьер","краска","акрил",2,1,"stumpfmatt","5","л","Ведро",0.13,0.3,"л/м²",{"$f":"P92+'7. Надбавки'!$C$6","v":1232},{"$f":"P93*1.2","v":1478.3999999999999},{"$f":"Q93*M93","v":192.19199999999998},{"$f":"Q93*J93","v":7391.9999999999991},null,{"$f":"T93*S93","v":0},0,0,null,null,60,460.79999999999995,1980]
["08109-001","StoColor Rapid Ultramatt weiss (белая)","DE","интерьер","краска","акрил",2,1,"stumpfmatt","2,5","л","Ведро",0.13,0.3,"л/м²",{"$f":"VLOOKUP($A94,'Изменение прайс-листа'!$A$2:$E$798,4,FALSE)","v":1764},2116.7999999999997,275.18399999999997,5291.9999999999991,null,0,0,0,"●",null,72,277.2,2376]
["08109-005","StoColor Rapid Ultramatt getönt  (колерованная) С 1","DE","интерьер","краска","акрил",2,1,"stumpfmatt","2,5","л","Ведро",0.13,0.3,"л/м²",{"$f":"P94+'7. Надбавки'!$C$6","v":1838},2205.6,286.72800000000001,5514,null,0,0,0,null,null,72,277.2,2376]
["00024-001","StoColor Opticryl Matt weiss (белая)","DE","интерьер","краска","акрил",1,2,"matt","15","л","Ведро",0.13,0.3,"л/м²",{"$f":"VLOOKUP($A96,'Изменение прайс-листа'!$A$2:$E$798,4,FALSE)","v":1174},1408.8,183.14400000000001,21132,null,0,0,0,"●","●",24,559.43999999999994,768,"Opticryl Matt. Серия акриловых дисперсионных красок. Устойчивы к механическим воздействиям, имеют сертификат TÜV как безвредный продукт. Очень тонкая структура, идеально подходят для окрашивания рельефной поверхности, колеруются в широкий спектр цветов. Матовая краска из серии латексных дисперсионных красок Opticryl. Тонкослойная (не забивает структуру), не содержит эмиссий и растворителей, класс укрывистости - 2."]
["00024-002","StoColor Opticryl Matt getönt (колерованная) С1","DE","интерьер","краска","акрил",1,2,"matt","15","л","Ведро",0.13,0.3,"л/м²",{"$f":"P96+'7. Надбавки'!$C$6","v":1248},1497.6,194.68799999999999,22464,null,0,0,0,null,null,24,559.43999999999994,768]
["00024-005","StoColor Opticryl Matt weiss (белая)","DE","интерьер","краска","акрил",1,2,"matt","10","л","Ведро",0.13,0.3,"л/м²",{"$f":"VLOOKUP($A98,'Изменение прайс-листа'!$A$2:$E$798,4,FALSE)","v":1276},1531.2,199.05600000000001,15312,null,0,0,0,"●",null,27,420.12,891]
["00024-008","StoColor Opticryl Matt getönt (колерованная) С1","DE","интерьер","краска","акрил",1,2,"matt","10","л","Ведро",0.13,0.3,"л/м²",{"$f":"P98+'7. Надбавки'!$C$6","v":1350},1620,210.6,16200,null,0,0,0,null,null,27,420.12,891]
["00024-004","StoColor Opticryl Matt weiss (белая)","DE","интерьер","краска","акрил",1,2,"matt","5","л","Ведро",0.13,0.3,"л/м²",{"$f":"VLOOKUP($A100,'Изменение прайс-листа'!$A$2:$E$798,4,FALSE)","v":1410},1692,219.96,8460,null,0,0,0,"●",null,60,468.29999999999995,1980]
["00024-007","StoColor Opticryl Matt getönt (колерованная) С1","DE","интерьер","краска","акрил",1,2,"matt","5","л","Ведро",0.13,0.3,"л/м²",{"$f":"P100+'7. Надбавки'!$C$6","v":1484},1780.8,231.50399999999999,8904,null,0,0,0,null,null,60,468.29999999999995,1980]
["00024-003","StoColor Opticryl Matt weiss (белая)","DE","интерьер","краска","акрил",1,2,"matt","2,5","л","Ведро",0.13,0.3,"л/м²",{"$f":"VLOOKUP($A102,'Изменение прайс-листа'!$A$2:$E$798,4,FALSE)","v":1860},2232,290.16000000000003,5580,null,0,0,0,"●",null,72,285.33600000000001,2376]
["00024-006","StoColor Opticryl Matt getönt (колерованная) С1","DE","интерьер","краска","акрил",1,2,"matt","2,5","л","Ведро",0.13,0.3,"л/м²",{"$f":"P102+'7. Надбавки'!$C$6","v":1934},2320.7999999999997,301.70399999999995,5801.9999999999991,null,0,0,0,null,null,72,285.33600000000001,2376]
["00028-001","StoColor Opticryl Satin weiss (белая)","DE","интерьер","краска","акрил",1,2,"satin","15","л","Ведро",0.13,0.3,"л/м²",{"$f":"VLOOKUP($A104,'Изменение прайс-листа'!$A$2:$E$798,4,FALSE)","v":2028},2433.6,316.36799999999999,36504,null,0,0,0,"●",null,24,541.43999999999994,792,"Opticryl Satin. Шелковисто-глянцевая краска, из серии латексных дисперсионных красок Opticryl. Тонкослойная (не забивает структуру), не содержит эмиссий и растворителей, класс укрывистости - 2. Отлично подходит для поверхностей, подвергающихся интенсивной чистке."]
["00028-002","StoColor Opticryl Satin getönt (колерованная) С1","DE","интерьер","краска","акрил",1,2,"satin","15","л","Ведро",0.13,0.3,"л/м²",{"$f":"P104+'7. Надбавки'!$C$6","v":2102},2522.4,327.91200000000003,37836,null,0,0,0,null,null,24,541.43999999999994,792]
["00028-005","StoColor Opticryl Satin weiss (белая)","DE","интерьер","краска","акрил",1,2,"satin","10","л","Ведро",0.13,0.3,"л/м²",{"$f":"VLOOKUP($A106,'Изменение прайс-листа'!$A$2:$E$798,4,FALSE)","v":2214},2656.7999999999997,345.38399999999996,26567.999999999996,null,0,0,0,null,null,27,406.62,891]
["00028-008","StoColor Opticryl Satin getönt (колерованная) С1","DE","интерьер","краска","акрил",1,2,"satin","10","л","Ведро",0.13,0.3,"л/м²",{"$f":"P106+'7. Надбавки'!$C$6","v":2288},2745.6,356.928,27456,null,0,0,0,null,null,27,406.62,891]
["00028-004","StoColor Opticryl Satin weiss (белая)","DE","интерьер","краска","акрил",1,2,"satin","5","л","Ведро",0.13,0.3,"л/м²",{"$f":"VLOOKUP($A108,'Изменение прайс-листа'!$A$2:$E$798,4,FALSE)","v":2306},2767.2,359.73599999999999,13836,null,0,0,0,null,null,60,451.8,1980]
["00028-007","StoColor Opticryl Satin getönt (колерованная) С1","DE","интерьер","краска","акрил",1,2,"satin","5","л","Ведро",0.13,0.3,"л/м²",{"$f":"P108+'7. Надбавки'!$C$6","v":2380},2856,371.28000000000003,14280,null,0,0,0,null,null,60,451.8,1980]
["00028-003","StoColor Opticryl Satin weiss (белая)","DE","интерьер","краска","акрил",1,2,"satin","2,5","л","Ведро",0.13,0.3,"л/м²",{"$f":"VLOOKUP($A110,'Изменение прайс-листа'!$A$2:$E$798,4,FALSE)","v":2802},3362.4,437.11200000000002,8406,null,0,0,0,null,null,72,276.33600000000001,2376]
["00028-006","StoColor Opticryl Satin getönt (колерованная) С1","DE","интерьер","краска","акрил",1,2,"satin","2,5","л","Ведро",0.13,0.3,"л/м²",{"$f":"P110+'7. Надбавки'!$C$6","v":2876},3451.2,448.65600000000001,8628,null,0,0,0,null,null,72,276.33600000000001,2376]
["00026-001","Sto Color Opticryl Satinmatt weiss (белая)                         ","DE","интерьер","краска","акрил",1,2,"satinmatt","15","л","Ведро",0.13,0.3,"л/м²",{"$f":"VLOOKUP($A112,'Изменение прайс-листа'!$A$2:$E$798,4,FALSE)","v":1326},1591.2,206.85600000000002,23868,null,0,0,0,"●","●",24,518.04,792,"Opticryl Satinmatt. Шелковисто-матовая краска, из серии латексных дисперсионных красок Opticryl. Тонкослойная (не забивает структуру), не содержит эмиссий и растворителей, класс укрывистости - 2."]
["00026-002","StoColor Opticryl Satinmatt  getönt (колерованная) С1","DE","интерьер","краска","акрил",1,2,"satinmatt","15","л","Ведро",0.13,0.3,"л/м²",{"$f":"P112+'7. Надбавки'!$C$6","v":1400},1680,218.4,25200,null,0,0,0,null,null,24,518.04,792]
["00026-005","StoColor Opticryl Satinmatt weiss (белая)","DE","интерьер","краска","акрил",1,2,"satinmatt","10","л","Ведро",0.13,0.3,"л/м²",{"$f":"VLOOKUP($A114,'Изменение прайс-листа'!$A$2:$E$798,4,FALSE)","v":1434},1720.8,223.70400000000001,17208,null,0,0,0,"●",null,27,389.07,891]
["00026-008","StoColor Opticryl Satinmatt  getönt (колерованная) С1","DE","интерьер","краска","акрил",1,2,"satinmatt","10","л","Ведро",0.13,0.3,"л/м²",{"$f":"P114+'7. Надбавки'!$C$6","v":1508},1809.6,235.24799999999999,18096,null,0,0,0,null,null,27,389.07,891]
["00026-004","StoColor Opticryl Satinmatt weiss (белая)","DE","интерьер","краска","акрил",1,2,"satinmatt","5","л","Ведро",0.13,0.3,"л/м²",{"$f":"VLOOKUP($A116,'Изменение прайс-листа'!$A$2:$E$798,4,FALSE)","v":1570},1884,244.92000000000002,9420,null,0,0,0,"●",null,60,433.8,1980]
["00026-007","StoColor Opticryl Satinmatt  getönt (колерованная) С1","DE","интерьер","краска","акрил",1,2,"satinmatt","5","л","Ведро",0.13,0.3,"л/м²",{"$f":"P116+'7. Надбавки'!$C$6","v":1644},1972.8,256.464,9864,null,0,0,0,null,null,60,433.8,1980]
["00026-003","StoColor Opticryl Satinmatt weiss (белая)","DE","интерьер","краска","акрил",1,2,"satinmatt","2,5","л","Ведро",0.13,0.3,"л/м²",{"$f":"VLOOKUP($A118,'Изменение прайс-листа'!$A$2:$E$798,4,FALSE)","v":2018},2421.6,314.80799999999999,6054,null,0,0,0,"●",null,72,264.59999999999997,2376]
["00026-006","StoColor Opticryl Satinmatt  getönt (колерованная) С1","DE","интерьер","краска","акрил",1,2,"satinmatt","2,5","л","Ведро",0.13,0.3,"л/м²",{"$f":"P118+'7. Надбавки'!$C$6","v":2092},2510.4,326.35200000000003,6276,null,0,0,0,null,null,72,264.59999999999997,2376]
[null,null,null,null,null,null,null,null,null,null,null,null,null,null,null,{"$f":"VLOOKUP($A120,'Изменение прайс-листа'!$A$2:$E$798,4,FALSE)","v":{"$error":"#N/A"}},null,null,null,null,null,{"$error":"#DIV/0!"},{"$error":"#DIV/0!"}]
[null,null,null,null,null,null,null,null,null,null,null,null,null,null,null,{"$f":"VLOOKUP($A121,'Изменение прайс-листа'!$A$2:$E$798,4,FALSE)","v":{"$error":"#N/A"}},null,null,null,null,null,{"$error":"#DIV/0!"},{"$error":"#DIV/0!"}]
[null,null,null,null,null,null,null,null,null,null,null,null,null,null,null,{"$f":"VLOOKUP($A122,'Изменение прайс-листа'!$A$2:$E$798,4,FALSE)","v":{"$error":"#N/A"}},null,null,null,null,null,{"$error":"#DIV/0!"},{"$error":"#DIV/0!"}]
[null,null,null,null,null,null,null,null,null,null,null,null,null,null,null,{"$f":"VLOOKUP($A123,'Изменение прайс-листа'!$A$2:$E$798,4,FALSE)","v":{"$error":"#N/A"}},null,null,null,null,null,{"$error":"#DIV/0!"},{"$error":"#DIV/0!"}]
[null,null,null,null,null,null,null,null,null,null,null,null,null,null,null,{"$f":"VLOOKUP($A124,'Изменение прайс-листа'!$A$2:$E$798,4,FALSE)","v":{"$error":"#N/A"}},null,null,null,null,null,{"$error":"#DIV/0!"},{"$error":"#DIV/0!"}]
[null,null,null,null,null,null,null,null,null,null,null,null,null,null,null,{"$f":"VLOOKUP($A125,'Изменение прайс-листа'!$A$2:$E$798,4,FALSE)","v":{"$error":"#N/A"}},null,null,null,null,null,{"$error":"#DIV/0!"},{"$error":"#DIV/0!"}]
[null,null,null,null,null,null,null,null,null,null,null,null,null,null,null,{"$f":"VLOOKUP($A126,'Изменение прайс-листа'!$A$2:$E$798,4,FALSE)","v":{"$error":"#N/A"}},null,null,null,null,null,{"$error":"#DIV/0!"},{"$error":"#DIV/0!"}]
[null,null,null,null,null,null,null,null,null,null,null,null,null,null,null,{"$f":"VLOOKUP($A127,'Изменение прайс-листа'!$A$2:$E$798,4,FALSE)","v":{"$error":"#N/A"}},null,null,null,null,null,{"$error":"#DIV/0!"},{"$error":"#DIV/0!"}]
["00030-001","StoColor Opticryl Gloss weiss (белая)","DE","интерьер","краска","акрил",1,2,"gloss","15","л","Ведро",0.13,0.3,"л/м²",{"$f":"VLOOKUP($A128,'Изменение прайс-листа'!$A$2:$E$798,4,FALSE)","v":2184},{"$f":"P128*1.2","v":2620.7999999999997},{"$f":"Q128*M128","v":340.70399999999995},{"$f":"Q128*J128","v":39311.999999999993},null,{"$f":"T128*S128","v":0},0,0,null,null,24,503.64,792,"Opticryl Gloss. Глянцевая краска из серии латексных дисперсионных красок Opticryl. Тонкослойная (не забивает структуру), не содержит эмиссий и растворителей, класс укрывистости - 2. Подходит для экстремально нагружаемых поверхностей."]
["00030-002","StoColor Opticryl Gloss getönt (колерованная) С1","DE","интерьер","краска","акрил",1,2,"gloss","15","л","Ведро",0.13,0.3,"л/м²",{"$f":"P128+'7. Надбавки'!$C$6","v":2258},2709.6,352.24799999999999,40644,null,0,0,0,null,null,24,503.64,792]
["00030-005","StoColor Opticryl Gloss weiss (белая)","DE","интерьер","краска","акрил",1,2,"gloss","10","л","Ведро",0.13,0.3,"л/м²",{"$f":"VLOOKUP($A130,'Изменение прайс-листа'!$A$2:$E$798,4,FALSE)","v":2374},2848.7999999999997,370.34399999999999,28487.999999999996,null,0,0,0,null,null,27,378.27,891]
["00030-008","StoColor Opticryl Gloss getönt (колерованная) С1","DE","интерьер","краска","акрил",1,2,"gloss","10","л","Ведро",0.13,0.3,"л/м²",{"$f":"P130+'7. Надбавки'!$C$6","v":2448},2937.6,381.88799999999998,29376,null,0,0,0,null,null,27,378.27,891]
["00030-004","StoColor Opticryl Gloss weiss (белая)","DE","интерьер","краска","акрил",1,2,"gloss","5","л","Ведро",0.13,0.3,"л/м²",{"$f":"VLOOKUP($A132,'Изменение прайс-листа'!$A$2:$E$798,4,FALSE)","v":2468},2961.6,385.00799999999998,14808,null,0,0,0,null,null,60,420.3,1980]
["00030-007","StoColor Opticryl Gloss getönt (колерованная) С1","DE","интерьер","краска","акрил",1,2,"gloss","5","л","Ведро",0.13,0.3,"л/м²",{"$f":"P132+'7. Надбавки'!$C$6","v":2542},3050.4,396.55200000000002,15252,null,0,0,0,null,null,60,420.3,1980]
["00030-003","StoColor Opticryl Gloss weiss (белая)","DE","интерьер","краска","акрил",1,2,"gloss","2,5","л","Ведро",0.13,0.3,"л/м²",{"$f":"VLOOKUP($A134,'Изменение прайс-листа'!$A$2:$E$798,4,FALSE)","v":2964},3556.7999999999997,462.38399999999996,8892,null,0,{"$f":"ROUNDUP(AA134/Z134*T134,0)","v":0},{"$f":"T134/Z134","v":0},null,null,72,257.40000000000003,2376]
["00030-006","StoColor Opticryl Gloss getönt (колерованная) С1","DE","интерьер","краска","акрил",1,2,"gloss","2,5","л","Ведро",0.13,0.3,"л/м²",{"$f":"P134+'7. Надбавки'!$C$6","v":3038},3645.6,473.928,9114,null,0,0,0,null,null,72,257.40000000000003,2376]
["00097-002","StoColor Titanium weiss (белая) ","DE","интерьер","краска","акрил",1,1,"matt","15","л","Ведро",0.14000000000000001,0.34,"л/м²",{"$f":"VLOOKUP($A136,'Изменение прайс-листа'!$A$2:$E$798,4,FALSE)","v":1552},1862.3999999999999,260.73599999999999,27935.999999999996,null,0,0,0,"●","●",24,554.04,768,"особо устойчивая дисперсионная краска. ослепительно белая, глубоко матовая, тонкослойная. Имеет сертификат TÜV как безвредный продукт. Колеруется в широкий спектр цветов, класс укрывистости - 1. "]
["00097-004","StoColor Titanium getönt (колерованная) C1","DE","интерьер","краска","акрил",1,1,"matt","15","л","Ведро",0.14000000000000001,0.34,"л/м²",{"$f":"P136+'7. Надбавки'!$C$6","v":1626},1951.1999999999998,273.16800000000001,29267.999999999996,null,0,0,0,null,null,24,554.04,768]
["00097-001","StoColor Titanium weiss (белая)","DE","интерьер","краска","акрил",1,1,"matt","10","л","Ведро",0.14000000000000001,0.34,"л/м²",{"$f":"VLOOKUP($A138,'Изменение прайс-листа'!$A$2:$E$798,4,FALSE)","v":1736},2083.1999999999998,291.64800000000002,20832,null,0,0,0,"●",null,27,416.07,891]
["00097-003","StoColor Titanium getönt (колерованная) C1","DE","интерьер","краска","акрил",1,1,"matt","10","л","Ведро",0.14000000000000001,0.34,"л/м²",{"$f":"P138+'7. Надбавки'!$C$6","v":1810},2172,304.08000000000004,21720,null,0,0,0,null,null,27,416.07,891]
["00097-020","StoColor Titanium ASE getönt (колерованная)","DE","интерьер","краска","акрил",1,1,"matt","15","л","Ведро",0.14000000000000001,0.34,"л/м²",{"$f":"VLOOKUP($A140,'Изменение прайс-листа'!$A$2:$E$798,4,FALSE)","v":1974},2368.7999999999997,331.63200000000001,35531.999999999993,null,0,0,0,"●",null,24,554.04,768,"Уникальный продукт! специальная дисперсионная краска для насыщенных тонов со сниженным \"эффектом письма\". При колеровке в пастельные тона обладает свойствами матовой, хорошо моющейся краски"]
["00097-021","StoColor Titanium ASE getönt (колерованная)","DE","интерьер","краска","акрил",1,1,"matt","5","л","Ведро",0.14000000000000001,0.34,"л/м²",{"$f":"VLOOKUP($A141,'Изменение прайс-листа'!$A$2:$E$798,4,FALSE)","v":2218},2661.6,372.62400000000002,13308,null,0,0,0,"●",null,60,462.3,1980]
["02990-001","StoColor Climasan weiss (белая)","DE","интерьер","краска","акрил",2,1,"stumpfmatt","15","л","Ведро",0.14000000000000001,0.34,"л/м²",{"$f":"VLOOKUP($A142,'Изменение прайс-листа'!$A$2:$E$798,4,FALSE)","v":2662},3194.4,447.21600000000007,47916,null,0,0,0,null,null,24,522.36,792,"Уникальный продукт! активная краска для внутренних работ, очищающая воздух под воздействием света. Фотокаталитический принцип действия обеспечивает устранение из воздуха вредных веществ и неприятных запахов. Краска имеет матовую поверхность, обладает высокой степенью укрывитости и наносится в один слой. Не содержит растворителей и пластификаторов, характеризуется крайне низкой эмиссией вредных веществ. Имеет сертификат TÜV, не содержит субстанций, вызывающих эффект потемнения."]
["02990-004","StoColor Climasan getönt (колерованная) С1","DE","интерьер","краска","акрил",2,"н/д","stumpfmatt","15","л","Ведро",0.14000000000000001,0.34,"л/м²",{"$f":"P142+'7. Надбавки'!$C$6","v":2736},3283.2,459.64800000000002,49248,null,0,0,0,null,null,24,522.36,792]
["02990-007","StoColor Climasan weiss (белая)","DE","интерьер","краска","акрил",2,1,"stumpfmatt","5","л","Ведро",0.14000000000000001,0.34,"л/м²",{"$f":"VLOOKUP($A144,'Изменение прайс-листа'!$A$2:$E$798,4,FALSE)","v":2960},3552,497.28000000000003,17760,null,0,0,0,null,null,60,437.4,1980]
["02990-008","StoColor Climasan getönt (колерованная) С1","DE","интерьер","краска","акрил",2,"н/д","stumpfmatt","5","л","Ведро",0.14000000000000001,0.34,"л/м²",{"$f":"P144+'7. Надбавки'!$C$6","v":3034},3640.7999999999997,509.71199999999999,18204,null,0,0,0,null,null,60,437.4,1980]
["09378-002","StoColor Supermatt weiss (белый)","DE","интерьер","краска","силикон",1,2,"stumpfmatt","15","л","Ведро",0.12,0.3,"л/м²",{"$f":"VLOOKUP($A146,'Изменение прайс-листа'!$A$2:$E$798,4,FALSE)","v":1348},1617.6,194.11199999999999,24264,null,0,0,0,"●","●",24,572.16,744,"экстремально матовая силиконовая краска для внутренних работ. Идеально подходит для больших площадей, не \"полосит\""]
["09378-001","StoColor Supermatt getönt (колерованная) C1","DE","интерьер","краска","силикон",1,2,"stumpfmatt","15","л","Ведро",0.12,0.3,"л/м²",{"$f":"P146+'7. Надбавки'!$C$6","v":1422},1706.3999999999999,204.76799999999997,25595.999999999996,null,0,0,0,null,null,24,572.16,744]
["09378-004","StoColor Supermatt weiss (белый)","DE","интерьер","краска","силикон",1,2,"stumpfmatt","5","л","Ведро",0.12,0.3,"л/м²",{"$f":"VLOOKUP($A148,'Изменение прайс-листа'!$A$2:$E$798,4,FALSE)","v":1808},2169.6,260.35199999999998,10848,null,0,0,0,"●",null,60,479.7,1980]
["09378-003","StoColor Supermatt getönt (колерованная) C1","DE","интерьер","краска","силикон",1,2,"stumpfmatt","5","л","Ведро",0.12,0.3,"л/м²",{"$f":"P148+'7. Надбавки'!$C$6","v":1882},{"$f":"P149*1.2","v":2258.4},{"$f":"Q149*M149","v":271.00799999999998},{"$f":"Q149*J149","v":11292},null,0,0,0,null,null,60,479.7,1980]
["00292-001","StoColor Sil Mineral weiss (белая)","DE","интерьер","краска","силикат",3,2,"stumpfmatt","15","л","Ведро",0.17,0.34,"л/м²",{"$f":"VLOOKUP($A150,'Изменение прайс-листа'!$A$2:$E$798,4,FALSE)","v":794},{"$f":"P150*1.2","v":952.8},{"$f":"Q150*M150","v":161.976},{"$f":"Q150*J150","v":14292},null,{"$f":"T150*S150","v":0},0,0,null,null,24,582.84,744,"экологически чистая, силикатная краска. Имеет сертификат TÜV как безвредный продукт. Предназначена для людей, особо ценящих экологическую чистоту в доме. Материал колеруется в ограниченный диапазон цветов, не содержит растворителей и пластификаторов, эмиссий вредных веществ и субстанций, вызывающих эффект потемнения.                                                                                                           "]
["00292-011","StoColor Sil Mineral  getönt  (колерованная) С 1","DE","интерьер","краска","силикат",3,2,"stumpfmatt",15,"л","Ведро",0.17,0.34,"л/м²",{"$f":"P150+'7. Надбавки'!$C$6","v":868},1041.5999999999999,177.072,15623.999999999998,null,0,0,0,null,null,24,582.84,744]
["00292-019","StoColor Sil Mineral weiss (белая)","DE","интерьер","краска","силикат",3,2,"stumpfmatt",10,"л","Ведро",0.17,0.34,"л/м²",{"$f":"VLOOKUP($A152,'Изменение прайс-листа'!$A$2:$E$798,4,FALSE)","v":984},1180.8,200.73600000000002,11808,null,0,0,0,null,null,27,438.47999999999996,891]
["00292-020","StoColor Sil Mineral  getönt (колерованная) С 1","DE","интерьер","краска","силикат",3,2,"stumpfmatt","10","л","Ведро",0.17,0.34,"л/м²",{"$f":"P152+'7. Надбавки'!$C$6","v":1058},1269.5999999999999,215.83199999999999,12696,null,0,0,0,null,null,27,438.47999999999996,891]
["00292-025","StoColor Sil Mineral weiss (белая)","DE","интерьер","краска","силикат",3,2,"stumpfmatt","5","л","Ведро",0.17,0.34,"л/м²",{"$f":"VLOOKUP($A154,'Изменение прайс-листа'!$A$2:$E$798,4,FALSE)","v":1068},1281.5999999999999,217.87200000000001,6408,null,0,0,0,null,null,60,487.19999999999993,1980]
["00292-026","Sto Color Sil Mineral  getönt (колерованная) С 1","DE","интерьер","краска","силикат",3,2,"stumpfmatt","5","л","Ведро",0.17,0.34,"л/м²",{"$f":"P154+'7. Надбавки'!$C$6","v":1142},1370.3999999999999,232.96799999999999,6851.9999999999991,null,0,0,0,null,null,60,487.19999999999993,1980]
["09547-004","StoColor Sil Comfort weiss (белая)","DE","интерьер","краска","силикат",2,2,"matt","15","л","Ведро",0.13,0.3,"л/м²",{"$f":"VLOOKUP($A156,'Изменение прайс-листа'!$A$2:$E$798,4,FALSE)","v":1144},1372.8,178.464,20592,null,0,0,0,null,null,24,559.43999999999994,768,"высококачественная силикатная краска для внутренних работ"]
["09547-003","StoColor Sil Comfort  getönt (колерованная) С 1","DE","интерьер","краска","силикат",2,2,"matt","15","л","Ведро",0.13,0.3,"л/м²",{"$f":"P156+'7. Надбавки'!$C$6","v":1218},1461.6,190.00799999999998,21924,null,0,0,0,null,null,24,559.43999999999994,768]
["00206-006","StoColor Sil In weiss (белая)","DE","интерьер","краска","силикат",2,1,"matt","15","л","Ведро",0.12,0.28000000000000003,"л/м²",{"$f":"VLOOKUP($A158,'Изменение прайс-листа'!$A$2:$E$798,4,FALSE)","v":1134},1360.8,163.29599999999999,20412,null,0,0,0,null,null,24,572.04,744,"силикатная краска для внутренних работ. Абсолютно экологически чистый, натуральный материал, имеет сертификат TÜV как безвредный продукт и сертификат Nature plus как особо натуральный продукт. Имеет высокую степень белизны и глубоко матовую поверхность, ограниченный спектр по колеровке."]
["00206-044","StoColor Sil In  getönt (колерованная) C1","DE","интерьер","краска","силикат",2,1,"matt","15","л","Ведро",0.12,0.28000000000000003,"л/м²",{"$f":"P158+'7. Надбавки'!$C$6","v":1208},1449.6,173.95199999999997,21744,null,0,0,0,null,null,24,572.04,744]
["00206-004","StoColor Sil In weiss (белая)","DE","интерьер","краска","силикат",2,1,"matt","10","л","Ведро",0.12,0.28000000000000003,"л/м²",{"$f":"VLOOKUP($A160,'Изменение прайс-листа'!$A$2:$E$798,4,FALSE)","v":1224},1468.8,176.256,14688,null,0,0,0,null,null,27,429.57,891]
["00206-052","StoColor Sil In getönt (колерованная) C1","DE","интерьер","краска","силикат",2,1,"matt","10","л","Ведро",0.12,0.28000000000000003,"л/м²",{"$f":"P160+'7. Надбавки'!$C$6","v":1298},1557.6,186.91199999999998,15576,null,0,0,0,null,null,27,429.57,891]
["00206-012","StoColor Sil In weiss (белая)","DE","интерьер","краска","силикат",2,1,"matt","5","л","Ведро",0.12,0.28000000000000003,"л/м²",{"$f":"VLOOKUP($A162,'Изменение прайс-листа'!$A$2:$E$798,4,FALSE)","v":1406},1687.2,202.464,8436,null,0,0,0,null,null,60,477.3,1980]
["00206-057","StoColor Sil In getönt (колерованная) C1","DE","интерьер","краска","силикат",2,1,"matt","5","л","Ведро",0.12,0.28000000000000003,"л/м²",{"$f":"P162+'7. Надбавки'!$C$6","v":1480},1776,213.12,8880,null,0,0,0,null,null,60,477.3,1980]
["00206-075","StoColor Sil In weiss (белая)","DE","интерьер","краска","силикат",2,1,"matt","2,5","л","Ведро",0.12,0.28000000000000003,"л/м²",{"$f":"VLOOKUP($A164,'Изменение прайс-листа'!$A$2:$E$798,4,FALSE)","v":1904},2284.7999999999997,274.17599999999993,5711.9999999999991,null,0,0,0,null,null,72,286.38,2376]
["00206-086","StoColor Sil In getönt (колерованная) C1","DE","интерьер","краска","силикат",2,1,"matt","2,5","л","Ведро",0.12,0.28000000000000003,"л/м²",{"$f":"P164+'7. Надбавки'!$C$6","v":1978},2373.6,284.83199999999999,5934,null,0,0,0,null,null,72,286.38,2376]
["00199-004","StoColor Sil Premium weiß","DE","интерьер","краска","силикат",1,1,"stumpfmatt","15","л","Ведро",0.12,0.28000000000000003,"л/м²",{"$f":"VLOOKUP($A166,'Изменение прайс-листа'!$A$2:$E$798,4,FALSE)","v":1194},1432.8,171.93599999999998,21492,null,{"$f":"T166*S166","v":0},0,0,null,null,24,559.43999999999994,768,"Уникальный продукт! Силикатная краска, имеющая 1-й класс влажного истирания и укрывистости. Натуральный материал, не содержит пластификаторов и вредных добавок, хорошо подходит для людей, страдающих аллергическими реакциями."]
["00199-003","StoColor Sil Premium getönt   (колерованная) С 1","DE","интерьер","краска","силикат",1,1,"stumpfmatt","15","л","Ведро",0.12,0.28000000000000003,"л/м²",{"$f":"P166+'7. Надбавки'!$C$6","v":1268},1521.6,182.59199999999998,22824,null,0,0,0,null,null,24,559.43999999999994,768]
["00199-010","StoColor Sil Premium weiß","DE","интерьер","краска","силикат",1,1,"stumpfmatt","5","л","Ведро",0.12,0.28000000000000003,"л/м²",{"$f":"VLOOKUP($A168,'Изменение прайс-листа'!$A$2:$E$798,4,FALSE)","v":1426},1711.2,205.34399999999999,8556,null,0,0,0,null,null,60,466.2,1980]
["00199-009","StoColor Sil Premium getönt   (колерованная) С 1","DE","интерьер","краска","силикат",1,1,"stumpfmatt","5","л","Ведро",0.12,0.28000000000000003,"л/м²",{"$f":"P168+'7. Надбавки'!$C$6","v":1500},1800,216,9000,null,0,0,0,null,null,60,466.2,1980]
["00247-001","StoColor Calcetura natur (натуральный цвет)","DE","интерьер","краска","известь",3,3,"stumpfmatt","20","кг","Ведро",0.2,0.6,"кг/м²",{"$f":"VLOOKUP($A170,'Изменение прайс-листа'!$A$2:$E$798,4,FALSE)","v":540},{"$f":"P170*1.2","v":648},{"$f":"Q170*M170","v":129.6},{"$f":"Q170*J170","v":12960},null,{"$f":"T170*S170","v":0},0,0,null,null,24,495.84000000000003,792,"усиленная клеем известковая краска, минеральная, устойчивая к мытью. Хорошая укрывистость, высокая степень белизны, не содержит консервантов, натурально-белая."]
["00080/001","StoColor Puran Satin weiss (белая),                                   комплект из 2-х компонентов","DE","интерьер","краска","полиуретан",1,2,"satin",16.5,"кг","Комплект",0.15,0.4,"кг/м²",{"$f":"VLOOKUP($A171,'Изменение прайс-листа'!$A$2:$E$798,4,FALSE)","v":2236},2683.2,402.47999999999996,44272.799999999996,null,0,0,0,"●","●",24,420.55200000000002,792,"Уникальный продукт! двухкомпонентная полиуретановая краска с шелковисто-матовой поверхностью, может подвергаться обработке  дезактивирующими и дезинфицирующими веществами, 1-й класс устойчивости к влажному истиранию по евростандарту EN 13300. Подходит для использования в медицинских и других общественных заведениях"]
["00080/002","StoColor Puran Satin getönt (колерованная) С1,                                    комплект из 2-х компонентов","DE","интерьер","краска","полиуретан",1,2,"satin",16.5,"кг","Комплект",0.15,0.4,"кг/м²",{"$f":"P171+'7. Надбавки'!C5","v":2282},2738.4,410.76,45183.6,null,0,0,0,null,null,24,420.55200000000002,792]
["00200-011","StoColor Isol weiss (белая)","DE","интерьер","краска изолирующая","растворитель",2,2,"matt",12.5,"л","Ведро",0.13,0.3,"л/м²",{"$f":"VLOOKUP($A173,'Изменение прайс-листа'!$A$2:$E$798,4,FALSE)","v":4030},4836,628.68000000000006,60450,null,0,0,0,null,null,24,452.70000000000005,792,"матовая изолирующая краска на основе растворителя,  2-й класс укрывистости, 2-й класс устойчивости к влажному истиранию, высокая степень белизны, хорошая укрывистость, со слабым внутренним напряжением. Для нанесения на проблемные основания (например, пятна от никотина, копоти, воды)        "]
["00200-012","StoColor Isol getönt (колерованная) С1","DE","интерьер","краска изолирующая","растворитель",2,2,"matt",12.5,"л","Ведро",0.13,0.3,"л/м²",{"$f":"P173+'7. Надбавки'!$C$6","v":4104},4924.8,640.22400000000005,61560,null,0,0,0,null,null,24,452.70000000000005,792]
["00289-001","StoColor Isol W weiss (белая)","DE","интерьер","краска изолирующая","акрил",1,2,"matt",15,"л","Ведро",0.13,0.3,"л/м²",{"$f":"VLOOKUP($A175,'Изменение прайс-листа'!$A$2:$E$798,4,FALSE)","v":2002},2402.4,312.31200000000001,36036,null,0,0,0,null,null,24,476.64,792,"водная, изолирующая дисперсионная краска. Высокая степень белизны, 2-й класс влажного истирания, хорошая укрывистость, со слабым внутренним напряжением. Для нанесения на проблемные основания (например, пятна от никотина, копоти, места, пораженные лигнином)"]
["00289-013","StoColor Isol W getönt (колерованная) С1","DE","интерьер","краска изолирующая","акрил",1,2,"matt","15","л","Ведро",0.13,0.3,"л/м²",{"$f":"P175+'7. Надбавки'!$C$6","v":2076},2491.1999999999998,323.85599999999999,37368,null,0,0,0,null,null,24,476.64,792]
["00289-004","StoColor Isol W weiss (белая)","DE","интерьер","краска изолирующая","акрил",1,2,"matt","5","л","Ведро",0.13,0.3,"л/м²",{"$f":"VLOOKUP($A177,'Изменение прайс-листа'!$A$2:$E$798,4,FALSE)","v":2312},2774.4,360.67200000000003,13872,null,0,0,0,null,null,60,399.3,1980]
["00289-026","StoColor Isol W getönt (колерованная) С1","DE","интерьер","краска изолирующая","акрил",1,2,"matt",5,"л","Ведро",0.13,0.3,"л/м²",{"$f":"P177+'7. Надбавки'!$C$6","v":2386},2863.2,372.21600000000001,14316,null,0,0,0,null,null,60,399.3,1980]
["00300-001","StoLook Decor Fine 1 мм weiss (белое)","DE","интерьер","краска структурная","акрил","н/д","н/д","matt",21,"кг","Ведро",0.7,0.9,"кг/м²",{"$f":"VLOOKUP($A179,'Изменение прайс-листа'!$A$2:$E$798,4,FALSE)","v":610},732,512.4,15372,null,0,0,0,null,null,24,520.12800000000004,792,"мелкозернистое структурное покрытие, наносится методом набрызга"]
["00300-007","StoLook Decor Fine 1 мм getönt (колерованное)","DE","интерьер","краска структурная","акрил","н/д","н/д","matt",21,"кг","Ведро",0.7,0.9,"кг/м²",{"$f":"P179+'7. Надбавки'!$C$5","v":656},787.19999999999993,551.04,16531.199999999997,null,0,0,0,null,null,24,520.12800000000004,792]
["00302-001","StoLook Decor Medium 1,5 мм weiss (белое)","DE","интерьер","краска структурная","акрил","н/д","н/д","matt",21,"кг","Ведро",0.8,1,"кг/м²",{"$f":"VLOOKUP($A181,'Изменение прайс-листа'!$A$2:$E$798,4,FALSE)","v":610},732,585.6,15372,null,0,0,0,null,null,24,520.12800000000004,792,"среднезернистое структурное покрытие, наносится методом набрызга"]
["00302-005","StoLook Decor Medium 1,5 мм getönt (колерованное)","DE","интерьер","краска структурная","акрил","н/д","н/д","matt",21,"кг","Ведро",0.8,1,"кг/м²",{"$f":"P181+'7. Надбавки'!$C$5","v":656},787.19999999999993,629.76,16531.199999999997,null,0,0,0,null,null,24,520.12800000000004,792]
["00735-017","StoLook Decor Perl weiss (белое)","DE","интерьер","краска структурная","акрил","н/д","н/д","matt",16,"кг","Ведро",0.8,1,"кг/м²",{"$f":"VLOOKUP($A183,'Изменение прайс-листа'!$A$2:$E$798,4,FALSE)","v":704},844.8,675.84,13516.8,null,0,0,0,null,null,24,400.12800000000004,792,"матовое покрытие с эффектом \"рассыпавшихся шариков\", наносится методом набрызга"]
["00282-001","StoLook Struktur F weiss (белое)","DE","интерьер","краска структурная","акрил","н/д","н/д","matt",20,"кг","Ведро",0.3,1.5,"кг/м²",{"$f":"VLOOKUP($A184,'Изменение прайс-листа'!$A$2:$E$798,4,FALSE)","v":800},960,288,19200,null,0,0,0,null,null,24,495.84000000000003,792,"структурная краска с мелким наполнителем, подходит для создания различных декоративных покрытий различным инструментом, 2-й класс устойчивости к влажному истиранию (EN 13300)"]
["00282-002","StoLook Struktur F getönt (колерованное)","DE","интерьер","краска структурная","акрил","н/д","н/д","matt","20","кг","Ведро",0.3,1.5,"кг/м²",{"$f":"P184+'7. Надбавки'!$C$5","v":846},1015.1999999999999,304.55999999999995,20304,null,0,0,0,null,null,24,495.84000000000003,792]
["00282-005","StoLook Struktur F weiss (белое)","DE","интерьер","краска структурная","акрил","н/д","н/д","matt","10","кг","Ведро",0.3,1.5,"кг/м²",{"$f":"VLOOKUP($A186,'Изменение прайс-листа'!$A$2:$E$798,4,FALSE)","v":1050},1260,378,12600,null,0,0,0,null,null,27,282.42,792]
["00282-006","StoLook Struktur F getönt (колерованное)","DE","интерьер","краска структурная","акрил","н/д","н/д","matt","10","кг","Ведро",0.3,1.5,"кг/м²",{"$f":"P186+'7. Надбавки'!$C$5","v":1096},1315.2,394.56,13152,null,0,0,0,null,null,27,282.42,792]
["00571-001","StoLook Struktur G weiss (белое)","DE","интерьер","краска структурная","акрил","н/д","н/д","matt",20,"кг","Ведро",0.4,1.5,"кг/м²",{"$f":"VLOOKUP($A188,'Изменение прайс-листа'!$A$2:$E$798,4,FALSE)","v":800},960,384,19200,null,0,0,0,null,null,24,495.84000000000003,792,"структурная краска с крупным наполнителем, подходит для создания различных декоративных покрытий различным инстументом, 2-й класс устойчивости к влажному истиранию (EN 13300)"]
["00571-002","StoLook Struktur G getönt (колерованное)","DE","интерьер","краска структурная","акрил","н/д","н/д","matt",20,"кг","Ведро",0.4,1.5,"кг/м²",{"$f":"P188+'7. Надбавки'!$C$5","v":846},1015.1999999999999,406.08,20304,null,0,0,0,null,null,24,495.84000000000003,792]
["00317-001","StoLook Diamant ","DE","интерьер","лазурь","акрил",2,"transparent","matt",5,"л","Ведро",0.12,0.3,"л/м²",{"$f":"VLOOKUP($A190,'Изменение прайс-листа'!$A$2:$E$798,4,FALSE)","v":2412},2894.4,347.32799999999997,14472,null,0,0,0,null,null,60,318.29999999999995,1980,"прозрачное дисперс. покрытие с мелкими от-ражающими слюдяными хлопьями, 2-й класс устойчивости к влажному истиранию (EN 13300)"]
["00319-011","StoColor Metallic natur (серебристого цвета) 37800М","DE","универсальный","краска металлик","акрил","н/д","н/д","satin",10,"л","Ведро",0.1,0.3,"л/м²",{"$f":"VLOOKUP($A191,'Изменение прайс-листа'!$A$2:$E$798,4,FALSE)","v":2424},2908.7999999999997,290.88,29087.999999999996,null,0,0,0,"●","●",27,310.77,891,"декоративное водоразбавимое финишное покрытие (краска) с эффектом \"металлик\"  для наружных и внутренних работ"]
["00319-004","StoColor Metallic getönt (колерованная, серебристая) C1","DE","универсальный","краска металлик","акрил","н/д","н/д","satin","10","л","Ведро",0.1,0.3,"л/м²",{"$f":"P191+'7. Надбавки'!$C$6","v":2498},2997.6,299.76,29976,null,0,0,0,null,null,27,310.77,891]
["00319-010","StoColor Metallic natur (серебристого цвета) 37800М","DE","универсальный","краска металлик","акрил","н/д","н/д","satin",5,"л","Ведро",0.1,0.3,"л/м²",{"$f":"VLOOKUP($A193,'Изменение прайс-листа'!$A$2:$E$798,4,FALSE)","v":2594},3112.7999999999997,311.27999999999997,15563.999999999998,null,0,0,0,"●","●",60,345.3,1980]
["00319-003","StoColor Metallic getönt (колерованная, серебристая) C1","DE","универсальный","краска металлик","акрил","н/д","н/д","satin",5,"л","Ведро",0.1,0.3,"л/м²",{"$f":"P193+'7. Надбавки'!$C$6","v":2668},3201.6,320.16000000000003,16008,null,0,0,0,null,null,60,345.3,1980]
["00319-025","StoColor Metallic natur (золотистого цвета) 37820М","DE","универсальный","краска металлик","акрил","н/д","н/д","satin","10","л","Ведро",0.1,0.3,"л/м²",{"$f":"VLOOKUP($A195,'Изменение прайс-листа'!$A$2:$E$798,4,FALSE)","v":4872},5846.4,584.64,58464,null,0,0,0,"●",null,27,307.8,891]
["00319-104","StoColor Metallic getönt (колерованная, золотистая) C1","DE","универсальный","краска металлик","акрил","н/д","н/д","satin","10","л","Ведро",0.1,0.3,"л/м²",{"$f":"P195+'7. Надбавки'!$C$6","v":4946},{"$f":"P196*1.2","v":5935.2},{"$f":"Q196*M196","v":593.52},{"$f":"Q196*J196","v":59352},null,0,0,0,null,null,27,307.8,891]
["00319-024","StoColor Metallic natur (золотистого цвета) 37820М","DE","универсальный","краска металлик","акрил","н/д","н/д","satin","5","л","Ведро",0.1,0.3,"л/м²",{"$f":"VLOOKUP($A197,'Изменение прайс-листа'!$A$2:$E$798,4,FALSE)","v":4944},5932.8,593.28000000000009,29664,null,{"$f":"T197*S197","v":0},0,0,"●",null,60,342,1980]
["00319-103","StoColor Metallic getönt (колерованная, золотистая) C1","DE","универсальный","краска металлик","акрил","н/д","н/д","satin","5","л","Ведро",0.1,0.3,"л/м²",{"$f":"P197+'7. Надбавки'!$C$6","v":5018},6021.5999999999995,602.16,30107.999999999996,null,0,{"$f":"ROUNDUP(AA198/Z198*T198,0)","v":0},{"$f":"T198/Z198","v":0},null,null,60,342,1980]
["00330-053","StoLook Piccolo FT LP0204","DE","интерьер","декоративное покрытие","акрил","н/д","н/д","matt","12,5","кг","Ведро",0.3,0.8,"кг/м²",{"$f":"VLOOKUP($A199,'Изменение прайс-листа'!$A$2:$E$798,4,FALSE)","v":2308},{"$f":"P199*1.2","v":2769.6},{"$f":"Q199*M199","v":830.88},{"$f":"Q199*J199","v":34620},null,{"$f":"T199*S199","v":0},0,0,null,null,36,466.66799999999995,1188,"Уникальный продукт! Готовое к применению шелковисто-матовое  покрытие с цветными чипсами, необходим грунт в цвет дизайна. Цвет и фактуру см. в каталоге или на образцах (приложение)"]
["00330-071","StoLook Piccolo FT LP0222","DE","интерьер","декоративное покрытие","акрил","н/д","н/д","matt","12,5","кг","Ведро",0.3,0.8,"кг/м²",{"$f":"VLOOKUP($A200,'Изменение прайс-листа'!$A$2:$E$798,4,FALSE)","v":2308},2769.6,830.88,34620,null,0,0,0,null,null,36,466.66799999999995,1188]
["00330-070","StoLook Piccolo FT LP0221","DE","интерьер","декоративное покрытие","акрил","н/д","н/д","matt","12,5","кг","Ведро",0.3,0.8,"кг/м²",{"$f":"VLOOKUP($A201,'Изменение прайс-листа'!$A$2:$E$798,4,FALSE)","v":2308},2769.6,830.88,34620,null,0,0,0,null,null,36,466.66799999999995,1188]
["00330-068","StoLook Piccolo FT LP0219","DE","интерьер","декоративное покрытие","акрил","н/д","н/д","matt","12,5","кг","Ведро",0.3,0.8,"кг/м²",{"$f":"VLOOKUP($A202,'Изменение прайс-листа'!$A$2:$E$798,4,FALSE)","v":2308},2769.6,830.88,34620,null,0,0,0,null,null,36,466.66799999999995,1188]
["00330-052","StoLook Piccolo FT LP0203","DE","интерьер","декоративное покрытие","акрил","н/д","н/д","matt","12,5","кг","Ведро",0.3,0.8,"кг/м²",{"$f":"VLOOKUP($A203,'Изменение прайс-листа'!$A$2:$E$798,4,FALSE)","v":2308},2769.6,830.88,34620,null,0,0,0,null,null,36,466.66799999999995,1188]
["00330-069","StoLook Piccolo FT LP0220","DE","интерьер","декоративное покрытие","акрил","н/д","н/д","matt","12,5","кг","Ведро",0.3,0.8,"кг/м²",{"$f":"VLOOKUP($A204,'Изменение прайс-листа'!$A$2:$E$798,4,FALSE)","v":2308},2769.6,830.88,34620,null,0,0,0,null,null,36,466.66799999999995,1188]
["00330-074","StoLook Piccolo FT LP0225","DE","интерьер","декоративное покрытие","акрил","н/д","н/д","matt","12,5","кг","Ведро",0.3,0.8,"кг/м²",{"$f":"VLOOKUP($A205,'Изменение прайс-листа'!$A$2:$E$798,4,FALSE)","v":2308},2769.6,830.88,34620,null,0,0,0,null,null,36,466.66799999999995,1188]
["01326-009","StoCalce Fondo naturweiss (натур. бел.) ","DE","интерьер","декоративное покрытие","известь","н/д","н/д","matt",25,"кг","Ведро",0.5,1.5,"кг/м²",{"$f":"VLOOKUP($A206,'Изменение прайс-листа'!$A$2:$E$798,4,FALSE)","v":952},1142.3999999999999,571.19999999999993,28559.999999999996,null,0,0,0,null,null,24,616.20000000000005,696,"минеральная декоративная известковая шпаклевка на основе извести, используется также\nдля выравнивания основания под StoCalce Marmorino, StoCalce Veneziano, StoCalce Effetto"]
["01326-008","StoCalce Fondo getönt (колеров.)","DE","интерьер","декоративное покрытие","известь","н/д","н/д","matt",25,"кг","Ведро",0.5,1.5,"кг/м²",{"$f":"P206+'7. Надбавки'!$C$5","v":998},1197.5999999999999,598.79999999999995,29939.999999999996,null,0,0,0,null,null,24,616.20000000000005,696]
["01323-009","StoCalce Effetto naturweiss (натур. бел.)","DE","интерьер","декоративное покрытие","известь","н/д","н/д","matt",25,"кг","Ведро",0.8,1.5,"кг/м²",{"$f":"VLOOKUP($A208,'Изменение прайс-листа'!$A$2:$E$798,4,FALSE)","v":1274},1528.8,1223.04,38220,null,0,0,0,null,null,24,616.20000000000005,696,"минеральная декоративная известковая шпаклевка с вкраплениями цветного слюдяного пигмента для создания эффекта золотистого мерцания "]
["01323-008","StoCalce Effetto getönt (колерованная C1) ","DE","интерьер","декоративное покрытие","известь","н/д","н/д","matt",25,"кг","Ведро",0.8,1.5,"кг/м²",{"$f":"P208+'7. Надбавки'!$C$5","v":1320},1584,1267.2,39600,null,0,0,0,null,null,24,616.20000000000005,696]
["01321-024","StoCalce Marmorino naturweiss (натур. бел.) ","DE","интерьер","декоративное покрытие","известь","н/д","н/д","gloss",25,"кг","Ведро",0.2,0.6,"кг/м²",{"$f":"VLOOKUP($A210,'Изменение прайс-листа'!$A$2:$E$798,4,FALSE)","v":1144},1372.8,274.56,34320,null,0,0,0,null,null,24,616.20000000000005,696,"минеральная тонкослойная декоративная шпаклевка на основе извести с эффектом мрамора \"венецианка\""]
["01321-023","StoCalce Marmorino getönt (колерованная C1) ","DE","интерьер","декоративное покрытие","известь","н/д","н/д","gloss",25,"кг","Ведро",0.2,0.6,"кг/м²",{"$f":"P210+'7. Надбавки'!$C$5","v":1190},1428,285.60000000000002,35700,null,0,0,0,null,null,24,616.20000000000005,696]
["01321-022","StoCalce Marmorino naturweiss (натур. бел.) ","DE","интерьер","декоративное покрытие","известь","н/д","н/д","gloss",5,"кг","Ведро",0.2,0.6,"кг/м²",{"$f":"VLOOKUP($A212,'Изменение прайс-листа'!$A$2:$E$798,4,FALSE)","v":1570},1884,376.8,9420,null,0,0,0,null,null,56,294.27999999999997,1848]
["01321-021","StoCalce Marmorino getönt (колерованная C1) ","DE","интерьер","декоративное покрытие","известь","н/д","н/д","gloss",5,"кг","Ведро",0.2,0.6,"кг/м²",{"$f":"P212+'7. Надбавки'!$C$5","v":1616},1939.1999999999998,387.84,9696,null,0,0,0,null,null,56,294.27999999999997,1848]
["04245-003","StoCalce Veneziano (натур.бел.)","DE","интерьер","декоративное покрытие","известь","н/д","н/д","matt",20,"кг","Ведро",0.5,1.5,"кг/м²",{"$f":"VLOOKUP($A214,'Изменение прайс-листа'!$A$2:$E$798,4,FALSE)","v":1082},1298.3999999999999,649.19999999999993,25967.999999999996,null,0,0,0,null,null,24,495.84000000000003,792,"минеральная пастообразная декоративная шпаклевка с эффектом венецианской штукатурки. Колеруется - StoLook Punto F."]
["04970-001","StoSil Patina  transparent (прозрачный)","DE","интерьер","лазурь","силикат","н/д","transparent","matt","2,5","л","Ведро",0.06,0.15,"л/м²",{"$f":"VLOOKUP($A215,'Изменение прайс-листа'!$A$2:$E$798,4,FALSE)","v":1596},1915.1999999999998,114.91199999999999,4788,null,0,0,0,"●",null,72,207.93599999999998,2376,"прозрачная, устойчивая к истиранию, колеруемая лазурь"]
["04970-002","StoSil Patina getönt (колерованное) C1","DE","интерьер","лазурь","силикат","н/д","transparent","matt","2,5","л","Ведро",0.06,0.15,"л/м²",{"$f":"P215+'7. Надбавки'!$C$6","v":1670},2004,120.24,5010,null,0,0,0,null,null,72,207.93599999999998,2376]
["01328-001","StoLook Lasura","DE","интерьер","лазурь","акрил",2,"transparent","matt",2.5,"л","Ведро",0.08,0.15,"л/м²",{"$f":"VLOOKUP($A217,'Изменение прайс-листа'!$A$2:$E$798,4,FALSE)","v":1858},2229.6,178.36799999999999,5574,null,0,0,0,"●",null,72,203.4,2376,"прозрачная, устойчивая к истиранию, колеруемая лазурь для StoCalce Fondo, StoMiral Kalk MP, StoDecolit MP, StoLook Struktur"]
["00164-001","StoLook Mica Grossa","DE","интерьер","эффектная добавка","слюда","н/д","н/д","gloss",0.2,"кг","Ведро",0.01,0.1,"кг/м²",{"$f":"VLOOKUP($A218,'Изменение прайс-листа'!$A$2:$E$798,4,FALSE)","v":3804},4564.8,45.648000000000003,912.96,null,0,0,0,null,null,192,61.44,31680,"декоративная грубая слюдяная добавка в материалы, особенно хорошо сочетается с материалами известковой серии Linea di Calce"]
["04240-001","StoLook Punto Z","DE","интерьер","эффектная добавка","мрамор","н/д","н/д","н/д",6,"кг","Ведро",0.1,0.3,"кг/м²",{"$f":"VLOOKUP($A219,'Изменение прайс-листа'!$A$2:$E$798,4,FALSE)","v":674},808.8,80.88,4852.7999999999993,null,0,0,0,null,null,75,469.35,2475,"белый мраморный песок фракции 0,5-1,0 мм для придания рельефной шероховатой структуры StoCalce Veneziano и StoCalce Fondo"]
["04248-003","StoLook Punto F verde alpi (зеленый альпийский мрамор)","DE","интерьер","эффектная добавка","минерал","н/д","н/д","н/д",1,"кг","Ведро",0.05,0.15,"кг/м²",{"$f":"VLOOKUP($A220,'Изменение прайс-листа'!$A$2:$E$798,4,FALSE)","v":1316},1579.2,78.960000000000008,1579.2,null,0,0,0,null,null,192,214.65600000000001,6336,"мелкая мраморная либо кирпичная мука для тонирования StoCalce Veneziano и StoCalce Marmorino"]
["04250-003","StoLook Punto F giallo mori (желтый мрамор)","DE","интерьер","эффектная добавка","минерал","н/д","н/д","н/д",1,"кг","Ведро",0.05,0.15,"кг/м²",{"$f":"VLOOKUP($A221,'Изменение прайс-листа'!$A$2:$E$798,4,FALSE)","v":1708},2049.6,102.48,2049.6,null,0,0,0,null,null,192,214.65600000000001,6336]
["04252-003","StoLook Punto F nero ebano (черный эбеновый мрамор) ","DE","интерьер","эффектная добавка","минерал","н/д","н/д","н/д",1,"кг","Ведро",0.05,0.15,"кг/м²",{"$f":"VLOOKUP($A222,'Изменение прайс-листа'!$A$2:$E$798,4,FALSE)","v":1316},1579.2,78.960000000000008,1579.2,null,0,0,0,null,null,192,214.65600000000001,6336]
["04253-003","StoLook Punto F rosso verona (красный веронский мрамор) ","DE","интерьер","эффектная добавка","минерал","н/д","н/д","н/д",1,"кг","Ведро",0.05,0.15,"кг/м²",{"$f":"VLOOKUP($A223,'Изменение прайс-листа'!$A$2:$E$798,4,FALSE)","v":1316},1579.2,78.960000000000008,1579.2,null,0,0,0,null,null,192,214.65600000000001,6336]
["04254-003","StoLook Punto F coccio pesto (кирпичная мука)","DE","интерьер","эффектная добавка","минерал","н/д","н/д","н/д",1,"кг","Ведро",0.05,0.15,"кг/м²",{"$f":"VLOOKUP($A224,'Изменение прайс-листа'!$A$2:$E$798,4,FALSE)","v":1708},2049.6,102.48,2049.6,null,0,0,0,null,null,192,214.65600000000001,6336]
["01329-003","StoLook Wax / воск","DE","интерьер","воск","воск","н/д","transparent","gloss",1,"л","Пласт. банка",0.05,0.1,"л/м²",{"$f":"VLOOKUP($A225,'Изменение прайс-листа'!$A$2:$E$798,4,FALSE)","v":5638},6765.5999999999995,338.28,6765.5999999999995,null,0,0,0,"●",null,300,348,9900,"прозрачный защитный воск для StoCalce Marmorino, StoCalce Veneziano, StoCalceFondo, StoCalce Effetto"]
["01339-001","StoLook Wax  forte / воск","DE","интерьер","воск","скипидар","н/д","transparent","gloss",1,"шт","Желез. банка",0.05,0.1,"л/м²",{"$f":"VLOOKUP($A226,'Изменение прайс-листа'!$A$2:$E$798,4,FALSE)","v":6636},7963.2,398.16,7963.2,null,0,0,0,"●",null,300,198,9900,"аналог StoLook Wax, предназначен для мест с интенсивной влажностной нагрузкой"]
["04256-001","StoLook Oro","DE","интерьер","эффектная добавка","слюда","н/д","н/д","н/д","1","шт","Пласт. банка",0.01,0.1,"кг/м²",{"$f":"VLOOKUP($A227,'Изменение прайс-листа'!$A$2:$E$798,4,FALSE)","v":2370},2844,28.44,2844,null,0,0,0,null,null,500,100,16500,"порошок для подмешивания в StoLook Wax, StoLook Wax forte и StoLook Lasura с целью придания золотистого эффекта  "]
["04257-001","StoLook Argento","DE","интерьер","эффектная добавка","слюда","н/д","н/д","н/д","1","шт","Пласт. банка",0.01,0.1,"кг/м²",{"$f":"VLOOKUP($A228,'Изменение прайс-листа'!$A$2:$E$798,4,FALSE)","v":2370},2844,28.44,2844,null,0,0,0,null,null,500,100,16500,"порошок для подмешивания в StoLook Wax, StoLook Wax forte и StoLook Lasura с целью придания серебристого эффекта  "]
["04255-001","StoLook Rame","DE","интерьер","эффектная добавка","слюда","н/д","н/д","н/д","1","шт","Пласт. банка",0.01,0.1,"кг/м²",{"$f":"VLOOKUP($A229,'Изменение прайс-листа'!$A$2:$E$798,4,FALSE)","v":2370},2844,28.44,2844,null,0,0,0,null,null,500,100,16500,"порошок для подмешивания в StoLook Wax, StoLook Wax forte и StoLook Lasura с целью придания медного эффекта  "]
["00557-001","StoDivers ST (0,2 кг)","DE","универсальный","загуститель","н/д","н/д","н/д","н/д","1","шт.","Пласт. мешок",6.0000000000000001E-3,0.01,"кг/м²",{"$f":"VLOOKUP($A230,'Изменение прайс-листа'!$A$2:$E$798,4,FALSE)","v":1748},2097.6,12.585599999999999,2097.6,null,0,0,0,"●",null,1500,315,49500,"специальный загуститель, идеально подходит для добавления в StoColor Metallic для получения структуры \"шелк\""]
["00557-002","StoDivers ST","DE","универсальный","загуститель","н/д","н/д","н/д","н/д","10","кг","Пласт. мешок",6.0000000000000001E-3,0.01,"кг/м²",{"$f":"VLOOKUP($A231,'Изменение прайс-листа'!$A$2:$E$798,4,FALSE)","v":5834},7000.8,42.004800000000003,70008,null,0,0,0,"●",null,25,254.99999999999997,825]
["09538-002","StoLook Ballotini 180-300","DE","универсальный","эффектная добавка","стекло","н/д","transparent","gloss","5","кг","ведро",1.4999999999999999E-2,0.05,"кг/м²",{"$f":"VLOOKUP($A232,'Изменение прайс-листа'!$A$2:$E$798,4,FALSE)","v":1046},1255.2,18.827999999999999,6276,null,0,0,0,null,null,72,370.44,2376,"декоративные прозрачные стеклянные шарики диамтром 0.3 µm  (для интерьерных работ, в качестве декоративной добавки к краске StoColor Metallic)"]
["14217-002","Siliciumcarbid F 54","DE","универсальный","эффектная добавка","н/д","н/д","н/д","gloss","25","кг","мешок",0.1,0.5,"кг/м²",{"$f":"VLOOKUP($A233,'Изменение прайс-листа'!$A$2:$E$798,4,FALSE)","v":1024},1228.8,122.88,30720,null,0,0,0,null,null,40,1080,680,"карбид силиция, для создания декортативных поверхностей с эффектом мерцания (подходит и для фасадов c материалом Stolit-Effect)"]
["14218-002","Siliciumcarbid F 20","DE","универсальный","эффектная добавка","н/д","н/д","н/д","gloss","25","кг","мешок",0.1,0.5,"кг/м²",{"$f":"VLOOKUP($A234,'Изменение прайс-листа'!$A$2:$E$798,4,FALSE)","v":1024},1228.8,122.88,30720,null,0,0,0,null,null,40,1080,680]
["14219-002","Siliciumcarbid F 14","DE","универсальный","эффектная добавка","н/д","н/д","н/д","gloss","25","кг","мешок",0.1,0.5,"кг/м²",{"$f":"VLOOKUP($A235,'Изменение прайс-листа'!$A$2:$E$798,4,FALSE)","v":1024},1228.8,122.88,30720,null,0,0,0,null,null,40,1080,680]
["14505-003","Ballotini 75-150 MY","DE","универсальный","эффектная добавка","стекло","н/д","transparent","gloss","5","кг","ведро",0.15,0.1,"кг/м²",{"$f":"VLOOKUP($A236,'Изменение прайс-листа'!$A$2:$E$798,4,FALSE)","v":1238},1485.6,222.83999999999997,7428,null,0,0,0,null,null,72,370.43999999999994,2376,"противоскользящая добавка, для интерьерных работ, в качестве декоративной добавки к краске StoColor Metallic"]
["14360-003","Ballotini 53-106 MY","DE","универсальный","эффектная добавка","стекло","н/д","transparent","gloss","5","кг","ведро",0.15,0.15,"кг/м²",{"$f":"VLOOKUP($A237,'Изменение прайс-листа'!$A$2:$E$798,4,FALSE)","v":1238},1485.6,222.83999999999997,7428,null,0,0,0,null,null,72,370.43999999999994,2376]
["14251-001","Ballotini 180-300 MY","DE","универсальный","эффектная добавка","стекло","н/д","transparent","gloss","25","кг","мешок",0.15,0.2,"кг/м²",{"$f":"VLOOKUP($A238,'Изменение прайс-листа'!$A$2:$E$798,4,FALSE)","v":728},873.6,131.04,21840,null,0,0,0,null,null,36,905.4,720]
["14252-001","Ballotini 250-425 MY","DE","универсальный","эффектная добавка","стекло","н/д","transparent","gloss","25","кг","мешок",0.15,0.25,"кг/м²",{"$f":"VLOOKUP($A239,'Изменение прайс-листа'!$A$2:$E$798,4,FALSE)","v":728},873.6,131.04,21840,null,0,0,0,null,null,36,905.4,720]
["03299-005","StoEffect Vetro","DE","универсальный","эффектная добавка","стекло","н/д","transparent","gloss","20","кг","ведро",0.1,0.5,"кг/м²",{"$f":"VLOOKUP($A240,'Изменение прайс-листа'!$A$2:$E$798,4,FALSE)","v":2262},2714.4,271.44,54288,null,0,0,0,null,null,24,495.84000000000003,792,"эффектная прозрачная обсыпка, для придания мерцающего эффекта как на фасаде, так и в интерьере. Используется совместно со штукатурками или красками Sto. "]
["04399-002","Sto-Effect Terrazzo natur (натурального цвета)","DE","универсальный","эффектная добавка","минерал","н/д","н/д","matt","25","кг","ведро",0.2,0.5,"кг/м²",{"$f":"VLOOKUP($A241,'Изменение прайс-листа'!$A$2:$E$798,4,FALSE)","v":418},{"$f":"P241*1.2","v":501.59999999999997},{"$f":"Q241*M241","v":100.32},{"$f":"Q241*J241","v":12540},null,{"$f":"T241*S241","v":0},0,0,null,null,24,616.20000000000005,696,"смесь из нескольких видов натурального песка для создания декоративных  покрытий, например, в сочетании со Stolit Effect. Подходит для фасадов и интерьеров."]
["03470/008","StoPox WL 100 VAR SET, C1","DE","полы","краска","эпоксид","н/д","н/д","gloss","12","кг","Комплект",0.2,0.4,"кг/м²",{"$f":"VLOOKUP($A242,'Изменение прайс-листа'!$A$2:$E$798,4,FALSE)","v":2918},{"$f":"P242*1.2","v":3501.6},{"$f":"Q242*M242","v":700.32},{"$f":"Q242*J242","v":42019.199999999997},null,{"$f":"T242*S242","v":0},0,0,null,null,40,508.4,1320,"двухкомпонентная глянцевая водоразбавимая краска на основе эпоксидной смолы, без растворителя, для цветного запечатывания минеральных оснований полов и стен подвержанных высокими механическими и химическими воздействиями"]
["09351/004","StoPox MS 200 VAR SET, C1","DE","полы","краска","эпоксид","н/д","н/д","matt","7","кг","Комплект",0.15,0.25,"кг/м²",{"$f":"VLOOKUP($A243,'Изменение прайс-листа'!$A$2:$E$798,4,FALSE)","v":4398},{"$f":"P243*1.2","v":5277.5999999999995},{"$f":"Q243*M243","v":791.63999999999987},{"$f":"Q243*J243","v":36943.199999999997},null,{"$f":"T243*S243","v":0},0,0,null,null,60,529.20000000000005,1980,"эпоксидная водорастворимая матовая краска. В качестве цветного запечатывающего слоя для полов и стен. Отсутствует \"эффект письма\", возможно применение в качестве краски для грифЕльных досок."]
["14206/005","StoPox WL 100 SET transparent","DE","полы","лак","акрил","н/д","н/д","gloss","8","кг","Комплект",0.15,0.25,"кг/м²",{"$f":"VLOOKUP($A244,'Изменение прайс-листа'!$A$2:$E$798,4,FALSE)","v":3904},{"$f":"P244*1.2","v":4684.8},{"$f":"Q244*M244","v":702.72},{"$f":"Q244*J244","v":37478.400000000001},null,{"$f":"T244*S244","v":0},0,0,null,null,40,361,1320,"двухкомпонентный глянцевый водоразбавимый лак на основе эпоксидной смолы, без растворителя, для запечатывания минеральных оснований"]
["08043/001","StoPox WL 150 transparent/ прозрачный , SET","DE","полы","лак","акрил","н/д","н/д","satinmatt","8","кг","Комплект",0.15,0.3,"кг/м²",{"$f":"VLOOKUP($A245,'Изменение прайс-листа'!$A$2:$E$798,4,FALSE)","v":3650},4380,657,35040,null,0,0,0,null,null,40,348,1320,"двухкомпонентный полуматовый водоразбавимый лак на основе эпоксидной смолы, без растворителя, для запечатывания минеральных оснований"]
["00044-004","StoCryl BF 700 weiss (белое)","DE","полы","краска","акрил","н/д","н/д","satinmatt","5","л","Ведро",0.2,0.4,"л/м²",{"$f":"VLOOKUP($A246,'Изменение прайс-листа'!$A$2:$E$798,4,FALSE)","v":2438},{"$f":"P246*1.2","v":2925.6},{"$f":"Q246*M246","v":585.12},{"$f":"Q246*J246","v":14628},null,{"$f":"T246*S246","v":0},0,0,null,null,60,408.29999999999995,1980,"однокомпонентная напольная краска, устойчива к механическим нагрузкам, полуматовая. Колеруется в различные цвета."]
["00044-002","StoCryl BF 700 getönt (колерованное)","DE","полы","краска","акрил","н/д","н/д","satinmatt","5","л","Ведро",0.2,0.4,"л/м²",{"$f":"P246+'7. Надбавки'!$C$6","v":2512},3014.4,602.88,15072,null,0,0,0,null,null,60,408.29999999999995,1980]
["15003-189","StoCryl BF 700 Metallic (база, серебристая)","DE","полы","краска металлик","акрил","н/д","н/д","satinmatt","5","л","Ведро",0.2,0.4,"л/м²",{"$f":"VLOOKUP($A248,'Изменение прайс-листа'!$A$2:$E$798,4,FALSE)","v":3438},{"$f":"P248*1.2","v":4125.5999999999995},{"$f":"Q248*M248","v":825.11999999999989},{"$f":"Q248*J248","v":20627.999999999996},null,{"$f":"T248*S248","v":0},0,0,null,null,60,408.29999999999995,1980,"однокомпонентное, эффектное покрытие. Может наноситься в различных техниках, придает металлический блеск. Колеруется в ограниченный спектр цветов по вееру StoColor Metallic"]
["00044-122","StoCryl BF 700 Metallic (колерованная, серебристая) C1","DE","полы","краска металлик","акрил","н/д","н/д","satinmatt","5","л","Ведро",0.2,0.4,"л/м²",{"$f":"P248+'7. Надбавки'!$C$6","v":3512},4214.3999999999996,842.88,21072,null,0,0,0,null,null,60,408.29999999999995,1980]
["15003-188","StoCryl BF 700 Metallic (база, золотистая)","DE","полы","краска металлик","акрил","н/д","н/д","satinmatt","5","л","Ведро",0.2,0.4,"л/м²",{"$f":"VLOOKUP($A250,'Изменение прайс-листа'!$A$2:$E$798,4,FALSE)","v":5630},6756,1351.2,33780,null,0,0,0,null,null,60,408.29999999999995,1980,"однокомпонентное, эффектное покрытие. Может наноситься в различных техниках, придает металлический блеск. Колеруется в ограниченный спектр цветов по вееру StoColor Metallic"]
["00044-022","StoCryl BF 700 Metallic (колерованная, золотистая) C1","DE","полы","краска металлик","акрил","н/д","н/д","satinmatt","5","л","Ведро",0.2,0.4,"л/м²",{"$f":"P250+'7. Надбавки'!$C$6","v":5704},6844.8,1368.96,34224,null,0,0,0,null,null,60,408.29999999999995,1980]
["00081-002","StoCryl BF 750","DE","полы","лак","акрил","н/д","transparent","gloss","5","л","Ведро",0.1,0.2,"л/м²",{"$f":"VLOOKUP($A252,'Изменение прайс-листа'!$A$2:$E$798,4,FALSE)","v":4062},4874.3999999999996,487.44,24372,null,0,0,0,null,null,60,329.7,1980,"однокомпонентный, глянцевый лак, применяется как запечатывающий слой для материала StoCryl BF 700 metallic, а также для других материалов (как напольных, так и настенных)"]
["05082-024","StoAqua Top In OT 2,5 l","DE","древесина","лазурь","акрил","н/д","transparent","satin",2.5,"л","банка",0.11,0.25,"л/м²",{"$f":"VLOOKUP($A253,'Изменение прайс-листа'!$A$2:$E$798,4,FALSE)","v":2710},3252,357.72,8130,null,0,0,0,null,null,160,454.08000000000004,5280,"лазурь по дереву, для внутренних работ на основе акрилата. Соответствует EN 71-3 (безопасность игрушек), устойчива к слюне и поту. Не желтеет! Колеруется по системе StoColor, RAL, Holzfarbtöne (Цвета древесины)"]
["02499-004","StoAqua Top In  2,5 l. колеров. С1","DE","древесина","лазурь","акрил","н/д","н/д","satin",2.5,"л","банка",0.11,0.25,"л/м²",{"$f":"P253+'7. Надбавки'!$C$6","v":2784},3340.7999999999997,367.488,8352,null,0,0,0,null,null,160,454.08000000000004,5280]

{"sheet":"3. STOMIX","index":3,"n_rows":48,"n_cols":25,"rows_kept":48,"cut":false,"hidden":false,"merged":[[2,4,3,4],[2,16,3,16],[39,24,40,24],[41,24,42,24],[23,24,28,24],[2,20,3,20],[2,21,3,21],[2,22,3,22],[2,23,3,23],[37,24,38,24],[12,24,13,24],[29,24,30,24],[31,24,36,24],[16,24,17,24],[2,18,3,18],[2,19,3,19],[43,24,44,24],[45,24,46,24],[2,17,3,17],[2,24,3,24],[0,0,1,24],[2,0,3,0],[2,1,3,1],[2,5,3,5],[2,6,2,8],[2,9,2,11],[2,12,3,12],[2,13,3,13],[2,14,3,14],[2,15,3,15],[2,2,3,2],[2,3,3,3]]}
["Прайс-лист  Товаров Продуктовой группы раздела «Stomix»\nЦены действительны c 03.03.2022 г."]
[]
["Артикул","Наименование продукта","Произ-водство","Область применения","Вид материала","Цветовая гамма","Упаковка",null,null,"Min расход продукта",null,null,"Цена БЕЗ учета НДС за единицу измерения","Цена с НДС за единицу измерения","Цена с НДС за 1м² (при min расходе)","Цена с НДС за упаковку","Кол-во единиц товара","Сумма заказа с НДС","Итого вес брутто (кг)","Итого паллет","Наличие на складе","Количество упаковок на паллете, шт.","Вес одного паллето-места (без палеты), кг.","Норма загрузки авто (20 т.) шт.","Краткое описание продукта"]
[null,null,null,null,null,null,"кол-во","ед. изм.","вид упак.","от","до","ед. изм."]
["66502_001","Грунтовка проникающая универсальная EH концентрат","RU","фасад","Грунтовки",null,15,"кг","ведро",0.04,7.0000000000000007E-2,"кг/м²",{"$f":"VLOOKUP($A5,'Изменение прайс-листа'!$A$2:$E$798,4,FALSE)","v":560},{"$f":"M5*1.2","v":672},{"$f":"SUM(J5*N5)","v":26.88},{"$f":"N5*G5","v":10080},null,{"$f":"Q5*P5","v":0},{"$f":"ROUNDUP(W5/V5*Q5,0)","v":0},{"$f":"Q5/V5","v":0},"●",24,376.79999999999995,792,"воднодисперсионная  грунтовка для обработки сильновпитывающих оснований "]
["66301_001","Клеевой состав ALFAFIX S2","RU","фасад","Клей","серый",25,"кг","мешок",3,10,"кг/м²",{"$f":"VLOOKUP($A6,'Изменение прайс-листа'!$A$2:$E$798,4,FALSE)","v":38},45.6,136.80000000000001,1140,null,0,{"$f":"ROUNDUP(W6/V6*Q6,0)","v":0},{"$f":"Q6/V6","v":0},"●",42,1054.2,780,"клей минеральный для приклеивания теплоизоляционных плит"]
["66302_001","Клеевой и армирующий состав ALFAFIX S1","RU","фасад","Клей и армирующие массы","серый",25,"кг","мешок",3,10,"кг/м²",{"$f":"VLOOKUP($A7,'Изменение прайс-листа'!$A$2:$E$798,4,FALSE)","v":46},55.199999999999996,165.6,1380,null,0,0,0,"●",42,1054.2,780,"клей минеральный для создания базового армированного слоя и приклеивания теплоизоляционных плит"]
["66305_001","Клеевой и армирующий состав ALFAFIX S11","RU","фасад","Клей и армирующие массы","серый",25,"кг","мешок",2.7,10,"кг/м²",{"$f":"VLOOKUP($A8,'Изменение прайс-листа'!$A$2:$E$798,4,FALSE)","v":76},91.2,246.24000000000004,2280,null,0,0,0,null,42,1054.2,780,"клей минеральный эластичный  для создания базового слоя и приклеивания теплоизоляционных плит на нестабильные основания"]
["66310_001","Клеевой состав BETAFIX Flex ","RU","фасад","Клей и армирующие массы","серый",25,"кг","мешок",1.5,8,"кг/м²",{"$f":"VLOOKUP($A9,'Изменение прайс-листа'!$A$2:$E$798,4,FALSE)","v":78},93.6,140.39999999999998,2340,null,0,0,0,null,42,1054.2,780,"клей минеральный с высокой эластичностью для облицовочных материалов, для стен и пола"]
["66311_001","Клеевой состав BETAFIX Basic","RU","фасад","Клей и армирующие массы","серый",25,"кг","мешок",1.5,8,"кг/м²",{"$f":"VLOOKUP($A10,'Изменение прайс-листа'!$A$2:$E$798,4,FALSE)","v":42},50.4,75.599999999999994,1260,null,0,0,0,null,42,1054.2,780,"клей минеральный универсальный для облицовочных материалов, для стен и пола"]
["520110-01","Сетка фасадная с логотипом STOMIX","RU","фасад","Сетка для армирования",null,50,"м","рулон",1,1.1000000000000001,"мп/м²",{"$f":"VLOOKUP($A11,'Изменение прайс-листа'!$A$2:$E$798,4,FALSE)","v":170},204,204,10200,null,0,0,0,"●",35,339.5,1120,"Сетка для армирования из стекловолокна со щелочестойкой пропиткой.   "]
[512153,"Уголок ПВХ с стеклосеткой 10х15 с логотипом STOMIX","RU","фасад","профиль",null,2.5,"м","коробка",null,null,null,{"$f":"VLOOKUP($A12,'Изменение прайс-листа'!$A$2:$E$798,4,FALSE)","v":70},{"$f":"M12*1.2","v":84},null,210,null,0,0,0,"●",2000,440,30000,"профиль для формирования углов 90 град.       "]
["66503_009","Грунтовка адгезионная HC-4, белая","RU","фасад","Грунтовки","вся",24,"кг","ведро",0.19,0.35,"кг/м²",{"$f":"VLOOKUP($A13,'Изменение прайс-листа'!$A$2:$E$798,4,FALSE)","v":195},{"$f":"M13*1.2","v":234},{"$f":"SUM(J13*N13)","v":44.46},5616,null,0,0,0,"●",24,592.79999999999995,744,"воднодисперсионая адгезионная грунтовка"]
["66503_010","Грунтовка адгезионная HC-4 (колерованная С1)","RU","фасад","Грунтовки","вся",24,"кг","ведро",0.19,0.35,"кг/м²",{"$f":"M13+'7. Надбавки'!$C$5","v":241},{"$f":"M14*1.2","v":289.2},{"$f":"SUM(J14*N14)","v":54.948},6940.7999999999993,null,0,0,0,null,24,592.79999999999995,744]
["66802_001","ALFAFORM SCB шпаклевка белая ","RU","фасад","Шпаклевка","белый","18","кг","мешок",0.9,0.9,"кг/м²",{"$f":"VLOOKUP($A15,'Изменение прайс-листа'!$A$2:$E$798,4,FALSE)","v":88},{"$f":"M15*1.2","v":105.6},{"$f":"SUM(J15*N15)","v":95.039999999999992},{"$f":"N15*G15","v":1900.8},null,{"$f":"Q15*P15","v":0},0,0,null,42,764,780,"Финишная шпаклеква минеральная усиленная"]
["66801_001","ALFAFORM SCA шпаклевка выравнивающая","RU","фасад","Шпаклевка","серый","25","кг","мешок",2,2,"кг/м²",{"$f":"VLOOKUP($A16,'Изменение прайс-листа'!$A$2:$E$798,4,FALSE)","v":42},50.4,100.8,1260,null,0,0,0,null,42,1054.2,780,"Шпаклеква минеральная усиленная"]
["61041_015","Штукатурка BETADEKOR SF15","RU","фасад","Декоративные штукатурки: минеральные","белый",25,"кг","мешок",2.2999999999999998,2.4,"кг/м²",{"$f":"VLOOKUP($A17,'Изменение прайс-листа'!$A$2:$E$798,4,FALSE)","v":52},{"$f":"M17*1.2","v":62.4},{"$f":"SUM(J17*N17)","v":143.51999999999998},{"$f":"N17*G17","v":1560},null,{"$f":"Q17*P17","v":0},0,0,"●",42,1054.2,780,"сухая минеральная штукатурка на основе белого цемента с шероховатой структурой (шуба) для наружних и внутренних работ"]
["61043_020","Штукатурка BETADEKOR SF20","RU","фасад","Декоративные штукатурки: минеральные","белый",25,"кг","мешок",2.4,2.5,"кг/м²",{"$f":"VLOOKUP($A18,'Изменение прайс-листа'!$A$2:$E$798,4,FALSE)","v":52},{"$f":"M18*1.2","v":62.4},{"$f":"SUM(J18*N18)","v":149.76},{"$f":"N18*G18","v":1560},null,{"$f":"Q18*P18","v":0},0,0,"●",42,1054.2,780]
["61030_015","Штукатурка BETADEKOR SD15","RU","фасад","Декоративные штукатурки: минеральные","белый",25,"кг","мешок",2.6,2.7,"кг/м²",{"$f":"VLOOKUP($A19,'Изменение прайс-листа'!$A$2:$E$798,4,FALSE)","v":52},{"$f":"M19*1.2","v":62.4},{"$f":"SUM(J19*N19)","v":162.24},{"$f":"N19*G19","v":1560},null,{"$f":"Q19*P19","v":0},0,0,null,42,1054.2,780]
["61032_020","Штукатурка BETADEKOR SD20","RU","фасад","Декоративные штукатурки: минеральные","белый",25,"кг","мешок",2.6,2.7,"кг/м²",{"$f":"VLOOKUP($A20,'Изменение прайс-листа'!$A$2:$E$798,4,FALSE)","v":52},{"$f":"M20*1.2","v":62.4},{"$f":"SUM(J20*N20)","v":162.24},{"$f":"N20*G20","v":1560},null,{"$f":"Q20*P20","v":0},0,0,null,42,1054.2,780,"сухая минеральная штукатурка на основе белого цемента с бороздчатой структурой (короед) для наружних и внутренних работ"]
[61130,"ALFADEKOR   F ","RU","фасад","Декоративные штукатурки: органические",35,25,"кг","ведро",3.5,4,"кг/м²",{"$f":"VLOOKUP($A21,'Изменение прайс-листа'!$A$2:$E$798,4,FALSE)","v":672},{"$f":"M21*1.2","v":806.4},{"$f":"SUM(J21*N21)","v":2822.4},{"$f":"N21*G21","v":20160},null,{"$f":"Q21*P21","v":0},0,0,null,24,616.79999999999995,696,"воднодисперсионная мозаичная штукатурка- мелкозернистая"]
[61140,"ALFADEKOR  G \n102,104,105,106,107,108,109,110,111,115,114,116,118,119,120,121,122,123,125,200,201,202,203,204,205,206,207,208,209,210,211,213,212,214,215,216,217,218,219,220,221,222   ","RU","фасад","Декоративные штукатурки: органические",35,25,"кг","ведро",5.5,6,"кг/м²",{"$f":"VLOOKUP($A22,'Изменение прайс-листа'!$A$2:$E$798,4,FALSE)","v":704},844.8,4646.3999999999996,21120,null,{"$f":"Q22*P22","v":0},0,0,null,24,616.79999999999995,696,"воднодисперсионная мозаичная штукатурка - крупнозернистая, материал соответствует StoSuperlit из основного ассортимента Sto"]
[61150,"ALFADEKOR  S\n402,402,403,404,405,406,407,408,409,410,411,412","RU","фасад","Декоративные штукатурки: органические",12,25,"кг","ведро",3.5,6,"кг/м²",{"$f":"VLOOKUP($A23,'Изменение прайс-листа'!$A$2:$E$798,4,FALSE)","v":704},844.8,2956.7999999999997,5750,null,0,0,0,null,24,616.79999999999995,696,"воднодисперсионная мозаичная штукатурка- для нанесения распылением"]
["61081_007","BETADEKOR  SAF10, белая","RU","фасад","Декоративные штукатурки: органические","вся",25,"кг","ведро",2.6,2.7,"кг/м²",{"$f":"VLOOKUP($A24,'Изменение прайс-листа'!$A$2:$E$798,4,FALSE)","v":196},{"$f":"M24*1.2","v":235.2},{"$f":"SUM(J24*N24)","v":611.52},5750,null,0,0,0,null,24,616.79999999999995,696,"воднодисперсионная силикон-акрилатная штукатурка с шероховатой структурой (шуба) для наружних и внутренних работ."]
["61081_006","BETADEKOR  SAF10, (колерованная С1)","RU","фасад","Декоративные штукатурки: органические","вся",25,"кг","ведро",2.6,2.7,"кг/м²",{"$f":"M24+'7. Надбавки'!$C$5","v":242},290.39999999999998,755.04,5750,null,0,0,0,null,24,616.79999999999995,696]
["61082_007","BETADEKOR  SAF15, белая","RU","фасад","Декоративные штукатурки: органические","вся",25,"кг","ведро",2.6,2.7,"кг/м²",{"$f":"VLOOKUP($A26,'Изменение прайс-листа'!$A$2:$E$798,4,FALSE)","v":196},235.2,611.52,{"$f":"N26*G26","v":5880},null,0,0,0,"●",24,616.79999999999995,696]
["61082_008","BETADEKOR  SAF15, (колерованная С1)","RU","фасад","Декоративные штукатурки: органические","вся",25,"кг","ведро",2.6,2.7,"кг/м²",{"$f":"M26+'7. Надбавки'!$C$5","v":242},290.39999999999998,755.04,7259.9999999999991,null,0,0,0,null,24,616.79999999999995,696]
["61083_007","BETADEKOR  SAF20, белая","RU","фасад","Декоративные штукатурки: органические","вся",25,"кг","ведро",3.2,3.3,"кг/м²",{"$f":"VLOOKUP($A28,'Изменение прайс-листа'!$A$2:$E$798,4,FALSE)","v":196},235.2,752.64,5880,null,0,0,0,"●",24,616.79999999999995,696]
["61083_008","BETADEKOR  SAF20, (колерованная С1)","RU","фасад","Декоративные штукатурки: органические","вся",25,"кг","ведро",3.2,3.3,"кг/м²",{"$f":"M28+'7. Надбавки'!$C$5","v":242},290.39999999999998,929.28,7259.9999999999991,null,0,0,0,null,24,616.79999999999995,696]
["61086_009","BETADEKOR  SAD20, белая","RU","фасад","Декоративные штукатурки: органические","вся",25,"кг","ведро",2.7,2.8,"кг/м²",{"$f":"VLOOKUP($A30,'Изменение прайс-листа'!$A$2:$E$798,4,FALSE)","v":196},235.2,635.04,5880,null,0,0,0,null,24,616.79999999999995,696,"воднодисперсионная силикон-акрилатная штукатурка с бороздчатой структурой (короед) для наружних и внутренних работ"]
["61086_010","BETADEKOR  SAD20, (колерованная С1)","RU","фасад","Декоративные штукатурки: органические","вся",25,"кг","ведро",2.7,2.8,"кг/м²",{"$f":"M30+'7. Надбавки'!$C$5","v":242},290.39999999999998,784.08,7259.9999999999991,null,0,0,0,null,24,616.79999999999995,696]
["61061_001","BETADEKOR  SIF10, белая","RU","фасад","Декоративные штукатурки: органические","вся",25,"кг","ведро",2.6,2.7,"кг/м²",{"$f":"VLOOKUP($A32,'Изменение прайс-листа'!$A$2:$E$798,4,FALSE)","v":205},246,639.6,6150,null,0,0,0,null,24,616.79999999999995,696,"воднодисперсионная силиконовая штукатурка (повышенное содержание силиконовых дисперсий) с шероховатой структурой (шуба)"]
["61061_002","BETADEKOR  SIF10, (колерованная С1)","RU","фасад","Декоративные штукатурки: органические","вся",25,"кг","ведро",2.6,2.7,"кг/м²",{"$f":"M32+'7. Надбавки'!$C$5","v":251},301.2,783.12,7530,null,0,0,0,null,24,616.79999999999995,696]
["61062_006","BETADEKOR  SIF15, белая","RU","фасад","Декоративные штукатурки: органические","вся",25,"кг","ведро",2.6,2.7,"кг/м²",{"$f":"VLOOKUP($A34,'Изменение прайс-листа'!$A$2:$E$798,4,FALSE)","v":205},246,639.6,6150,null,0,0,0,null,24,616.79999999999995,696]
["61062_007","BETADEKOR  SIF15, (колерованная С1)","RU","фасад","Декоративные штукатурки: органические","вся",25,"кг","ведро",2.6,2.7,"кг/м²",{"$f":"M34+'7. Надбавки'!$C$5","v":251},301.2,783.12,7530,null,0,0,0,null,24,616.79999999999995,696]
["61063_006","BETADEKOR  SIF20, белая","RU","фасад","Декоративные штукатурки: органические","вся",25,"кг","ведро",3.2,3.3,"кг/м²",{"$f":"VLOOKUP($A36,'Изменение прайс-листа'!$A$2:$E$798,4,FALSE)","v":205},246,787.2,6150,null,0,0,0,null,24,616.79999999999995,696]
["61063_007","BETADEKOR  SIF20, (колерованная С1)","RU","фасад","Декоративные штукатурки: органические","вся",25,"кг","ведро",3.2,3.3,"кг/м²",{"$f":"M36+'7. Надбавки'!$C$5","v":251},301.2,963.84,7530,null,0,0,0,null,24,616.79999999999995,696]
["61053_006","BETADEKOR  SID20, белая","RU","фасад","Декоративные штукатурки: органические","вся",25,"кг","ведро",2.7,2.8,"кг/м²",{"$f":"VLOOKUP($A38,'Изменение прайс-листа'!$A$2:$E$798,4,FALSE)","v":205},246,664.2,6150,null,0,0,0,null,24,616.79999999999995,696,"воднодисперсионная силиконовая штукатурка (повышенное содержание силиконовых дисперсий) с бороздчатой структурой (короед)"]
["61053_007","BETADEKOR  SID20, (колерованная С1)","RU","фасад","Декоративные штукатурки: органические","вся",25,"кг","ведро",2.7,2.8,"кг/м²",{"$f":"M38+'7. Надбавки'!$C$5","v":251},301.2,813.24,7530,null,0,0,0,null,24,616.79999999999995,696]
["66004_019","GAMADEKOR - F,  белая ","RU","фасад","Краски фасадные универсальные","вся",15,"л","ведро",0.16,0.32,"л/м²",{"$f":"VLOOKUP($A40,'Изменение прайс-листа'!$A$2:$E$798,4,FALSE)","v":570},{"$f":"M40*1.2","v":684},{"$f":"SUM(J40*N40)","v":109.44},{"$f":"N40*G40","v":10260},null,0,0,0,"●",24,572.40000000000009,768,"фасадная краска с высоким показателем паропроницаемости. Матовая. Колеруется в светлые тона.  "]
["66004_119","GAMADEKOR - F,  (колерованная С1)","RU","фасад","Краски фасадные универсальные","вся",15,"л","ведро",0.16,0.32,"л/м²",{"$f":"M40+'7. Надбавки'!$C$6","v":644},772.8,123.648,11592,null,0,0,0,null,24,576,768]
["66004-020","GAMADEKOR - F, G белая","RU","фасад","Краски фасадные универсальные","вся",15,"л","ведро",0.16,0.32,"л/м²",{"$f":"VLOOKUP($A42,'Изменение прайс-листа'!$A$2:$E$798,4,FALSE)","v":592},{"$f":"M42*1.2","v":710.4},{"$f":"SUM(J42*N42)","v":113.664},{"$f":"N42*G42","v":10656},null,{"$f":"Q42*P42","v":0},0,0,null,24,572.40000000000009,768,"фасадная краска с высоким показателем паропроницаемости. Матовая. С биоцидными добавками. "]
["66004-120","GAMADEKOR - F, G (колерованная С1)","RU","фасад","Краски фасадные универсальные","вся",15,"л","ведро",0.16,0.32,"л/м²",{"$f":"M42+'7. Надбавки'!$C$6","v":666},799.19999999999993,127.87199999999999,11987.999999999998,null,0,0,0,null,24,576,768]
[null,"GAMADEKOR SG белая","RU","фасад","Краски фасадные универсальные","вся",15,"л","ведро",0.16,0.32,"л/м²",{"$f":"'Изменение прайс-листа'!D29","v":746},{"$f":"M44*1.2","v":895.19999999999993},{"$f":"SUM(J44*N44)","v":143.232},{"$f":"N44*G44","v":13427.999999999998},null,{"$f":"Q44*P44","v":0},{"$f":"ROUNDUP(W44/V44*Q44,0)","v":0},{"$f":"Q44/V44","v":0},null,24,572.40000000000009,768,"фасадная краска с высоким показателем паропроницаемости. Матовая. С содержанием силикона и антигрибковой добавкой "]
[null,"GAMADEKOR SG (колерованная С1)","RU","фасад","Краски фасадные универсальные","вся",15,"л","ведро",0.16,0.32,"л/м²",{"$f":"M44+'7. Надбавки'!$C$6","v":820},984,157.44,14760,null,0,0,0,null,24,576,768]
["00278-141","GAMADEKOR - SA, белая","RU","фасад","Краски фасадные универсальные","вся",15,"л","ведро",0.2,0.5,"л/м²",{"$f":"VLOOKUP($A46,'Изменение прайс-листа'!$A$2:$E$798,4,FALSE)","v":1050},1260,252,18900,null,0,0,0,"●",24,572.04,768,"силиконовая краска с высокой паропрницаемостью и укрывистостью. Большой выбор цветов. "]
["00278-140","GAMADEKOR - SA, (колерованная С1)","RU","фасад","Краски фасадные универсальные","вся",15,"л","ведро",0.2,0.5,"л/м²",{"$f":"M46+'7. Надбавки'!$C$6","v":1124},1348.8,269.76,20232,null,0,0,0,null,24,572.04,768]
["***","Дополнительно  перечень и цены комплектующих в  ассортименте STO в разделе Фасады."]

{"sheet":"4. Базы","index":4,"n_rows":153,"n_cols":16,"rows_kept":153,"cut":false,"hidden":false,"merged":[[1,12,2,12],[1,7,2,7],[1,8,2,8],[0,0,0,15],[1,15,2,15],[1,1,2,1],[1,2,1,4],[1,5,2,5],[1,13,2,13],[1,14,2,14],[1,6,2,6],[1,9,2,9],[1,0,2,0],[1,10,2,10],[1,11,2,11]]}
["Прайс-лист  Товаров Продуктовой группы раздела «Материалы для колерования» (Базы)\nЦены действительны c 03.03.2022 г."]
["Артикул ","Наименование продукта","Упаковка",null,null,"Цена БЕЗ учета НДС за единицу измерения","Цена с НДС за единицу измерения","Цена с НДС за упаковку","Кол-во единиц товара","Сумма заказа с НДС","Итого вес брутто (кг)","Итого паллет","Наличие на складе","Количество упаковок на паллете, шт.","Вес одного паллето-места (без палеты), кг.","норма загрузки авто (20 т.) шт."]
[null,null,"к-во","ед.","вид упаковки"]
["05374-053","PUTZGRUND OT ",22.5,"кг","Ведро",{"$f":"VLOOKUP($A4,'Изменение прайс-листа'!$A$2:$E$798,4,FALSE)","v":590},{"$f":"F4*1.2","v":708},{"$f":"G4*C4","v":15930},null,{"$f":"I4*H4","v":0},{"$f":"ROUNDUP(O4/N4*I4,0)","v":0},{"$f":"I4/N4","v":0},null,24,548.88,792]
["05374-051","PUTZGRUND HALBTITAN ",23,"кг","Ведро",{"$f":"VLOOKUP($A5,'Изменение прайс-листа'!$A$2:$E$798,4,FALSE)","v":546},655.19999999999993,15069.599999999999,null,{"$f":"I5*H5","v":0},{"$f":"ROUNDUP(O5/N5*I5,0)","v":0},{"$f":"I5/N5","v":0},"●",24,568.00800000000004,768]
["05825-012","STOLIT K 1,0 OT",25,"кг","Ведро",{"$f":"VLOOKUP($A6,'Изменение прайс-листа'!$A$2:$E$798,4,FALSE)","v":664},796.8,19920,null,0,0,0,null,24,616.20000000000005,696]
["05826-019","STOLIT K 1,5 O T",25,"кг","Ведро",{"$f":"VLOOKUP($A7,'Изменение прайс-листа'!$A$2:$E$798,4,FALSE)","v":586},703.19999999999993,17580,null,0,0,0,null,24,616.20000000000005,696]
["05827-019","STOLIT K 2,0 O T ",25,"кг","Ведро",{"$f":"VLOOKUP($A8,'Изменение прайс-листа'!$A$2:$E$798,4,FALSE)","v":596},715.19999999999993,17880,null,0,0,0,null,24,616.20000000000005,696]
["05829-021","STOLIT K 3,0 O T ",25,"кг","Ведро",{"$f":"VLOOKUP($A9,'Изменение прайс-листа'!$A$2:$E$798,4,FALSE)","v":598},717.6,17940,null,0,0,0,null,24,616.20000000000005,696]
["05830-010","STOLIT K 6,0 O T ",25,"кг","Ведро",{"$f":"VLOOKUP($A10,'Изменение прайс-листа'!$A$2:$E$798,4,FALSE)","v":868},1041.5999999999999,26039.999999999996,null,0,0,0,null,24,616.20000000000005,696]
["05831-016","STOLIT R 1,5 O T ",25,"кг","Ведро",{"$f":"VLOOKUP($A11,'Изменение прайс-листа'!$A$2:$E$798,4,FALSE)","v":646},775.19999999999993,19380,null,0,0,0,null,24,616.20000000000005,696]
["05832-016","STOLIT R 2,0 O T ",25,"кг","Ведро",{"$f":"VLOOKUP($A12,'Изменение прайс-листа'!$A$2:$E$798,4,FALSE)","v":590},708,17700,null,0,0,0,null,24,616.20000000000005,696]
["05834-016","STOLIT R 3,0 O T ",25,"кг","Ведро",{"$f":"VLOOKUP($A13,'Изменение прайс-листа'!$A$2:$E$798,4,FALSE)","v":734},880.8,22020,null,0,0,0,null,24,616.20000000000005,696]
["05835-010","STOLIT R 6,0 O T ",25,"кг","Ведро",{"$f":"VLOOKUP($A14,'Изменение прайс-листа'!$A$2:$E$798,4,FALSE)","v":1300},1560,39000,null,0,0,0,null,24,616.20000000000005,696]
["05822-013","STOLIT MP O T ",25,"кг","Ведро",{"$f":"VLOOKUP($A15,'Изменение прайс-листа'!$A$2:$E$798,4,FALSE)","v":634},760.8,19020,null,0,0,0,null,24,616.20000000000005,696]
["15828-002","STOLIT MILANO O T ",25,"кг","Ведро",{"$f":"VLOOKUP($A16,'Изменение прайс-листа'!$A$2:$E$798,4,FALSE)","v":594},712.8,17820,null,0,0,0,null,24,616.20000000000005,696]
["15727-004","STOLIT Effect O T ",25,"кг","Ведро",{"$f":"VLOOKUP($A17,'Изменение прайс-листа'!$A$2:$E$798,4,FALSE)","v":776},931.19999999999993,23280,null,0,0,0,null,24,616.20000000000005,696]
["15096_026","ВASIS A NEOSIL B",15,"л","Ведро",{"$f":"VLOOKUP($A18,'Изменение прайс-листа'!$A$2:$E$798,4,FALSE)","v":540},648,9720,null,0,0,0,"●",24,557.64,768]
["15096_027","ВASIS B NEOSIL B",15,"л","Ведро",{"$f":"VLOOKUP($A19,'Изменение прайс-листа'!$A$2:$E$798,4,FALSE)","v":462},554.4,8316,null,0,0,0,"●",24,541.43999999999994,792]
["15096_028","ВASIS OT NEOSIL B",14.5,"л","Ведро",{"$f":"VLOOKUP($A20,'Изменение прайс-листа'!$A$2:$E$798,4,FALSE)","v":441},529.19999999999993,7673.3999999999987,null,0,0,0,"●",24,515.28,792]
["15096_226","ВASIS A NEOSIL B G",15,"л","Ведро",{"$f":"VLOOKUP($A21,'Изменение прайс-листа'!$A$2:$E$798,4,FALSE)","v":558},{"$f":"F21*1.2","v":669.6},{"$f":"G21*C21","v":10044},null,0,0,0,null,24,515.28,792]
["15096_227","ВASIS B NEOSIL B G",15,"л","Ведро",{"$f":"VLOOKUP($A22,'Изменение прайс-листа'!$A$2:$E$798,4,FALSE)","v":472},566.4,8496,null,0,0,0,null,24,515.28,792]
["15096_228","ВASIS OT NEOSIL B G",14.5,"л","Ведро",{"$f":"VLOOKUP($A23,'Изменение прайс-листа'!$A$2:$E$798,4,FALSE)","v":464},556.79999999999995,8073.5999999999995,null,0,0,0,null,24,515.28,792]
[null,"ВASIS A NEOSIL SG",15,"л","Ведро",{"$f":"'Изменение прайс-листа'!D66","v":702},{"$f":"F24*1.2","v":842.4},{"$f":"G24*C24","v":12636},null,{"$f":"I24*H24","v":0},{"$f":"ROUNDUP(O24/N24*I24,0)","v":0},{"$f":"I24/N24","v":0},"●",24,515.28,792]
[null,"ВASIS B NEOSIL SG",15,"л","Ведро",{"$f":"'Изменение прайс-листа'!D67","v":600},720,10800,null,0,0,0,"●",24,515.28,792]
[null,"ВASIS OT NEOSIL SG",14.5,"л","Ведро",{"$f":"'Изменение прайс-листа'!D68","v":570},684,9918,null,0,0,0,"●",24,515.28,792]
["05425-013","STO COLOR TOP BASIS A",15,"л","Ведро",{"$f":"VLOOKUP($A27,'Изменение прайс-листа'!$A$2:$E$798,4,FALSE)","v":1832},{"$f":"F27*1.2","v":2198.4},{"$f":"G27*C27","v":32976},null,{"$f":"I27*H27","v":0},0,0,"●",24,510.84000000000003,792]
["05425-015","STO COLOR TOP BASIS B",15,"л","Ведро",{"$f":"VLOOKUP($A28,'Изменение прайс-листа'!$A$2:$E$798,4,FALSE)","v":1632},1958.3999999999999,29375.999999999996,null,0,0,0,"●",24,507.24,792]
["05425-012","STO COLOR TOP BASIS OT",14.5,"л","Ведро",{"$f":"VLOOKUP($A29,'Изменение прайс-листа'!$A$2:$E$798,4,FALSE)","v":1492},1790.3999999999999,25960.799999999999,null,0,0,0,"●",24,501.84000000000003,792]
["15003-015","BASIS A DRYONIC ",15,"л","Ведро",{"$f":"VLOOKUP($A30,'Изменение прайс-листа'!$A$2:$E$798,4,FALSE)","v":1866},2239.1999999999998,33588,null,0,0,0,"●",24,456.84000000000003,792]
["15003-016","BASIS B DRYONIC",15,"л","Ведро",{"$f":"VLOOKUP($A31,'Изменение прайс-листа'!$A$2:$E$798,4,FALSE)","v":1820},2184,32760,null,0,0,0,"●",24,430.20000000000005,792]
["15003-014","DRYONIC O T",14.5,"л","Ведро",{"$f":"VLOOKUP($A32,'Изменение прайс-листа'!$A$2:$E$798,4,FALSE)","v":1670},2004,29058,null,0,0,0,"●",24,411,792]
["15003-044","DRYONIC S Basis A",15,"л","Ведро",{"$f":"VLOOKUP($A33,'Изменение прайс-листа'!$A$2:$E$798,4,FALSE)","v":2596},3115.2,46728,null,0,0,0,null,24,456.84000000000003,792]
["15003-045","DRYONIC S Basis B",15,"л","Ведро",{"$f":"VLOOKUP($A34,'Изменение прайс-листа'!$A$2:$E$798,4,FALSE)","v":2486},2983.2,44748,null,0,0,0,null,24,430.20000000000005,792]
["15003-046","DRYONIC S Basis OT",14.5,"л","Ведро",{"$f":"VLOOKUP($A35,'Изменение прайс-листа'!$A$2:$E$798,4,FALSE)","v":2360},2832,41064,null,0,0,0,null,24,411,792]
["15003-133","DRYONIC WOOD Basis A",10,"л","Ведро",{"$f":"VLOOKUP($A36,'Изменение прайс-листа'!$A$2:$E$798,4,FALSE)","v":2396},2875.2,28752,null,0,0,0,null,27,336.96000000000004,891]
["15003-134","DRYONIC WOOD Basis B",10,"л","Ведро",{"$f":"VLOOKUP($A37,'Изменение прайс-листа'!$A$2:$E$798,4,FALSE)","v":2336},2803.2,28032,null,0,0,0,null,27,328.59,891]
["15003-111","DRYONIC WOOD Basis OT",9.6999999999999993,"л","Ведро",{"$f":"VLOOKUP($A38,'Изменение прайс-листа'!$A$2:$E$798,4,FALSE)","v":2302},2762.4,26795.279999999999,null,0,0,0,null,27,313.22700000000003,891]
["05877-010","Color S GROB OT BASIS ",25,"кг","Ведро",{"$f":"VLOOKUP($A39,'Изменение прайс-листа'!$A$2:$E$798,4,FALSE)","v":760},912,22800,null,0,0,0,null,24,616.20000000000005,696]
["05876-010","Color S FEIN OT BASIS ",25,"кг","Ведро",{"$f":"VLOOKUP($A40,'Изменение прайс-листа'!$A$2:$E$798,4,FALSE)","v":734},880.8,22020,null,0,0,0,"●",24,616.20000000000005,696]
["05876-019","Color S FEIN A BASIS ",25,"кг","Ведро",{"$f":"VLOOKUP($A41,'Изменение прайс-листа'!$A$2:$E$798,4,FALSE)","v":798},957.59999999999991,23939.999999999996,null,0,0,0,"●",24,616.20000000000005,696]
["05415-148","BASIS A SVJ Jumbosil",15,"л","Ведро",{"$f":"VLOOKUP($A42,'Изменение прайс-листа'!$A$2:$E$798,4,FALSE)","v":1016},1219.2,18288,null,0,0,0,"●",24,557.64,768]
["05415-153","BASIS B SVJ Jumbosil",15,"л","Ведро",{"$f":"VLOOKUP($A43,'Изменение прайс-листа'!$A$2:$E$798,4,FALSE)","v":954},1144.8,17172,null,0,0,0,"●",24,541.43999999999994,792]
["05415-156","BASIS O T SVJ Jumbosil",14.5,"л","Ведро",{"$f":"VLOOKUP($A44,'Изменение прайс-листа'!$A$2:$E$798,4,FALSE)","v":912},1094.3999999999999,15868.799999999997,null,0,0,0,"●",24,515.28,792]
["05902-103","BASIS A SILCO IQ",15,"л","Ведро",{"$f":"VLOOKUP($A45,'Изменение прайс-листа'!$A$2:$E$798,4,FALSE)","v":1202},1442.3999999999999,21635.999999999996,null,0,0,0,null,24,561.84,768]
["05902-105","BASIS B SILCO IQ",15,"л","Ведро",{"$f":"VLOOKUP($A46,'Изменение прайс-листа'!$A$2:$E$798,4,FALSE)","v":1122},1346.3999999999999,20195.999999999996,null,0,0,0,null,24,557.52,768]
["05902-101","BASIS OT SILCO IQ ",14.5,"л","Ведро",{"$f":"VLOOKUP($A47,'Изменение прайс-листа'!$A$2:$E$798,4,FALSE)","v":1096},1315.2,19070.400000000001,null,0,0,0,null,24,552.96,768]
["05454-058","BASIS OT SILCO G IQ ",14.5,"л","Ведро",{"$f":"VLOOKUP($A48,'Изменение прайс-листа'!$A$2:$E$798,4,FALSE)","v":1168},1401.6,20323.199999999997,null,0,0,0,null,24,552.96,768]
["15101-161","BASIS A LOTUSAN IQ",12.5,"л","Ведро",{"$f":"VLOOKUP($A49,'Изменение прайс-листа'!$A$2:$E$798,4,FALSE)","v":1378},1653.6,20670,null,0,0,0,"●",32,613.6,928]
["15101-163","BASIS B LOTUSAN IQ",12.5,"л","Ведро",{"$f":"VLOOKUP($A50,'Изменение прайс-листа'!$A$2:$E$798,4,FALSE)","v":1210},1452,18150,null,0,0,0,"●",32,595.20000000000005,960]
["15101-159","BASIS OT LOTUSAN IQ ",12.1,"л","Ведро",{"$f":"VLOOKUP($A51,'Изменение прайс-листа'!$A$2:$E$798,4,FALSE)","v":1152},1382.3999999999999,16727.039999999997,null,0,0,0,"●",32,565.31200000000001,1024]
["15003-271","BASIS A LOTUSAN AIMS IQ 15 L EIM",15,"л","Ведро",{"$f":"VLOOKUP($A52,'Изменение прайс-листа'!$A$2:$E$798,4,FALSE)","v":1788},{"$f":"F52*1.2","v":2145.6},{"$f":"G52*C52","v":32184},null,{"$f":"I52*H52","v":0},{"$f":"ROUNDUP(O52/N52*I52,0)","v":0},{"$f":"I52/N52","v":0},null,32,565.31200000000001,1024]
["15003-273","BASIS B LOTUSAN AIMS IQ 15 L EIM",15,"л","Ведро",{"$f":"VLOOKUP($A53,'Изменение прайс-листа'!$A$2:$E$798,4,FALSE)","v":1674},2008.8,30132,null,0,0,0,null,32,565.31200000000001,1024]
["15003-269","LOTUSAN AIMS IQ O T 14,5 L EIM",14.5,"л","Ведро",{"$f":"VLOOKUP($A54,'Изменение прайс-листа'!$A$2:$E$798,4,FALSE)","v":1496},1795.2,26030.400000000001,null,0,0,0,null,32,565.31200000000001,1024]
["05007-025","SIL BASIS A ",15,"л","Ведро",{"$f":"VLOOKUP($A55,'Изменение прайс-листа'!$A$2:$E$798,4,FALSE)","v":1192},1430.3999999999999,21455.999999999996,null,0,0,0,null,24,581.76,744]
["05007-034","SIL BASIS B ",15,"л","Ведро",{"$f":"VLOOKUP($A56,'Изменение прайс-листа'!$A$2:$E$798,4,FALSE)","v":1080},1296,19440,null,0,0,0,null,24,579.36,744]
["05883-021","BASIS A LCRB / COLOR LASTIC",15,"л","Ведро",{"$f":"VLOOKUP($A57,'Изменение прайс-листа'!$A$2:$E$798,4,FALSE)","v":1606},1927.1999999999998,28907.999999999996,null,0,0,0,"●",24,491.04,792]
["05883-018","BASIS B LCRB / COLOR LASTIC",15,"л","Ведро",{"$f":"VLOOKUP($A58,'Изменение прайс-листа'!$A$2:$E$798,4,FALSE)","v":1514},1816.8,27252,null,0,0,0,"●",24,473.40000000000003,792]
["05883-014","BASIS RB OT / COLOR LASTIC",14.5,"л","Ведро",{"$f":"VLOOKUP($A59,'Изменение прайс-листа'!$A$2:$E$798,4,FALSE)","v":1416},1699.2,24638.400000000001,null,0,0,0,"●",24,444.048,792]
["05355-009","FIBRASIL BASIS A ",15,"л","Ведро",{"$f":"VLOOKUP($A60,'Изменение прайс-листа'!$A$2:$E$798,4,FALSE)","v":1664},1996.8,29952,null,0,0,0,null,24,514.43999999999994,792]
["05355-011","FIBRASIL BASIS B ",15,"л","Ведро",{"$f":"VLOOKUP($A61,'Изменение прайс-листа'!$A$2:$E$798,4,FALSE)","v":1528},1833.6,27504,null,0,0,0,null,24,509.76,792]
["05355-007","FIBRASIL O T 14,5 L EIM D/E/F/",14.5,"л","Ведро",{"$f":"VLOOKUP($A62,'Изменение прайс-листа'!$A$2:$E$798,4,FALSE)","v":1412},1694.3999999999999,24568.799999999999,null,0,0,0,null,24,473.64,792]
["15319-007","SILCO ELAST BASIS A",15,"л","Ведро",{"$f":"VLOOKUP($A63,'Изменение прайс-листа'!$A$2:$E$798,4,FALSE)","v":2002},{"$f":"F63*1.2","v":2402.4},{"$f":"G63*C63","v":36036},null,0,0,0,null,24,539.28,792]
["15319-005","SILCO ELAST BASIS OT",14.5,"л","Ведро",{"$f":"VLOOKUP($A64,'Изменение прайс-листа'!$A$2:$E$798,4,FALSE)","v":1768},2121.6,30763.199999999997,null,0,0,0,null,24,539.28,792]
["05076-013","StoAQUA TOP SATIN OT",5,"л","Банка",{"$f":"VLOOKUP($A65,'Изменение прайс-листа'!$A$2:$E$798,4,FALSE)","v":2862},{"$f":"F65*1.2","v":3434.4},{"$f":"G65*C65","v":17172},null,0,0,0,null,60,339.3,1980]
["05076-012","StoAQUA TOP SATIN OT",2.5,"л","Банка",{"$f":"VLOOKUP($A66,'Изменение прайс-листа'!$A$2:$E$798,4,FALSE)","v":2622},3146.4,7866,null,0,0,0,"●",160,452.47999999999996,5280]
["66004_121","GAMADEKOR - F база A",15,"л","Ведро",{"$f":"VLOOKUP($A67,'Изменение прайс-листа'!$A$2:$E$798,4,FALSE)","v":516},619.19999999999993,9287.9999999999982,null,0,0,0,"●",24,515.28,792]
["66004_122","GAMADEKOR - F база B",15,"л","Ведро",{"$f":"VLOOKUP($A68,'Изменение прайс-листа'!$A$2:$E$798,4,FALSE)","v":470},564,8460,null,0,0,0,"●",24,515.28,792]
["66004_123","GAMADEKOR - F база OT",14.5,"л","Ведро",{"$f":"VLOOKUP($A69,'Изменение прайс-листа'!$A$2:$E$798,4,FALSE)","v":460},552,8004,null,0,0,0,"●",24,515.28,792]
[null,"GAMADEKOR SG база A",15,"л","Ведро",{"$f":"'Изменение прайс-листа'!D30","v":674},808.8,12132,null,{"$f":"I70*H70","v":0},{"$f":"ROUNDUP(O70/N70*I70,0)","v":0},{"$f":"I70/N70","v":0},"●",24,515.28,792]
[null,"GAMADEKOR SG база B",15,"л","Ведро",{"$f":"'Изменение прайс-листа'!D31","v":572},686.4,10296,null,0,0,0,"●",24,515.28,792]
[null,"GAMADEKOR SG база OT",14.5,"л","Ведро",{"$f":"'Изменение прайс-листа'!D32","v":542},650.4,9430.7999999999993,null,0,0,0,"●",24,515.28,792]
["05415-165","GAMADEKOR - SA, база А",15,"л","Ведро",{"$f":"VLOOKUP($A73,'Изменение прайс-листа'!$A$2:$E$798,4,FALSE)","v":1022},{"$f":"F73*1.2","v":1226.3999999999999},{"$f":"G73*C73","v":18395.999999999996},null,{"$f":"I73*H73","v":0},0,0,"●",24,557.64,768]
["05415-166","GAMADEKOR - SA, база B",15,"л","Ведро",{"$f":"VLOOKUP($A74,'Изменение прайс-листа'!$A$2:$E$798,4,FALSE)","v":960},1152,17280,null,0,0,0,"●",24,541.43999999999994,792]
["05415-167","GAMADEKOR - SA, база OT",14.5,"л","Ведро",{"$f":"VLOOKUP($A75,'Изменение прайс-листа'!$A$2:$E$798,4,FALSE)","v":956},1147.2,16634.400000000001,null,0,0,0,"●",24,515.52,792]
["15993-011","BASIS A TITANIUM ASE",15,"л","Ведро",{"$f":"VLOOKUP($A76,'Изменение прайс-листа'!$A$2:$E$798,4,FALSE)","v":1494},{"$f":"F76*1.2","v":1792.8},{"$f":"G76*C76","v":26892},null,{"$f":"I76*H76","v":0},0,0,"●",24,527.04,792]
["15993-010","BASIS A TITANIUM ASE",5,"л","Ведро",{"$f":"VLOOKUP($A77,'Изменение прайс-листа'!$A$2:$E$798,4,FALSE)","v":1752},2102.4,10512,null,0,0,0,"●",60,441.6,1980]
["15993-014","BASIS B TITANIUM ASE",15,"л","Ведро",{"$f":"VLOOKUP($A78,'Изменение прайс-листа'!$A$2:$E$798,4,FALSE)","v":1442},1730.3999999999999,25955.999999999996,null,0,{"$f":"ROUNDUP(O78/N78*I78,0)","v":0},{"$f":"I78/N78","v":0},"●",24,491.04,792]
["15993-013","BASIS B TITANIUM ASE",5,"л","Ведро",{"$f":"VLOOKUP($A79,'Изменение прайс-листа'!$A$2:$E$798,4,FALSE)","v":1694},2032.8,10164,null,0,0,0,"●",60,411.6,1980]
["15993-007","BASIS OT TITANIUM ASE",14.5,"л","Ведро",{"$f":"VLOOKUP($A80,'Изменение прайс-листа'!$A$2:$E$798,4,FALSE)","v":1470},1764,25578,null,0,0,0,"●",24,454.56000000000006,792]
["15993-006","BASIS OT TITANIUM ASE",4.8499999999999996,"л","Ведро",{"$f":"VLOOKUP($A81,'Изменение прайс-листа'!$A$2:$E$798,4,FALSE)","v":1688},2025.6,9824.159999999998,null,0,0,0,"●",60,382.2,1980.0000000000002]
["15964-005","BASIS A INNEN MATT ",15,"л","Ведро",{"$f":"VLOOKUP($A82,'Изменение прайс-листа'!$A$2:$E$798,4,FALSE)","v":1058},{"$f":"F82*1.2","v":1269.5999999999999},{"$f":"G82*C82","v":19044},null,{"$f":"I82*H82","v":0},0,0,"●",24,554.04,768]
["15964-012","BASIS A INNEN MATT ",10,"л","Ведро",{"$f":"VLOOKUP($A83,'Изменение прайс-листа'!$A$2:$E$798,4,FALSE)","v":1158},{"$f":"F83*1.2","v":1389.6},{"$f":"G83*C83","v":13896},null,{"$f":"I83*H83","v":0},0,0,"●",27,416.07,891]
["15964-011","BASIS A INNEN MATT ",5,"л","Ведро",{"$f":"VLOOKUP($A84,'Изменение прайс-листа'!$A$2:$E$798,4,FALSE)","v":1152},{"$f":"F84*1.2","v":1382.3999999999999},{"$f":"G84*C84","v":6911.9999999999991},null,{"$f":"I84*H84","v":0},0,0,"●",60,463.8,1980]
["15964-010","BASIS A INNEN MATT",2.5,"л","Ведро",{"$f":"VLOOKUP($A85,'Изменение прайс-листа'!$A$2:$E$798,4,FALSE)","v":1744},{"$f":"F85*1.2","v":2092.7999999999997},{"$f":"G85*C85","v":5231.9999999999991},null,{"$f":"I85*H85","v":0},0,0,"●",72,282.59999999999997,2376]
["15964-006","BASIS B INNEN MATT ",15,"л","Ведро",{"$f":"VLOOKUP($A86,'Изменение прайс-листа'!$A$2:$E$798,4,FALSE)","v":892},1070.3999999999999,16055.999999999998,null,0,0,0,"●",24,545.04,792]
["15964-015","BASIS B INNEN MATT ",10,"л","Ведро",{"$f":"VLOOKUP($A87,'Изменение прайс-листа'!$A$2:$E$798,4,FALSE)","v":1068},{"$f":"F87*1.2","v":1281.5999999999999},{"$f":"G87*C87","v":12816},null,{"$f":"I87*H87","v":0},0,0,"●",27,410.67,891]
["15964-014","BASIS B INNEN MATT ",5,"л","Ведро",{"$f":"VLOOKUP($A88,'Изменение прайс-листа'!$A$2:$E$798,4,FALSE)","v":1142},1370.3999999999999,6851.9999999999991,null,0,0,0,"●",60,457.8,1980]
["15964-013","BASIS B INNEN MATT ",2.5,"л","Ведро",{"$f":"VLOOKUP($A89,'Изменение прайс-листа'!$A$2:$E$798,4,FALSE)","v":1590},1908,4770,null,0,0,0,"●",72,242.136,2376]
["15964-004","INNEN MATT O T ",14.5,"л","Ведро",{"$f":"VLOOKUP($A90,'Изменение прайс-листа'!$A$2:$E$798,4,FALSE)","v":796},955.19999999999993,13850.4,null,0,0,0,"●",24,527.56799999999998,792]
["15964-009","INNEN MATT O T ",9.6999999999999993,"л","Ведро",{"$f":"VLOOKUP($A91,'Изменение прайс-листа'!$A$2:$E$798,4,FALSE)","v":976},1171.2,11360.64,null,0,0,0,"●",27,397.57499999999999,891]
["15964-008","INNEN MATT O T",4.8499999999999996,"л","Ведро",{"$f":"VLOOKUP($A92,'Изменение прайс-листа'!$A$2:$E$798,4,FALSE)","v":1052},1262.3999999999999,6122.6399999999985,null,0,0,0,"●",60,443.21999999999997,1980.0000000000002]
["15964-007","INNEN MATT O T ",2.4,"л","Ведро",{"$f":"VLOOKUP($A93,'Изменение прайс-листа'!$A$2:$E$798,4,FALSE)","v":1524},1828.8,4389.12,null,0,0,0,"●",72,267.48,2376]
["15965-005","BASIS A INNEN SATINMATT ",15,"л","Ведро",{"$f":"VLOOKUP($A94,'Изменение прайс-листа'!$A$2:$E$798,4,FALSE)","v":1180},{"$f":"F94*1.2","v":1416},{"$f":"G94*C94","v":21240},null,{"$f":"I94*H94","v":0},0,0,"●",24,500.40000000000003,792]
["15965-012","BASIS A INNEN SATINMATT ",10,"л","Ведро",{"$f":"VLOOKUP($A95,'Изменение прайс-листа'!$A$2:$E$798,4,FALSE)","v":1358},1629.6,16296,null,0,0,0,"●",27,416.07,891]
["15965-011","BASIS A INNEN SATINMATT",5,"л","Ведро",{"$f":"VLOOKUP($A96,'Изменение прайс-листа'!$A$2:$E$798,4,FALSE)","v":1430},1716,8580,null,0,0,0,"●",60,463.8,1980]
["15965-010","BASIS A INNEN SATINMATT ",2.5,"л","Ведро",{"$f":"VLOOKUP($A97,'Изменение прайс-листа'!$A$2:$E$798,4,FALSE)","v":1878},2253.6,5634,null,0,0,0,"●",72,282.59999999999997,2376]
["15965-006","BASIS B INNEN SATINMATT ",15,"л","Ведро",{"$f":"VLOOKUP($A98,'Изменение прайс-листа'!$A$2:$E$798,4,FALSE)","v":1044},1252.8,18792,null,0,0,0,"●",24,473.04,792]
["15965-015","BASIS B INNEN SATINMATT",10,"л","Ведро",{"$f":"VLOOKUP($A99,'Изменение прайс-листа'!$A$2:$E$798,4,FALSE)","v":1066},1279.2,12792,null,0,0,0,"●",27,355.32,891]
["15965-014","BASIS B INNEN SATINMATT",5,"л","Ведро",{"$f":"VLOOKUP($A100,'Изменение прайс-листа'!$A$2:$E$798,4,FALSE)","v":1138},1365.6,6828,null,0,0,0,"●",60,396.3,1980]
["15965-013","BASIS B INNEN SATINMATT ",2.5,"л","Ведро",{"$f":"VLOOKUP($A101,'Изменение прайс-листа'!$A$2:$E$798,4,FALSE)","v":1602},1922.3999999999999,4806,null,0,0,0,"●",72,242.136,2376]
["15965-004","INNEN SATINMATT O T ",14.5,"л","Ведро",{"$f":"VLOOKUP($A102,'Изменение прайс-листа'!$A$2:$E$798,4,FALSE)","v":942},1130.3999999999999,16390.8,null,0,0,0,"●",24,447.52799999999996,792]
["15965-009","INNEN SATINMATT O T ",9.6999999999999993,"л","Ведро",{"$f":"VLOOKUP($A103,'Изменение прайс-листа'!$A$2:$E$798,4,FALSE)","v":1184},1420.8,13781.759999999998,null,0,0,0,"●",27,337.33799999999997,891]
["15965-008","INNEN SATINMATT O T ",4.8499999999999996,"л","Ведро",{"$f":"VLOOKUP($A104,'Изменение прайс-листа'!$A$2:$E$798,4,FALSE)","v":1254},1504.8,7298.2799999999988,null,0,0,0,"●",60,376.26,1980.0000000000002]
["15965-007","INNEN SATINMATT O T",2.4,"л","Ведро",{"$f":"VLOOKUP($A105,'Изменение прайс-листа'!$A$2:$E$798,4,FALSE)","v":1716},2059.1999999999998,4942.079999999999,null,0,0,0,"●",72,227.73599999999999,2376]
["15966-005","BASIS A INNEN SATIN 15 L EIM",15,"л","Ведро",{"$f":"VLOOKUP($A106,'Изменение прайс-листа'!$A$2:$E$798,4,FALSE)","v":1912},{"$f":"F106*1.2","v":2294.4},{"$f":"G106*C106","v":34416},null,0,0,0,null,24,522.36,792]
["15966-012","BASIS A INNEN SATIN ",10,"л","Ведро",{"$f":"VLOOKUP($A107,'Изменение прайс-листа'!$A$2:$E$798,4,FALSE)","v":2050},{"$f":"F107*1.2","v":2460},{"$f":"G107*C107","v":24600},null,{"$f":"I107*H107","v":0},0,0,null,27,391.77,891]
["15966-011","BASIS A INNEN SATIN ",5,"л","Ведро",{"$f":"VLOOKUP($A108,'Изменение прайс-листа'!$A$2:$E$798,4,FALSE)","v":2144},{"$f":"F108*1.2","v":2572.7999999999997},{"$f":"G108*C108","v":12863.999999999998},null,{"$f":"I108*H108","v":0},0,0,null,60,435.3,1980]
["15966-010","BASIS A INNEN SATIN ",2.5,"л","Ведро",{"$f":"VLOOKUP($A109,'Изменение прайс-листа'!$A$2:$E$798,4,FALSE)","v":2644},{"$f":"F109*1.2","v":3172.7999999999997},{"$f":"G109*C109","v":7931.9999999999991},null,{"$f":"I109*H109","v":0},0,0,null,72,261.21600000000001,2376]
["15966-006","BASIS B INNEN SATIN 15 L EIM",15,"л","Ведро",{"$f":"VLOOKUP($A110,'Изменение прайс-листа'!$A$2:$E$798,4,FALSE)","v":1718},2061.6,30924,null,0,0,0,null,24,482.04,792]
["15966-015","BASIS B INNEN SATIN ",10,"л","Ведро",{"$f":"VLOOKUP($A111,'Изменение прайс-листа'!$A$2:$E$798,4,FALSE)","v":1856},{"$f":"F111*1.2","v":2227.1999999999998},{"$f":"G111*C111","v":22272},null,{"$f":"I111*H111","v":0},0,0,null,27,361.53000000000003,891]
["15966-014","BASIS B INNEN SATIN ",5,"л","Ведро",{"$f":"VLOOKUP($A112,'Изменение прайс-листа'!$A$2:$E$798,4,FALSE)","v":1962},{"$f":"F112*1.2","v":2354.4},{"$f":"G112*C112","v":11772},null,{"$f":"I112*H112","v":0},0,0,null,60,401.70000000000005,1980]
["15966-013","BASIS B INNEN SATIN ",2.5,"л","Ведро",{"$f":"VLOOKUP($A113,'Изменение прайс-листа'!$A$2:$E$798,4,FALSE)","v":2450},{"$f":"F113*1.2","v":2940},{"$f":"G113*C113","v":7350},null,{"$f":"I113*H113","v":0},0,0,null,72,241.05599999999998,2376]
["15966-004","INNEN SATIN O T ",14.5,"л","Ведро",{"$f":"VLOOKUP($A114,'Изменение прайс-листа'!$A$2:$E$798,4,FALSE)","v":1602},{"$f":"F114*1.2","v":1922.3999999999999},{"$f":"G114*C114","v":27874.799999999999},null,{"$f":"I114*H114","v":0},0,0,null,24,448.22399999999993,792]
["15966-007","INNEN SATIN O T ",2.4,"л","Ведро",{"$f":"VLOOKUP($A115,'Изменение прайс-листа'!$A$2:$E$798,4,FALSE)","v":2372},2846.4,6831.36,null,0,0,0,null,72,222.624,2376]
["15966-008","INNEN SATIN O T ",4.8499999999999996,"л","Ведро",{"$f":"VLOOKUP($A116,'Изменение прайс-листа'!$A$2:$E$798,4,FALSE)","v":1840},2208,10708.8,null,0,0,0,null,60,374.82,1980.0000000000002]
["15966-009","INNEN SATIN O T ",9.6999999999999993,"л","Ведро",{"$f":"VLOOKUP($A117,'Изменение прайс-листа'!$A$2:$E$798,4,FALSE)","v":1744},2092.7999999999997,20300.159999999996,null,0,0,0,null,27,337.33799999999997,891]
["15967-005","BASIS A INNEN GLOSS ",15,"л","Ведро",{"$f":"VLOOKUP($A118,'Изменение прайс-листа'!$A$2:$E$798,4,FALSE)","v":2274},{"$f":"F118*1.2","v":2728.7999999999997},{"$f":"G118*C118","v":40931.999999999993},null,{"$f":"I118*H118","v":0},0,0,null,24,476.64,792]
["15967-012","BASIS A INNEN GLOSS ",10,"л","Ведро",{"$f":"VLOOKUP($A119,'Изменение прайс-листа'!$A$2:$E$798,4,FALSE)","v":2538},3045.6,30456,null,0,0,0,null,27,357.48,891]
["15967-011","BASIS A INNEN GLOSS ",5,"л","Ведро",{"$f":"VLOOKUP($A120,'Изменение прайс-листа'!$A$2:$E$798,4,FALSE)","v":2516},3019.2,15096,null,0,0,0,null,60,397.2,1980]
["15967-010","BASIS A INNEN GLOSS ",2.5,"л","Ведро",{"$f":"VLOOKUP($A121,'Изменение прайс-листа'!$A$2:$E$798,4,FALSE)","v":2842},3410.4,8526,null,0,0,0,null,72,238.32,2376]
["15967-006","BASIS B INNEN GLOSS ",15,"л","Ведро",{"$f":"VLOOKUP($A122,'Изменение прайс-листа'!$A$2:$E$798,4,FALSE)","v":2128},2553.6,38304,null,0,0,0,null,24,440.28,792]
["15967-015","BASIS B INNEN GLOSS ",10,"л","Ведро",{"$f":"VLOOKUP($A123,'Изменение прайс-листа'!$A$2:$E$798,4,FALSE)","v":2612},3134.4,31344,null,0,0,0,null,27,330.21000000000004,891]
["15967-014","BASIS B INNEN GLOSS ",5,"л","Ведро",{"$f":"VLOOKUP($A124,'Изменение прайс-листа'!$A$2:$E$798,4,FALSE)","v":2338},2805.6,14028,null,0,0,0,null,60,366.90000000000003,1980]
["15967-013","BASIS B INNEN GLOSS",2.5,"л","Ведро",{"$f":"VLOOKUP($A125,'Изменение прайс-листа'!$A$2:$E$798,4,FALSE)","v":2640},3168,7920,null,0,0,0,null,72,220.17599999999999,2376]
["15967-004","INNEN GLOSS O T ",14.5,"л","Ведро",{"$f":"VLOOKUP($A126,'Изменение прайс-листа'!$A$2:$E$798,4,FALSE)","v":1774},2128.7999999999997,30867.599999999995,null,0,0,0,null,24,402.28800000000001,792]
["15967-009","INNEN GLOSS O T ",9.6999999999999993,"л","Ведро",{"$f":"VLOOKUP($A127,'Изменение прайс-листа'!$A$2:$E$798,4,FALSE)","v":2216},2659.2,25794.239999999998,null,0,0,0,null,27,303.80400000000003,891]
["15967-008","INNEN GLOSS O T ",4.8499999999999996,"л","Ведро",{"$f":"VLOOKUP($A128,'Изменение прайс-листа'!$A$2:$E$798,4,FALSE)","v":2022},2426.4,11768.039999999999,null,0,0,0,null,60,337.56,1980.0000000000002]
["15967-007","INNEN GLOSS O T",2.4,"л","Ведро",{"$f":"VLOOKUP($A129,'Изменение прайс-листа'!$A$2:$E$798,4,FALSE)","v":2540},3048,7315.2,null,0,0,0,null,72,200.44799999999998,2376]
["15799-007","BASIS A PURAN SATIN ",15,"кг","Ведро",{"$f":"VLOOKUP($A130,'Изменение прайс-листа'!$A$2:$E$798,4,FALSE)","v":2142},2570.4,38556,null,0,0,0,"●",24,375.84000000000003,792]
["15799-004","BASIS B PURAN SATIN ",15,"кг","Ведро",{"$f":"VLOOKUP($A131,'Изменение прайс-листа'!$A$2:$E$798,4,FALSE)","v":2068},{"$f":"F131*1.2","v":2481.6},{"$f":"G131*C131","v":37224},null,0,0,0,"●",24,375.84000000000003,792]
["15799-008","BASIS OT PURAN SATIN ",14.6,"кг","Ведро",{"$f":"VLOOKUP($A132,'Изменение прайс-листа'!$A$2:$E$798,4,FALSE)","v":2350},2820,41172,null,0,0,0,"●",24,366.16800000000001,792]
["00082-001","PURAN KB",1.5,"кг","Банка",{"$f":"VLOOKUP($A133,'Изменение прайс-листа'!$A$2:$E$798,4,FALSE)","v":7750},9300,13950,null,0,0,0,"●",180,313.2,5940]
["15033-002","LOOK STRUKTUR F OT ",20,"кг","Ведро",{"$f":"VLOOKUP($A134,'Изменение прайс-листа'!$A$2:$E$798,4,FALSE)","v":802},962.4,19248,null,0,0,0,null,24,495.84000000000003,792]
["05082-024","StoAQUA TOP IN OT",2.5,"л","Банка",{"$f":"VLOOKUP($A135,'Изменение прайс-листа'!$A$2:$E$798,4,FALSE)","v":2710},{"$f":"F135*1.2","v":3252},{"$f":"G135*C135","v":8130},null,{"$f":"I135*H135","v":0},0,0,null,160,454.08000000000004,5280]
["15013-019","StoPOX WL 100 BASIS A",10,"кг","Ведро",{"$f":"VLOOKUP($A136,'Изменение прайс-листа'!$A$2:$E$798,4,FALSE)","v":2228},2673.6,26736,null,{"$f":"I136*H136","v":0},0,0,null,40,418.8,1320]
["15013-021","StoPOX WL 100 BASIS B",10,"кг","Ведро",{"$f":"VLOOKUP($A137,'Изменение прайс-листа'!$A$2:$E$798,4,FALSE)","v":2176},2611.1999999999998,26112,null,0,0,0,null,40,418.8,1320]
["08989-009","StoPOX WL/WB/WG Comp. B",2,"кг","Банка",{"$f":"VLOOKUP($A138,'Изменение прайс-листа'!$A$2:$E$798,4,FALSE)","v":4694},5632.8,11265.6,null,0,0,0,null,120,268.8,3960]
["15013-029","StoPOX WL 100 KA OT",9.6999999999999993,"кг","Ведро",{"$f":"VLOOKUP($A139,'Изменение прайс-листа'!$A$2:$E$798,4,FALSE)","v":2094},{"$f":"F139*1.2","v":2512.7999999999997},{"$f":"G139*C139","v":24374.159999999996},null,{"$f":"I139*H139","v":0},0,0,null,40,407,1320]
["08989-010","StoPOX WL/WB/WG Comp. B",5,"кг","Банка",{"$f":"VLOOKUP($A140,'Изменение прайс-листа'!$A$2:$E$798,4,FALSE)","v":4504},5404.8,27024,null,0,0,0,null,60,325.79999999999995,1980]
["15675-005","StoPox MS 200 Weiss",12.5,"кг","Ведро",{"$f":"VLOOKUP($A141,'Изменение прайс-листа'!$A$2:$E$798,4,FALSE)","v":2870},3444,43050,null,0,0,0,null,28,368.56400000000002,924]
["15675-007","StoPox MS 200 Basis A",12.5,"кг","Ведро",{"$f":"VLOOKUP($A142,'Изменение прайс-листа'!$A$2:$E$798,4,FALSE)","v":3014},3616.7999999999997,45210,null,0,{"$f":"ROUNDUP(O142/N142*I142,0)","v":0},{"$f":"I142/N142","v":0},null,28,368.56400000000002,924]
["15675-006","StoPox MS 200 Basis B",12.5,"кг","Ведро",{"$f":"VLOOKUP($A143,'Изменение прайс-листа'!$A$2:$E$798,4,FALSE)","v":2910},3492,43650,null,0,0,0,null,28,368.56400000000002,924]
["15675-004","StoPox MS 200 Basis OT",12.1,"кг","Ведро",{"$f":"VLOOKUP($A144,'Изменение прайс-листа'!$A$2:$E$798,4,FALSE)","v":2840},3408,41236.799999999996,null,0,0,0,null,28,357.36399999999998,924]
["09352-001","StoPox MS 200 Comp. B",5,"кг","Ведро",{"$f":"VLOOKUP($A145,'Изменение прайс-листа'!$A$2:$E$798,4,FALSE)","v":5674},6808.8,34044,null,0,0,0,null,60,328.2,1980]
["15003-175","Basis A CRYL BF 700",10,"л","Ведро",{"$f":"VLOOKUP($A146,'Изменение прайс-листа'!$A$2:$E$798,4,FALSE)","v":2326},2791.2,27912,null,0,0,0,null,27,352.08,891]
["15003-177","Basis B CRYL BF 700",10,"л","Ведро",{"$f":"VLOOKUP($A147,'Изменение прайс-листа'!$A$2:$E$798,4,FALSE)","v":2302},2762.4,27624,null,0,0,0,null,27,344.52,891]
["15003-180","Basis OT CRYL BF 700",9.6999999999999993,"л","Ведро",{"$f":"VLOOKUP($A148,'Изменение прайс-листа'!$A$2:$E$798,4,FALSE)","v":2296},2755.2,26725.439999999995,null,0,0,0,null,27,329.48099999999999,891]
["15003-176","Basis A CRYL BF 700",5,"л","Ведро",{"$f":"VLOOKUP($A149,'Изменение прайс-листа'!$A$2:$E$798,4,FALSE)","v":2422},2906.4,14532,null,0,0,0,null,60,392.7,1980]
["15003-178","Basis B CRYL BF 700",5,"л","Ведро",{"$f":"VLOOKUP($A150,'Изменение прайс-листа'!$A$2:$E$798,4,FALSE)","v":2400},2880,14400,null,0,0,0,null,60,392.7,1980]
["15003-179","Basis OT CRYL BF 700",4.8499999999999996,"л","Ведро",{"$f":"VLOOKUP($A151,'Изменение прайс-листа'!$A$2:$E$798,4,FALSE)","v":2396},2875.2,13944.719999999998,null,0,0,0,null,60,380.94,1980]
["15003-188","Basis Gold CRYL BF 700 Metallic",5,"л","Ведро",{"$f":"VLOOKUP($A152,'Изменение прайс-листа'!$A$2:$E$798,4,FALSE)","v":5630},{"$f":"F152*1.2","v":6756},{"$f":"G152*C152","v":33780},null,0,0,0,null,60,408.29999999999995,1980]
["15003-189","Basis Silber CRYL BF 700 Metallic",5,"л","Ведро",{"$f":"VLOOKUP($A153,'Изменение прайс-листа'!$A$2:$E$798,4,FALSE)","v":3438},{"$f":"F153*1.2","v":4125.5999999999995},{"$f":"G153*C153","v":20627.999999999996},null,0,0,0,null,60,408.29999999999995,1980]

{"sheet":"5. Ведра. Инструмент","index":5,"n_rows":64,"n_cols":13,"rows_kept":64,"cut":false,"hidden":false,"merged":[[58,12,60,12],[26,12,28,12],[36,12,40,12],[41,12,42,12],[47,12,49,12],[55,12,56,12],[11,12,12,12],[14,12,15,12],[16,12,17,12],[19,12,21,12],[24,12,25,12],[3,12,8,12],[0,0,0,12],[1,0,2,0],[1,1,2,1],[1,3,1,4],[1,5,2,5],[1,6,2,6],[1,7,2,7],[1,12,2,12],[1,2,2,2],[1,8,2,8],[1,9,2,9],[1,10,2,10],[1,11,2,11]]}
["Прайс-лист  Товаров Продуктовой группы раздела «Профессиональный ручной инструмент»\nЦены действительны c 03.03.2022 г."]
["Артикул ","Наименование продукта","Вид материала","Упаковка",null,"фото","Цена руб/ед\nбез учета НДС","Цена руб/ед\nс учетом НДС","Кол-во единиц товара","Сумма заказа с НДС","Наличие на складе","Рекомендованный ассортимент","Краткое описание продукта"]
[null,null,null,"к-во","ед."]
["09679-188","Ведро желтое с логотипом Sto - 0,8 литра","Ведро","1","шт.",null,{"$f":"VLOOKUP($A4,'Изменение прайс-листа'!$A$2:$E$798,4,FALSE)","v":380},{"$f":"G4*1.2","v":456},null,{"$f":"I4*H4","v":0},"●","●","Ведро фирменное с логотипом Sto для образцов"]
["09257-002","Ведро желтое с логотипом Sto - 1,8 литра","Ведро","1","шт.",null,{"$f":"VLOOKUP($A5,'Изменение прайс-листа'!$A$2:$E$798,4,FALSE)","v":498},{"$f":"G5*1.2","v":597.6},null,{"$f":"I5*H5","v":0},"●","●"]
["09050-002","Ведро желтое с логотипом Sto - 3,2 литра","Ведро","1","шт.",null,{"$f":"VLOOKUP($A6,'Изменение прайс-листа'!$A$2:$E$798,4,FALSE)","v":530},{"$f":"G6*1.2","v":636},null,0,"●","●"]
["09049-002","Ведро желтое с логотипом Sto - 5,5 литра","Ведро","1","шт.",null,{"$f":"VLOOKUP($A7,'Изменение прайс-листа'!$A$2:$E$798,4,FALSE)","v":646},{"$f":"G7*1.2","v":775.19999999999993},null,0,"●","●"]
["09065-001","Ведро желтое с логотипом Sto - 12,0 литров","Ведро","1","шт.",null,"по запросу","по запросу",null,{"$f":"H8","v":"по запросу"},"●"]
["09019-002","Ведро желтое с логотипом Sto - 18,0 литров","Ведро","1","шт.",null,"по запросу","по запросу",null,{"$f":"H9","v":"по запросу"},"●"]
["08335-001","Sto-WDVS-Schleifpapier 420 x 200 мм K 16","Шлифовальные  материалы ","1","шт.",null,{"$f":"VLOOKUP($A10,'Изменение прайс-листа'!$A$2:$E$798,4,FALSE)","v":1896},{"$f":"G10*1.2","v":2275.1999999999998},null,0,"●","●","шлифовальная бумага для шлифовальной доски Sto-WDVS-Schleifbrett, для шлифования теплоизоляционного материала"]
["08335-002","Sto-WDVS-Schleifbrett  420 x 200 мм","Шлифовальные  материалы ","1","шт.",null,{"$f":"VLOOKUP($A11,'Изменение прайс-листа'!$A$2:$E$798,4,FALSE)","v":7742},{"$f":"G11*1.2","v":9290.4},null,0,"●","●","алюминиевая шлифовальная доска с деревянной ручкой, в комплекте со шлифовальной бумагой K16"]
["08290-015","Sto-Flächenspachtel mit Softgriff abgerundet, 480 мм","Шпатели","1","шт.",null,{"$f":"VLOOKUP($A12,'Изменение прайс-листа'!$A$2:$E$798,4,FALSE)","v":4088},{"$f":"G12*1.2","v":4905.5999999999995},null,0,"●","●","широкий шпатель с мягкой ручкой и закругленными углами"]
["08290-016","Sto-Flächenspachtel mit Softgriff abgerundet, 570 мм","Шпатели","1","шт.",null,{"$f":"VLOOKUP($A13,'Изменение прайс-листа'!$A$2:$E$798,4,FALSE)","v":4460},5352,null,0,"●","●"]
["08303-004","Sto-Japanspachtelsatz mit Leichtmetallrücken","Шпатели","1","шт.",null,{"$f":"VLOOKUP($A14,'Изменение прайс-листа'!$A$2:$E$798,4,FALSE)","v":1522},1826.3999999999999,null,0,"●","●","набор из четырех японских шпателей шир. 50, 80, 105, 120 мм, из закаленной нержавеющей стали толщ. 0,3 мм, нерабочая грань из легкого металла."]
["08356-001","Sto-Stuckateurspachtel, 80 мм","Шпатели","1","шт.",null,{"$f":"VLOOKUP($A15,'Изменение прайс-листа'!$A$2:$E$798,4,FALSE)","v":2158},2589.6,null,0,"●","●","мастерок из закаленной нержавеющей стали толщ. 0,8 мм, с деревянной ручкой"]
["08356-002","Sto-Stuckateurspachtel, 100 мм","Шпатели","1","шт.",null,{"$f":"VLOOKUP($A16,'Изменение прайс-листа'!$A$2:$E$798,4,FALSE)","v":2338},2805.6,null,0,"●","●"]
["08313-028","Sto-Malerspachtel Profi, 50 мм","Шпатели","1","шт.",null,{"$f":"VLOOKUP($A17,'Изменение прайс-листа'!$A$2:$E$798,4,FALSE)","v":992},1190.3999999999999,null,0,"●","●","шпатель из закаленной стали с деревянной ручкой"]
["08313-029","Sto-Malerspachtel Profi, 80 мм","Шпатели","1","шт.",null,{"$f":"VLOOKUP($A18,'Изменение прайс-листа'!$A$2:$E$798,4,FALSE)","v":1110},1332,null,0,"●","●"]
["08288-001","Sto-Glättekelle Profi 280 x 130 x 0,7 мм","Кельмы | выравнивающие","1","шт.",null,{"$f":"VLOOKUP($A19,'Изменение прайс-листа'!$A$2:$E$798,4,FALSE)","v":3854},{"$f":"G19*1.2","v":4624.8},null,0,"●","●","кельма из нержавеющей стали толщ. 0,7 мм для нанесения финишных штукатурок"]
["08288-008","Sto-Glättekelle gezahnt 280 x 130 мм, 4 х 4","Кельмы | выравнивающие","1","шт.",null,{"$f":"VLOOKUP($A20,'Изменение прайс-листа'!$A$2:$E$798,4,FALSE)","v":1914},2296.7999999999997,null,0,null,null,"зубчатая кельма из нержавеющей стали, для нанесения строительных растворов"]
["08288-009","Sto-Glättekelle gezahnt 280 x 130 мм, 6 х 6","Кельмы | выравнивающие","1","шт.",null,{"$f":"VLOOKUP($A21,'Изменение прайс-листа'!$A$2:$E$798,4,FALSE)","v":1914},2296.7999999999997,null,0,"●","●"]
["08288-010","Sto-Glättekelle gezahnt 280 x 130 мм, 8 х 8","Кельмы | выравнивающие","1","шт.",null,{"$f":"VLOOKUP($A22,'Изменение прайс-листа'!$A$2:$E$798,4,FALSE)","v":1914},2296.7999999999997,null,0]
["08288-002","Sto-Schweizer Glättekelle 500 x 130 x 0,7 мм","Кельмы | выравнивающие","1","шт.",null,{"$f":"VLOOKUP($A23,'Изменение прайс-листа'!$A$2:$E$798,4,FALSE)","v":6956},8347.1999999999989,null,0,null,null,"швейцарская кельма из нержавеющей стали, для вытягивания, выравнивания, укладки армирующей сетки"]
["08289-003","Sto-Glättekelle Profi Kunststoff Mini 160 x 80 x 3 мм","Кельмы | выравнивающие","1","шт.",null,{"$f":"VLOOKUP($A24,'Изменение прайс-листа'!$A$2:$E$798,4,FALSE)","v":2134},2560.7999999999997,null,0,null,null,"мини-кельма из серого ударопрочного ПВХ с деревянной ручкой, для структурирования финишных штукатурок"]
["08289-010","Sto-Glättekelle Kunststoff mit Kunststoffgriff 280 x 140 x 3 мм","Кельмы | выравнивающие","1","шт.",null,{"$f":"VLOOKUP($A25,'Изменение прайс-листа'!$A$2:$E$798,4,FALSE)","v":1272},1526.3999999999999,null,0,"●","●","кельма из ударопрочного ПВХ с пластиковой ручкой, для структурирования финишных штукатурок"]
["08289-009","Sto-Glättekelle Kunststoff mit Kunststoffgriff 280 x 140 x 2 мм","Кельмы | выравнивающие","1","шт.",null,{"$f":"VLOOKUP($A26,'Изменение прайс-листа'!$A$2:$E$798,4,FALSE)","v":1178},1413.6,null,0]
["08376-003","Sto-Calce Marmorino-Glättekelle 280 x 100/90 мм","Кельмы | выравнивающие","1","шт.",null,{"$f":"VLOOKUP($A27,'Изменение прайс-листа'!$A$2:$E$798,4,FALSE)","v":7498},8997.6,null,0,"●","●","\"венецианская\" кельма из нержавеющей специальной стали толщ. 0,6 мм с закругленными углами И  деревянной ручкой, для нанесения StoCalce Marmorino"]
["08376-002","Sto-Calce Marmorino-Glättekelle 240 x 100/80 мм","Кельмы | выравнивающие","1","шт.",null,{"$f":"VLOOKUP($A28,'Изменение прайс-листа'!$A$2:$E$798,4,FALSE)","v":6682},8018.4,null,0,"●","●"]
["08376-001","Sto-Calce Marmorino-Glättekelle 200 x 80/70 мм","Кельмы | выравнивающие","1","шт.",null,{"$f":"VLOOKUP($A29,'Изменение прайс-листа'!$A$2:$E$798,4,FALSE)","v":6292},7550.4,null,0,"●","●"]
["08327-001","Sto-Berner Putzkelle 140 мм","Кельмы | штукатурные","1","шт.",null,{"$f":"VLOOKUP($A30,'Изменение прайс-листа'!$A$2:$E$798,4,FALSE)","v":2216},{"$f":"G30*1.2","v":2659.2},null,0,"●","●","кельма из закаленной нержавеющей стали толщ. 1,00 мм, с деревянной ручкой"]
["08268-009","Sto-Inneneckenkelle 80 x 60 мм","Кельмы | угловые","1","шт.",null,{"$f":"VLOOKUP($A31,'Изменение прайс-листа'!$A$2:$E$798,4,FALSE)","v":2194},2632.7999999999997,null,0,"●","●","кельма для внутренних углов из нержавеющей закаленной стали толщ. 0,7 мм, с деревянной ручкой"]
["08268-001","Sto-Außeneckenkelle 65 x 65 мм","Кельмы | угловые","1","шт.",null,{"$f":"VLOOKUP($A32,'Изменение прайс-листа'!$A$2:$E$798,4,FALSE)","v":2462},2954.4,null,0,"●","●","кельма для наружных углов из нержавеющей закаленной стали толщ. 0,7 мм, с деревянной ручкой"]
["08259-001","Sto-Bossenkelle","Кельмы | угловые","1","шт.",null,{"$f":"VLOOKUP($A33,'Изменение прайс-листа'!$A$2:$E$798,4,FALSE)","v":15222},18266.399999999998,null,0,null,null,"специальная кельма из нержавеющей стали, для воспроизведения руста"]
["08328-001","Sto-Reibebrett mit Schwammgummibelag grob 280 x 140 мм","Тёрки","1","шт.",null,{"$f":"VLOOKUP($A34,'Изменение прайс-листа'!$A$2:$E$798,4,FALSE)","v":1852},2222.4,null,0,"●","●","пластиковая терка с основанием из грубой губчатой резины"]
["08328-002","Sto-Zellkautschukreibebrett","Тёрки","1","шт.",null,{"$f":"VLOOKUP($A35,'Изменение прайс-листа'!$A$2:$E$798,4,FALSE)","v":1434},1720.8,null,0,"●","●","кельма для структурирования нивелирующих фасадных штукатурок"]
["08301-001","StoLook Schwammscheibe 220 x 140 мм","Тёрки","1","шт.",null,{"$f":"VLOOKUP($A36,'Изменение прайс-листа'!$A$2:$E$798,4,FALSE)","v":2968},3561.6,null,0,"●","●","жесткая губка для обработки и выравнивания материалов StoCalce Fondo, StoCalce Effetto"]
["17100-003","Sto-Flachpinsel Standart 50 мм, дл. щетины 58 мм","Кисти | плоские","1","шт.",null,{"$f":"VLOOKUP($A37,'Изменение прайс-листа'!$A$2:$E$798,4,FALSE)","v":1258},1509.6,null,0,"●","●","плоская кисть со светлой щетиной, для работы с алкидными лаками, содержащими растворитель, и дисперсионными красками"]
["17100-004","Sto-Flachpinsel Standart 60 мм, дл. щетины 58 мм","Кисти | плоские","1","шт.",null,{"$f":"VLOOKUP($A38,'Изменение прайс-листа'!$A$2:$E$798,4,FALSE)","v":1560},1872,null,0,"●","●"]
["17100-005","Sto-Flachpinsel Standart 70 мм, дл. щетины 64 мм","Кисти | плоские","1","шт.",null,{"$f":"VLOOKUP($A39,'Изменение прайс-листа'!$A$2:$E$798,4,FALSE)","v":1924},2308.7999999999997,null,0,"●","●"]
["17100-006","Sto-Flachpinsel Standart 80 мм, дл. щетины 64 мм","Кисти | плоские","1","шт.",null,{"$f":"VLOOKUP($A40,'Изменение прайс-листа'!$A$2:$E$798,4,FALSE)","v":2508},3009.6,null,0,"●","●"]
["17100-007","Sto-Flachpinsel Standart 100 мм, дл. щетины 64 мм","Кисти | плоские","1","шт.",null,{"$f":"VLOOKUP($A41,'Изменение прайс-листа'!$A$2:$E$798,4,FALSE)","v":3112},3734.3999999999996,null,0,"●","●"]
["17101-001","Sto-Heizkörperpinsel Standart hell 25 мм, дл. щетины 43 мм","Кисти | радиаторные","1","шт.",null,{"$f":"VLOOKUP($A42,'Изменение прайс-листа'!$A$2:$E$798,4,FALSE)","v":642},770.4,null,0,"●","●","кисть для окраски радиаторов со светлой  щетиной, для работ с водорастворимыми, дисперсионными красками и лаками"]
["17101-003","Sto-Heizkörperpinsel Standart hell 50 мм, дл. щетины 56 мм","Кисти | радиаторные","1","шт.",null,{"$f":"VLOOKUP($A43,'Изменение прайс-листа'!$A$2:$E$798,4,FALSE)","v":862},1034.3999999999999,null,0,"●","●"]
["17106-003","Sto-Flächenstreicher Orel®-Mix 135 мм, дл. щетины 85 мм","Кисти | широкие","1","шт.",null,{"$f":"VLOOKUP($A44,'Изменение прайс-листа'!$A$2:$E$798,4,FALSE)","v":6836},8203.1999999999989,null,0,null,null,"высококачественная широкая кисть в овальном деревянном корпусе, особенно подходит для нанесения лазурей и лаков"]
["17103-006","Sto-Flächenstreicher Standart grau 120 мм, дл. щетины 65 мм","Кисти | широкие","1","шт.",null,{"$f":"VLOOKUP($A45,'Изменение прайс-листа'!$A$2:$E$798,4,FALSE)","v":3394},4072.7999999999997,null,0,"●","●","широкая кисть с серой щетиной в латунном корпусе с деревянной ручкой, для лакокрасочных работ, нанесения лазурей, морилок по дереву  "]
["17811-003","Sto-Fassadenwalze Standart 270 мм, Ø 96 мм","Валики | фасадные","1","шт.",null,{"$f":"VLOOKUP($A46,'Изменение прайс-листа'!$A$2:$E$798,4,FALSE)","v":2034},2440.7999999999997,null,0,"●","●","профессиональный полиамидный валик, дл. ворса 18 мм, набивка 8 мм, идеально подходит для дисперсий, латексных красок, пропиток, грунтовок глубокого проникновения"]
["Валики | малярные",null,"Валики | фасадные",null,null,null,{"$f":"VLOOKUP($A47,'Изменение прайс-листа'!$A$2:$E$798,4,FALSE)","v":{"$error":"#N/A"}},null,null,0,"●","●"]
["17800-024","Sto-Malerwalze FIL Langflor 180 мм, Ø 85 мм","Валики | фасадные","1","шт.",null,{"$f":"VLOOKUP($A48,'Изменение прайс-листа'!$A$2:$E$798,4,FALSE)","v":1588},{"$f":"G48*1.2","v":1905.6},null,0,"●","●","высококачественный полиамидный валик с длинным ворсом, дл. 18 мм, без набивки, идеально подходит для нанесения грунтовок, дисперсионных красок"]
["17800-025","Sto-Malerwalze  FIL Langflor 250 мм, Ø 85 мм","Валики | фасадные","1","шт.",null,{"$f":"VLOOKUP($A49,'Изменение прайс-листа'!$A$2:$E$798,4,FALSE)","v":1998},2397.6,null,0,"●","●"]
["17811-006","Sto-Malerwalze  Standard 250 mm Langflor 18 мм","Валики | фасадные","1","шт.",null,{"$f":"VLOOKUP($A50,'Изменение прайс-листа'!$A$2:$E$798,4,FALSE)","v":1650},1980,null,0,"●","●"]
["17811-008","Sto-Malerwalze Standart Kurzflor 25см Flor 12мм, Ø 72мм","Валики | фасадные","1","шт.",null,{"$f":"VLOOKUP($A51,'Изменение прайс-листа'!$A$2:$E$798,4,FALSE)","v":1466},1759.2,null,0,"●","●","полиамидный валик с коротким ворсом, дл. 12 мм, без набивки, идеально подходит для нанесения латексных, дисперсионных красок, грунтовок глубокого проникновения, пропиток"]
["17804-002","Sto-Grundierwalze Microfaser 250 mm (замена 17803-002)","Валики | для лаков и лазурей","1","шт.",null,{"$f":"VLOOKUP($A52,'Изменение прайс-листа'!$A$2:$E$798,4,FALSE)","v":1732},2078.4,null,0,"●","●","полиамидный валик с ворсом 5 мм, без набивки, устойчив к воздействию растворителя, идеально подходит для нанесения антикоррозионных, эпоксидных, 2-компонентных красок, паркетных лаков на основе синтетической смолы и полиэфира"]
["08278-006","Sto-Lackierwalze Nylon RS 8  250 мм Ø 60 мм","Валики | для лаков и лазурей","1","шт.",null,{"$f":"VLOOKUP($A53,'Изменение прайс-листа'!$A$2:$E$798,4,FALSE)","v":1534},1840.8,null,0,"●","●","полиамидный валик с коротким ворсом 8 мм, идеален для 2-К , эпоксидов и лаков, длина 25 см"]
["08279-004","Sto-Heizkörperwalze Nylon RS13 100 мм, Ø 45 мм","Валики | радиаторные","1","шт.",null,{"$f":"VLOOKUP($A54,'Изменение прайс-листа'!$A$2:$E$798,4,FALSE)","v":482},578.4,null,0,"●","●","высококачественный полиамидный валик с коротким ворсом, дл. 11 мм, без набивки, идеально подходит для нанесения латексных, дисперсионных красок"]
["08279-005","Sto-Heizkörperwalze Nylon RS8 100 мм, Ø 31 мм","Валики | радиаторные","1","шт.",null,{"$f":"VLOOKUP($A55,'Изменение прайс-листа'!$A$2:$E$798,4,FALSE)","v":482},578.4,null,0,"●","●","валик с ворсом дл. 6 мм из нейлоновых волокОн, фиксированных на полиамидной основе, устойчив к воздействию растворителя,  идеально подходит для нанесения антикоррозионных, эпоксидных, 2-компонентных красок, лаков на основе синтетической смолы и полиэфира"]
["08354-010","Sto-Strukturwalze grob 110 мм, Ø 35 мм, прямой","Валики | декоративные","1","шт.",null,{"$f":"VLOOKUP($A56,'Изменение прайс-листа'!$A$2:$E$798,4,FALSE)","v":494},592.79999999999995,null,0,"●","●","грубый поролоновый валик, идеально подходит для структурирования штукатурки, шпаrлевки и структурной краски"]
["08354-011","Sto-Strukturwalze grob 250 мм, Ø 74 мм, двустор. крепление","Валики | декоративные","1","шт.",null,{"$f":"VLOOKUP($A57,'Изменение прайс-листа'!$A$2:$E$798,4,FALSE)","v":2518},3021.6,null,0,"●","●"]
["08219-006","Sto-Reliefwalze Eiche","Валики | декоративные","1","шт.",null,{"$f":"VLOOKUP($A58,'Изменение прайс-листа'!$A$2:$E$798,4,FALSE)","v":4598},5517.5999999999995,null,0,"●","●","валик для создания рельефа"]
["08254-009","Sto-Farbrollerbügel Ø 8 мм, для валиков 18-20 см, дл. 29 см","Сопутствующие / вспомогательные товары","1","шт.",null,{"$f":"VLOOKUP($A59,'Изменение прайс-листа'!$A$2:$E$798,4,FALSE)","v":636},{"$f":"G59*1.2","v":763.19999999999993},null,0,"●","●","ручка бюгельная из оцинкованной стали с пластиковой рукояткой"]
["08254-010","Sto-Farbrollerbügel Ø 8 мм, для валиков 25-27 см, дл. 29 см","Сопутствующие / вспомогательные товары","1","шт.",null,{"$f":"VLOOKUP($A60,'Изменение прайс-листа'!$A$2:$E$798,4,FALSE)","v":680},816,null,0,"●","●"]
["08302-010","Sto-Farbrollerbügel Ø 6 мм, для валиков 10-12 см, дл. 42 см","Сопутствующие / вспомогательные товары","1","шт.",null,{"$f":"VLOOKUP($A61,'Изменение прайс-листа'!$A$2:$E$798,4,FALSE)","v":552},662.4,null,0,"●","●"]
["08369-009","Sto-Teleskopstange Aluminium gelb 117-200 см","Сопутствующие / вспомогательные товары","1","шт.",null,{"$f":"VLOOKUP($A62,'Изменение прайс-листа'!$A$2:$E$798,4,FALSE)","v":5156},6187.2,null,0,"●","●","раздвижная прочная алюминиевая штанга, подходит для любых типов бюгелей"]
["08253-011","Sto-Abstreifgitter Kunststoff gelb 27 x 29 см","Сопутствующие / вспомогательные товары","1","шт.",null,{"$f":"VLOOKUP($A63,'Изменение прайс-листа'!$A$2:$E$798,4,FALSE)","v":474},568.79999999999995,null,0,"●","●","пластиковая решетка для раскатывания валика, желтая, опускается в ведро"]
["08281-004","Sto-Farbwanne 22 x 27 см","Сопутствующие / вспомогательные товары","1","шт.",null,{"$f":"VLOOKUP($A64,'Изменение прайс-листа'!$A$2:$E$798,4,FALSE)","v":534},640.79999999999995,null,0,"●","●","желтая пластиковая ванночка для раскатывания валика"]

{"sheet":"6. Колоранты","index":6,"n_rows":24,"n_cols":17,"rows_kept":24,"cut":false,"hidden":false,"merged":[[0,0,0,16],[1,15,2,15],[1,0,2,0],[1,1,2,1],[1,2,2,2],[1,3,1,6],[1,7,2,7],[1,9,2,9],[1,16,2,16],[1,8,2,8],[1,11,2,11],[1,10,2,10],[1,14,2,14],[1,12,2,12],[1,13,2,13]]}
["Прайс-лист  Товаров Продуктовой группы раздела «Колоранты»\nЦены действительны c 03.03.2022 г."]
["Артикул ","Наименование продукта","Производство","Упаковка",null,null,null,"Цена БЕЗ учета НДС за единицу измерения","Цена с НДС за единицу измерения","Цена с НДС за упаковку","Кол-во единиц товара","Сумма заказа с НДС","Итого вес брутто (кг)","Итого паллет","Наличие на складе","Кол-во упаковок на паллете, шт.","Вес одного паллето-места (без палеты), кг."]
[null,null,null,"к-во","ед. изм.","литраж","вид упаковки"]
["06508-005","Sto-Colorant SBL","DE","4,577","кг",2.2999999999999998,"Ведро",{"$f":"VLOOKUP($A4,'Изменение прайс-листа'!$A$2:$E$798,4,FALSE)","v":11768},{"$f":"H4*1.2","v":14121.6},{"$f":"I4*D4","v":64634.563200000004},null,{"$f":"K4*J4","v":0},{"$f":"ROUNDUP(Q4/P4*K4,0)","v":0},{"$f":"K4/P4","v":0},"●",72,338.40000000000003]
["06516-007","Sto-Colorant OG ","DE","4,600","кг",2.2999999999999998,"Ведро",{"$f":"VLOOKUP($A5,'Изменение прайс-листа'!$A$2:$E$798,4,FALSE)","v":1920},2304,10598.4,null,{"$f":"K5*J5","v":0},{"$f":"ROUNDUP(Q5/P5*K5,0)","v":0},{"$f":"K5/P5","v":0},"●",72,345.59999999999997]
["06517-007","Colorant G2GXD","DE","2,714","кг",2.2999999999999998,"Ведро",{"$f":"VLOOKUP($A6,'Изменение прайс-листа'!$A$2:$E$798,4,FALSE)","v":6008},7209.5999999999995,19566.854399999997,null,{"$f":"K6*J6","v":0},0,0,"●",72,208.79999999999998]
["06523-005","Colorant PG ","DE","1,340","кг",1,"Банка",{"$f":"VLOOKUP($A7,'Изменение прайс-листа'!$A$2:$E$798,4,FALSE)","v":7778},9333.6,12507.024000000001,null,0,0,0,"●",270,405]
["06526-006","Sto-Colorant CGR","DE","5,980","кг",2.2999999999999998,"Ведро",{"$f":"VLOOKUP($A8,'Изменение прайс-листа'!$A$2:$E$798,4,FALSE)","v":4506},5407.2,32335.056,null,0,0,0,"●",72,439.2]
["06531-003","Sto-Colorant BLU ","DE","1,240","кг",1,"Ведро",{"$f":"VLOOKUP($A9,'Изменение прайс-листа'!$A$2:$E$798,4,FALSE)","v":8074},9688.7999999999993,12014.111999999999,null,0,0,0,"●",270,351]
["06532-007","Sto-Colorant CV ","DE","1,130","кг",1,"Ведро",{"$f":"VLOOKUP($A10,'Изменение прайс-листа'!$A$2:$E$798,4,FALSE)","v":20708},24849.599999999999,28080.047999999995,null,0,0,0,"●",270,351]
["06533-006","Sto-Colorant KBL","DE","4,922","кг",2.2999999999999998,"Ведро",{"$f":"VLOOKUP($A11,'Изменение прайс-листа'!$A$2:$E$798,4,FALSE)","v":11794},14152.8,69660.08159999999,null,0,0,0,"●",72,367.2]
["06536-006","Sto-Colorant BV","DE","5,129","кг",2.2999999999999998,"Ведро",{"$f":"VLOOKUP($A12,'Изменение прайс-листа'!$A$2:$E$798,4,FALSE)","v":9988},11985.6,61474.142399999997,null,0,0,0,"●",72,374.40000000000003]
["06547-008","Sto-Colorant OR","DE","5,497","кг",2.2999999999999998,"Ведро",{"$f":"VLOOKUP($A13,'Изменение прайс-листа'!$A$2:$E$798,4,FALSE)","v":2444},2932.7999999999997,16121.601599999998,null,0,0,0,"●",72,417.59999999999997]
["06548-010","Colorant OS 530","DE","4,140","кг",2.2999999999999998,"Ведро",{"$f":"VLOOKUP($A14,'Изменение прайс-листа'!$A$2:$E$798,4,FALSE)","v":2946},3535.2,14635.727999999997,null,0,0,0,"●",72,324]
["06550-004","Colorant TY ","DE","1,500","кг",1,"Банка",{"$f":"VLOOKUP($A15,'Изменение прайс-листа'!$A$2:$E$798,4,FALSE)","v":7494},8992.7999999999993,13489.199999999999,null,0,0,0,"●",270,486]
["06552-004","Sto-Colorant TR ","DE","1,450","кг",1,"Банка",{"$f":"VLOOKUP($A16,'Изменение прайс-листа'!$A$2:$E$798,4,FALSE)","v":8540},10248,14859.6,null,0,0,0,"●",270,405]
["06556-007","Sto-Colorant TW ","DE","5,060","кг",2.2999999999999998,"Ведро",{"$f":"VLOOKUP($A17,'Изменение прайс-листа'!$A$2:$E$798,4,FALSE)","v":3418},4101.5999999999995,20754.095999999994,null,0,0,0,"●",72,378.71999999999997]
["06557-008","Sto-Colorant G100 ","DE","4,968","кг",2.2999999999999998,"Ведро",{"$f":"VLOOKUP($A18,'Изменение прайс-листа'!$A$2:$E$798,4,FALSE)","v":2472},2966.4,14737.075200000001,null,0,0,0,"●",72,367.2]
["06558-009","Sto-Colorant CR100 ","DE","5,083","кг",2.2999999999999998,"Ведро",{"$f":"VLOOKUP($A19,'Изменение прайс-листа'!$A$2:$E$798,4,FALSE)","v":5034},6040.8,30705.386400000003,null,0,0,0,"●",75,390]
["06560-008","Sto-Colorant CS","DE","2,898","кг",2.2999999999999998,"Ведро",{"$f":"VLOOKUP($A20,'Изменение прайс-листа'!$A$2:$E$798,4,FALSE)","v":3128},3753.6,10877.9328,null,0,0,0,"●",72,217.44]
["16547-004","Colorant ROSA E ","DE","1,080","кг",1,"Банка",{"$f":"VLOOKUP($A21,'Изменение прайс-листа'!$A$2:$E$798,4,FALSE)","v":11606},13927.199999999999,15041.376,null,0,0,0,"●",270,345.6]
["16576-001","Sto-Colorant SGN ","DE","5,000","кг",5,"Ведро",{"$f":"VLOOKUP($A22,'Изменение прайс-листа'!$A$2:$E$798,4,FALSE)","v":29670},35604,178020,null,0,0,0,"●",270,388.8]
["16580-002","Sto-Colorant PO2 R","DE","1,750","кг",1,"Банка",{"$f":"VLOOKUP($A23,'Изменение прайс-листа'!$A$2:$E$798,4,FALSE)","v":3498},4197.5999999999995,7345.7999999999993,null,0,0,0,"●",270,513]
["06519-004","Sto-Colorant FGR","DE","1,200","кг",1,"Банка",{"$f":"VLOOKUP($A24,'Изменение прайс-листа'!$A$2:$E$798,4,FALSE)","v":7178},8613.6,10336.32,null,0,0,0,"●",270,405]

{"sheet":"7. Надбавки","index":7,"n_rows":434,"n_cols":10,"rows_kept":434,"cut":false,"hidden":false,"merged":[[8,0,8,8],[0,0,0,8],[1,0,1,8],[2,0,3,0],[2,2,2,3],[2,4,2,5],[2,6,2,7],[2,1,3,1]]}
["Прайс-лист на надбавки за тонирование Товара\nЦены действительны c 03.03.2022 г."]
["Таблица надбавок к прайс-листу на колерованные материалы"]
["Продукты тонирования","ед изм","тонирование уровня С1\nфиксированная надбавка* к wiess/natur",null,"тонирование уровня С2\nфиксированная надбавка* к С1",null,"тонирование уровня С3\nфиксированная надбавка* к С1",null,"тонирование уровня С4"]
[null,null,"руб без НДС","руб с НДС","руб без НДС","руб с НДС","руб без НДС","руб с НДС"]
["декоративная штукатурка\nдекоративное покрытие\nшпатлевка\nгрунт адгезионный","кг",46,55.199999999999996,46,55.199999999999996,92,110.39999999999999,"         по запросу"]
["краска\nлазурь","л",74,88.8,74,88.8,148,177.6,"         по запросу"]
[]
["фиксированная надбавка, скидки не распространяются."]
["Подробно согласовывайте спецификации с Менеджерами по продажам."]
[]
[]
[]
[]
[]
[]
[]
[]
[]
[]
[]
[]
[]
[]
[]
[]
[]
[null,null,null,null,null,null,null,null,25]
[]
[]
[]
[]
[]
[]
[]
[]
[]
[]
[]
[]
[]
[]
[]
[]
[]
[]
[]
[]
[]
[]
[]
[]
[]
[]
[]
[]
[]
[]
[]
[]
[]
[]
[]
[]
[]
[]
[]
[]
[]
[]
[]
[]
[]
[]
[]
[]
[]
[]
[]
[]
[]
[]
[]
[]
[]
[]
[]
[]
[]
[]
[]
[]
[]
[]
[]
[]
[]
[]
[]
[]
[]
[]
[]
[]
[]
[]
[]
[]
[]
[]
[]
[]
[]
[]
[]
[]
[]
[]
[]
[]
[]
[]
[]
[]
[]
[]
[]
[]
[]
[]
[]
[]
[]
[]
[]
[]
[]
[]
[]
[]
[]
[]
[]
[]
[]
[]
[]
[]
[]
[]
[]
[]
[]
[]
[]
[]
[]
[]
[]
[]
[]
[]
[]
[]
[]
[]
[]
[]
[]
[]
[]
[]
[]
[]
[]
[]
[]
[]
[]
[]
[]
[]
[]
[]
[]
[]
[]
[]
[]
[]
[]
[]
[]
[]
[]
[]
[]
[]
[]
[]
[]
[]
[]
[]
[]
[]
[]
[]
[]
[]
[]
[]
[]
[]
[]
[]
[]
[]
[]
[]
[]
[]
[]
[]
[]
[]
[]
[]
[]
[]
[]
[]
[]
[]
[]
[]
[]
[]
[]
[]
[]
[]
[]
[]
[]
[]
[]
[]
[]
[]
[]
[]
[]
[]
[]
[]
[]
[]
[]
[]
[]
[]
[]
[]
[]
[]
[]
[]
[]
[]
[]
[]
[]
[]
[]
[]
[]
[]
[]
[]
[]
[]
[]
[]
[]
[]
[]
[]
[]
[]
[]
[]
[]
[]
[]
[]
[]
[]
[]
[]
[]
[]
[]
[]
[]
[]
[]
[]
[]
[]
[]
[]
[]
[]
[]
[]
[]
[]
[]
[]
[]
[]
[]
[]
[]
[]
[]
[]
[]
[]
[]
[]
[]
[]
[]
[]
[]
[]
[]
[]
[]
[]
[]
[]
[]
[]
[]
[]
[]
[]
[]
[]
[]
[]
[]
[]
[]
[]
[]
[]
[]
[]
[]
[]
[]
[]
[]
[]
[]
[]
[]
[]
[]
[]
[]
[]
[]
[]
[]
[]
[]
[]
[]
[]
[]
[]
[]
[]
[]
[]
[]
[]
[]
[]
[]
[]
[]
[]
[]
[]
[]
[]
[]
[]
[]
[]
[]
[]
[]
[]
[]
[]
[]
[]
[]
[]
[]
[]
[]
[]
[]
[]
[]
[]
[]
[]
[]
[]
[]
[]
[]
[]
[]
[]
[null,null,null,null,null,null,null,null,null,7.3]

{"sheet":"8.Тарифы транспорта","index":8,"n_rows":44,"n_cols":8,"rows_kept":44,"cut":false,"hidden":false,"merged":[[14,1,15,1],[14,2,14,3],[14,4,14,5],[14,6,14,7],[7,2,7,3],[7,4,7,5],[7,6,7,7],[8,2,8,3],[8,4,8,5],[8,6,8,7],[9,2,9,3],[9,4,9,5],[9,6,9,7],[10,6,10,7],[11,6,11,7],[6,6,6,7],[3,2,3,3],[3,4,3,5],[3,6,3,7],[4,2,4,3],[4,4,4,5],[4,6,4,7],[5,2,5,3],[5,4,5,5],[5,6,5,7],[6,2,6,3],[6,4,6,5]]}
[null,null,"со склада Видное",null,"со склада Орёл",null,"со склада Германия"]
[]
[null,"Вознаграждение за транспортно-экспедиционные услуги ООО\"СТО\"\nдействительны с 03.03.2022"]
[null,null,"Транспортные услуги - поставки со склада г. Видное",null,"Транспортные услуги - поставки со склада г. Орёл",null,"Транспортные услуги - прямые поставки Германия (79+78) - регионы России"]
[null,null,"Стоимость указана при полной загрузке 20-тн машины\nСтавки указаны в руб. с НДС.",null,"Стоимость указана при полной загрузке 20-тн машины\nСтавки указаны в руб. с НДС.",null,"Стоимость указана при полной загрузке 20-тн машины\nСтавки указаны в евро с НДС"]
[null,null,"Условия и сроки поставки товара со склада Sto (Видное):",null,"Условия и сроки поставки товара со склада Sto (Видное):",null,"Условия и сроки поставки товара со склада Sto (Германия):"]
[null,null,"1. При заказе продукции больше текущего запаса на складе дозаказ/внутреннее перемещение согласовывается с Покупателем дополнительно.",null,"1. При заказе продукции больше текущего запаса на складе дозаказ/внутреннее перемещение согласовывается с Покупателем дополнительно.",null,"1. Размещение заказа в Германии - за 10-14 календарных дней до планируемой даты отгрузки"]
[null,null,"2. Отгрузка товаров через транспортные компании – в течение 3-х рабочих дней. ",null,"2. Отгрузка товаров через транспортные компании – в течение 3-х рабочих дней. ",null,"2. Отгрузка только полными 20-тн машинами"]
[null,null,"3. Продукты торговых марок Sto и STOMIX требуют соблюдения температурного режима перевозки. Период с ноября по конец марта для перевозок используются РЭФы (температурный режим +6 +8), с апреля по конец ноября - тенты.",null,"3. Продукты торговых марок Sto и STOMIX требуют соблюдения температурного режима перевозки. Период с ноября по конец марта для перевозок используются РЭФы (температурный режим +6 +8), с апреля по конец ноября - тенты.",null,"3. Заказ транспорта и согласование даты отгрузки - за 7 календарных дней до планируемой даты отгрузки"]
[null,null,"4. Вознаграждение Поставщику уплачивается Покупателем в размере 100%, указанной в счете отдельной строкой.",null,"4. Вознаграждение Поставщику уплачивается Покупателем в размере 100%, указанной в счете отдельной строкой.",null,"4. Транзитное время + растамаживание груза - 9-10 календарных дней"]
[null,null,null,null,null,null,"5. Доставка до региона - дополнительно 1-3 календарных дня в зависимости от местонахождения склада Покупателя"]
[null,null,null,null,null,null,"6. Стоимость доставки выставляется в счете отдельной строкой в рублях по курсу на день выставления счета"]
[null,null,"Склад отгрузки"]
[null,null,"склад Видное",null,"склад Орёл",null,"Германия"]
[null,"город доставки","стоимость в руб. с НДС",null,"стоимость в руб. с НДС",null,"стоимость в евро с НДС"]
[null,null,"тент","реф","тент","реф","тент","реф"]
[null,"г. Калуга",26000,33000,30000,36000,"по запросу","по запросу"]
[null,"г. Тула",27000,34000,29000,35000,"по запросу","по запросу"]
[null,"г. Ярославль",32000,38000,56000,60000,"по запросу","по запросу"]
[null,"г. Рязань",30000,37000,36000,40000,"по запросу","по запросу"]
[null,"г. Санкт-Петербург",52000,65000,75000,90000,"по запросу","по запросу"]
[null,"г. Нижний Новгород",44000,53000,60000,65000,"по запросу","по запросу"]
[null,"г. Курск",42000,48000,28000,32000,"по запросу","по запросу"]
[null,"г. Липецк",42000,48000,33000,37000,"по запросу","по запросу"]
[null,"г. Тамбов",45000,50000,44000,49000,"по запросу","по запросу"]
[null,"г. Воронеж",42000,48000,35000,38000,"по запросу","по запросу"]
[null,"г. Брянск",38000,44000,22000,28000,"по запросу","по запросу"]
[null,"г. Смоленск",38000,45000,34000,37000,"по запросу","по запросу"]
[null,"г. Ростов на Дону",90000,110000,89000,95000,950,1150]
[null,"г. Краснодар",120000,135000,97000,114000,1200,1400]
[null,"г. Ставрополь",140000,155000,120000,130000,1250,1450]
[null,"г. Сочи",180000,210000,155000,170000,1350,1550]
[null,"г. Чебоксары",80000,95000,90000,100000,"по запросу","по запросу"]
[null,"г. Казань",85000,100000,91000,105000,950,1150]
[null,"г. Самара",90000,115000,86000,102000,"по запросу","по запросу"]
[null,"г. Ульяновск",77000,96000,87000,94000,"по запросу","по запросу"]
[null,"г. Тольятти",90000,115000,88000,97000,"по запросу","по запросу"]
[null,"г. Нальчик",155000,170000,140000,150000,"по запросу","по запросу"]
[null,"г. Новороссийск",140000,160000,110000,125000,"по запросу","по запросу"]
[null,"г. Екатеринбург",140000,160000,150000,170000,"по запросу","по запросу"]
[null,"г. Уфа",120000,140000,115000,135000,"по запросу","по запросу"]
[null,"г. Пермь",120000,140000,125000,145000,"по запросу","по запросу"]
[null,"г. Новосибирск",258000,310000,260000,315000,"по запросу","по запросу"]
[null,"г. Красноярск",300000,360000,340000,396000,"по запросу","по запросу"]

{"sheet":"Изменение прайс-листа","index":9,"n_rows":798,"n_cols":5,"rows_kept":798,"cut":false,"hidden":false,"merged":[[1,2,2,2],[1,3,2,3],[1,0,3,0],[1,1,3,1],[1,4,3,4]]}
["Приложение 1 к письму об изменении Прайс-листа от 03.03.2022"]
["Артикул","Наименование продукта","прайс-лист \n07.02.2022","прайс-лист \n02.03.2022","изм\n%"]
[]
[null,null,"руб/ед без НДС","руб/ед без НДС"]
["66502_001","Грунтовка проникающая универсальная EH концентрат",484.5,560,{"$f":"D5/C5-1","v":0.15583075335397312}]
["66503_009","Грунтовка адгезионная HC-4, белая",192.85,195,1.114856105781703E-2]
["66301_001","Клеевой состав ALFAFIX S2",27.549999999999997,38,0.3793103448275863]
["66302_001","Клеевой и армирующий состав ALFAFIX S1",33.25,46,0.38345864661654128]
["66305_001","Клеевой и армирующий состав ALFAFIX S11",53.199999999999996,76,0.4285714285714286]
["66310_001","Клеевой состав BETAFIX Flex ",57,78,0.36842105263157898]
["66311_001","Клеевой состав BETAFIX Basic",31,42,0.35483870967741926]
["61041_015","Штукатурка BETADEKOR SF15",47.5,52,9.473684210526323E-2]
["61043_020","Штукатурка BETADEKOR SF20",47.5,52,9.473684210526323E-2]
["61030_015","Штукатурка BETADEKOR SD15",47.5,52,9.473684210526323E-2]
["61032_020","Штукатурка BETADEKOR SD20",47.5,52,9.473684210526323E-2]
["61081_007","BETADEKOR  SAF10, белая",167.2,196,0.17224880382775121]
["61082_007","BETADEKOR  SAF15, белая",167.2,196,0.17224880382775121]
["61083_007","BETADEKOR  SAF20, белая",167.2,196,0.17224880382775121]
["61086_009","BETADEKOR  SAD20, белая",167.2,196,0.17224880382775121]
["61061_001","BETADEKOR  SIF10, белая",202.35,205,1.309612058314813E-2]
["61062_006","BETADEKOR  SIF15, белая",202.35,205,1.309612058314813E-2]
["61063_006","BETADEKOR  SIF20, белая",202.35,205,1.309612058314813E-2]
["61053_006","BETADEKOR  SID20, белая",202.35,205,1.309612058314813E-2]
["66004_019","GAMADEKOR - F,  белая ",448.4,570,0.27118644067796627]
["66004_121","GAMADEKOR F BASIS A",418.95,516,0.23165055495882569]
["66004_122","GAMADEKOR F BASIS B",418.95,470,0.12185224967179864]
["66004_123","GAMADEKOR F BASIS OT",418.95,460,9.7983052870270981E-2]
["66004-020","GAMADEKOR - F, G белая",470.82,592,0.25738073998555722]
[null,"GammaDekor SG ",null,746]
[null,"ВASIS A GammaDekor SG",null,674]
[null,"ВASIS B GammaDekor SG",null,572]
[null,"ВASIS OT GammaDekor SG",null,542]
["66802_001","ALFAFORM SCB шпаклевка белая ",83.6,88,5.2631578947368585E-2]
["66801_001","ALFAFORM SCA шпаклевка выравнивающая",34.199999999999996,42,0.22807017543859653]
["00861_012","StoPrim Solid",510,566,0.1098039215686275]
["00801_118","Sto-Putzgrund natur (натурального цвета)",203,234,0.15270935960591125]
["01373_129","StoLevell Basic",35,46,0.31428571428571428]
["00728_102","StoColl Basic",29,38,0.31034482758620685]
["00728_002","Sto-Baukleber",47,60,0.27659574468085113]
["00225_002","Sto-Armierungsputz natur (натурального цвета)",187,216,0.15508021390374327]
["00225_003","Sto-Armierungsputz natur (600 кг)",187,216,0.15508021390374327]
["00846_001","StoColl KM ",93,104,0.11827956989247301]
["01373_029","StoLevell Duo plus",49,64,0.30612244897959173]
["00815_001","StoLevell Uni ",63,74,0.17460317460317465]
["01505_001","Sto-Strukturputz K 1,5 weiss (белая)",50,54,8.0000000000000071E-2]
["01502_004","Sto-Strukturputz K 2,0 weiss (белая)",50,54,8.0000000000000071E-2]
["01512_001","Sto-Strukturputz R 1,5 weiss (белая)",50,54,8.0000000000000071E-2]
["01512_002","Sto-Strukturputz R 2,0 weiss (белая)",50,54,8.0000000000000071E-2]
["01247_001","StoMarlit K 1.0 weiss (белая)",176,214,0.21590909090909083]
["02131_001","StoMarlit K 1.5 weiss (белая)",176,214,0.21590909090909083]
["02132_001","StoMarlit K 2.0 weiss (белая)",176,214,0.21590909090909083]
["02142_001","StoMarlit R 2.0 weiss (белая)",176,214,0.21590909090909083]
["14524_002","Sto-Silkolit K 1,0 weiss (белая)",213,258,0.21126760563380276]
["14006_031","Sto-Silkolit K 1,5 weiss (белая)",213,258,0.21126760563380276]
["14007_037","Sto-Silkolit K 2,0 weiss (белая)",213,258,0.21126760563380276]
["14009_002","Sto-Silkolit R 2,0 weiss (белая)",213,258,0.21126760563380276]
["14026_129","StoColor Neosil B weiss (белая)",472,594,0.25847457627118642]
["15096_026","ВASIS A NEOSIL B",441,540,0.22448979591836737]
["15096_027","ВASIS B NEOSIL B",441,462,4.7619047619047672E-2]
["15096_028","ВASIS OT NEOSIL B",441,441,0]
["14026_130","StoColor Neosil BG weiss (белая)",496,610,0.22983870967741926]
["15096_226","ВASIS A NEOSIL BG",464,558,0.20258620689655182]
["15096_227","ВASIS B NEOSIL BG",464,472,1.7241379310344751E-2]
["15096_228","ВASIS OT NEOSIL BG",464,464,0]
[null,"StoColor Neosil SG ",null,776]
[null,"ВASIS A NEOSIL SG",null,702]
[null,"ВASIS B NEOSIL SG",null,600]
[null,"ВASIS OT NEOSIL SG",null,570]
["00170_003","Sto-Cleyer Wood 2000 x 16 x 5",1280,1280,{"$f":"D69/C69-1","v":0}]
["04346_120","StoReno fein",88,90,2.2727272727272707E-2]
["04346_121","StoReno",36,42,0.16666666666666674]
[512153,"Уголок ПВХ с стеклосеткой 10х15 с логотипом STOMIX",64.900000000000006,70,7.8582434514637756E-2]
["520110-01","Сетка фасадная с логотипом STOMIX",127.1,170,0.33752950432730144]
["00920_003","Sto-Glasfasergewebe/ стеклосетка F 110 cm, ячейка 4х4 мм.",127.1,170,0.33752950432730144]
["00915_002","Sto-Glasfasergewebe G / стеклосетка G 100cм",247.45,266,7.4964639321075E-2]
["00917_001","Sto-Panzergewebe/ панцерная сетка 100 см",297.06,336,0.13108462936780452]
["00920_004","Sto-Detailgewebe/ сетка архитектурная 100 см",205.84615384615387,286,0.38938714499252591]
["00961_013","Gewebewinkel/ уголок 2,5м стеклосетка 10х15",64.900000000000006,70,7.8582434514637756E-2]
["01032_005","Anputzleiste профиль примыкания со стеклосеткой 6 мм, 2.4 м",107.69230769230769,"по запросу"]
["01889_016","Tropfkantenprofil 2,5м с \"закрытым\" капельником",199.44,"по запросу"]
["01077_017","Соединитель для цокольных шин 30 mm (100 шт.)",1282.0615384615385,"по запросу"]
["07845_009","Sockelleiste профиль цокольный 80 мм 2,5 м",269.23076923076923,"по запросу"]
["07845_011","Sockelleiste профиль цокольный 100 мм 2,5 м",453.84615384615381,"по запросу"]
["07845_014","Sockelleiste профиль цокольный 150 мм 2,5 м",564.09230769230771,"по запросу"]
["01070_011","Unterlegscheibe компенсатор, толщина 3 мм (100 шт.)",1410.2461538461537,"по запросу"]
["01070_012","Unterlegscheibe компенсатор, толщина 5 мм (100 шт.)",1435.9076923076923,"по запросу"]
["04878_025","Sto-Универсальный забивной дюбель Н5 x 135  \nтолщина теплоизоляции 80",24.65,"по запросу"]
["04878_026","Sto-Универсальный забивной дюбель Н5 x 155                         толщина теплоизоляции 100",26.83,"по запросу"]
["04878_027","Sto-Универсальный забивной дюбель Н5 x 175                            толщина теплоизоляции 120",28.87,"по запросу"]
["04878_028","Sto-Универсальный забивной дюбель Н5 x 195                             толщина теплоизоляции  140",30.3,"по запросу"]
["04878_029","Sto-Универсальный забивной дюбель Н5 x 215                             толщина теплоизоляции  160",32.630000000000003,"по запросу"]
["04878_030","Sto-Универсальный забивной дюбель Н5 x 235                                  толщина теплоизоляции 180",35.28,"по запросу"]
["04878_031","Sto-Универсальный забивной дюбель Н5 x 255                                толщина теплоизоляции 200",37.26,"по запросу"]
["04878_032","Sto-Универсальный забивной дюбель Н5 x 275                          толщина теплоизоляции 220",83.3,"по запросу"]
["04878_033","Sto-Универсальный забивной дюбель Н5 x 295                              толщина теплоизоляции 240",105.76,"по запросу"]
["01011_001","Sto-Thermodübel EJ STR 8/60U, длина 115 мм",54.39,"по запросу"]
["01011_002","Sto- Thermodübel EJ STR 8/60U, длина 135 мм",61.3,"по запросу"]
["01011_003","Sto-Thermodübel EJ STR 8/60U, длина 155 мм",71.209999999999994,"по запросу"]
["01011_004","Sto-Thermodübel EJ STR 8/60U, длина 175 мм",77.12,"по запросу"]
["01011_005","Sto-Thermodübel EJ STR 8/60U, длина 195 мм",96.91,"по запросу"]
["01011_006","Sto-Thermodübel EJ STR 8/60U, длина 215 мм",114.71,"по запросу"]
["01011_007","Sto-Thermodübel EJ STR 8/60U, длина 235 мм",128.55000000000001,"по запросу"]
["01011_008","Sto-Thermodübel EJ STR 8/60U, длина 255 мм",160.19,"по запросу"]
["01011_009","Sto-Thermodübel EJ STR 8/60U, длина 275 мм",181.96,"по запросу"]
["01011_010","Sto-Thermodübel EJ STR 8/60U, длина 295 мм",195.8,"по запросу"]
["00931_001","Sto-Thermodübel RPS / STR заглушка EPS (Rondell Polystyrol)",11.8,"по запросу"]
["00931_002","Sto-Thermodübel RMW / STR заглушка MW (Rondell Mineralwolle)",20.74,"по запросу"]
["00931_003","Sto-Thermodübel VE / STR заглушка EPS малая (Verschlusselement)",5.94,"по запросу"]
["00934_004","Sto-Thermodübel MT Фреза STR tool",17806,"по запросу"]
["02335_001","StoQuarz 0,1 mm кварцевая пыль",62,"по запросу"]
["00890_001","StoQuarz 0,3-0,8 mm неокрашенный ",49,"по запросу"]
["02336_001","StoQuarz 0,1-0,4 mm неокрашенный",42,"по запросу"]
["00890-001","StoQuarz 0,6-1,2 mm неокрашенный",53,"по запросу"]
["02335_003","StoQuarz 0,6-1,6 mm неокрашенный",53,"по запросу"]
["02336_006","StoQuarz 1,0-3,0 mm окрашенный, PG11","по запросу","по запросу"]
["02336_006","StoQuarz 1,0-3,0 mm окрашенный, PG12","по запросу","по запросу"]
["00861-002","StoPlex W ",328,540,0.64634146341463405]
["00861-001","StoPlex W ",332,536,0.6144578313253013]
["00810-015","StoPrim Micro",10720,14448,0.34776119402985084]
["00870-006","StoPrim Silikat",330,584,0.76969696969696977]
["00870-047","StoPrim Sol GT",434,720,0.6589861751152073]
["00856-013","StoPrim Grundex",1458,2078,0.42524005486968441]
["00856-012","StoPrim Grundex",1602,2262,0.41198501872659166]
["01304-005","StoPrim Isol",1224,1808,0.47712418300653603]
["01304-006","StoPrim Isol",1430,2110,0.47552447552447563]
["00855-003","StoPrim LP",2328,3306,0.42010309278350522]
["00884-001","StoPrep Contact ",326,530,0.62576687116564411]
["08401-009","Sto-Allgrund AF, белая",3026,4224,0.39590218109715791]
["08401-011","Sto-Allgrund AF getönt (колерованная)",3044,4224,{"$f":"D129/C129-1","v":0.38764783180026274}]
["00889-005","StoPrim Fungal ",301,468,0.55481727574750828]
["00889-001","StoPrim Fungal ",326,480,0.47239263803680975]
["02559-002","Sto-Turbofix mini, баллон 750 мл.",1936,2712,0.40082644628099184]
["00832-006","Sto-Steinpaste ",1002,1496,0.49301397205588815]
["00829-004","Sto-Dispersionskleber",488,764,0.56557377049180335]
["00506-001","Sto-Pistolenschaum SE, 750 мл",1626,2296,0.41205412054120538]
["00250-087","StoArmat Classic plus F (натурального цвета)",292,490,0.67808219178082196]
["00250-089","StoArmat Classic plus M (натурального цвета)",288,490,0.70138888888888884]
["00250-091","StoArmat Classic plus G (натурального цвета)",290,490,0.68965517241379315]
["00002-002","ARMAT CLASSIC AIMS NAT 25 KG EIM",376,604,0.6063829787234043]
["00250-029","StoArmat Classic S1 natur (натурального цвета)",336,548,0.63095238095238093]
["00804-001","StoPrep Miral natur (натурального цвета)",380,554,0.45789473684210535]
["01917-007","Sto-Rolleckwinkel 10х15 см.",179,230,0.28491620111731852]
["04909-010","Sto-Übergangsprofil Blech 250 см",784,1072,0.36734693877551017]
["01900-001","Sto-Dehnfugenband 37/17-32 mm anthrazit",2264,3060,0.35159010600706719]
["01897-017","Dehnfugenprofil/ профиль деформационный Typ E 2,5м ",1118,1520,0.35957066189624332]
["01897-018","Dehnfugenprofil/ профиль деформационный Typ V 2,5м ",1164,1580,0.35738831615120281]
["01846-001","Sto-Fugendichtband 2D, 15/5-12 mm",208,288,0.38461538461538458]
["01897-019","Sto-Dehnfugen-Abdeckprofil E 250 cm",578,792,0.37024221453287187]
["04346-019","StoLevell Reno weiss (белая)",215,262,0.2186046511627906]
["00747-001","StoLevell Deco weiss (белая)",300,496,0.65333333333333332]
["08744-001","StoMiral K 1,0 weiss (белая)",166,312,0.87951807228915668]
["01380-001","StoMiral K 1,5 weiss (белая)",166,312,0.87951807228915668]
["01381-001","StoMiral K 2,0 weiss (белая)",166,312,0.87951807228915668]
["01382-001","StoMiral K 3,0 weiss (белая)",166,312,0.87951807228915668]
["01385-001","StoMiral R 1,5 weiss (белая)",166,312,0.87951807228915668]
["01386-001","StoMiral R 2,0 weiss (белая)",166,312,0.87951807228915668]
["01387-001","StoMiral R 3,0 weiss (белая)",166,312,0.87951807228915668]
["00113-020","StoMiral MP weiss (белая)",166,312,0.87951807228915668]
["00845-006","StoMiral FL Vario",166,312,0.87951807228915668]
["01388-001","StoMiral Nivell F (мелкозернистая)",166,312,0.87951807228915668]
["00130-001","Stolit K 1,0 weiss (белая)",360,580,0.61111111111111116]
["00131-001","Stolit K 1,5 weiss (белая)",360,580,0.61111111111111116]
["00132-001","Stolit K 2,0 weiss (белая)",360,580,0.61111111111111116]
["00134-001","Stolit K 3,0 weiss (белая)",360,580,0.61111111111111116]
["00135-001","Stolit K 6,0 weiss (белая)",380,606,0.59473684210526323]
["00141-001","Stolit R 1,5 weiss (белая)",360,580,0.61111111111111116]
["00142-002","Stolit R 2,0 weiss (белая)",360,580,0.61111111111111116]
["00143-001","Stolit R 3,0 weiss (белая)",360,580,0.61111111111111116]
["00144-001","Stolit R 6,0 weiss (белая)",380,648,0.70526315789473681]
["00183-001","Stolit MP weiss (белая)",380,580,0.52631578947368429]
["00966-001","Stolit Effect weiss (белая)",360,580,0.61111111111111116]
["04366-003","Stolit Milano natur (натурального цвета)",360,580,0.61111111111111116]
["09576-010","Stolit AIMS K 1,0 weiss (белая)",498,792,0.59036144578313254]
["09576-006","Stolit AIMS K 1,5 weiss (белая)",498,792,0.59036144578313254]
["09576-002","Stolit AIMS K 2,0 weiss (белая)",498,792,0.59036144578313254]
["09576-008","Stolit AIMS K 3,0 weiss (белая)",560,792,0.41428571428571437]
["09576-004","Stolit AIMS MP weiss (белая)",560,848,0.51428571428571423]
["01383-001","StoNivellit weiss (белая)",380,614,0.61578947368421044]
["00152-062","Sto-Superlit K 2,0 405  (размер зерна 2,00 мм)",470,734,0.56170212765957439]
["00152-063","Sto-Superlit K 2,0 409  (размер зерна 2,00 мм)",470,734,0.56170212765957439]
["00152-077","Sto-Superlit K 2,0 411  (размер зерна 2,00 мм)",470,734,0.56170212765957439]
["00152-078","Sto-Superlit K 2,0 412  (размер зерна 2,00 мм)",470,734,0.56170212765957439]
["00152-064","Sto-Superlit K 2,0 413  (размер зерна 2,00 мм)",470,734,0.56170212765957439]
["00152-079","Sto-Superlit K 2,0 414  (размер зерна 2,00 мм)",470,734,0.56170212765957439]
["00152-080","Sto-Superlit K 2,0 416  (размер зерна 2,00 мм)",470,734,0.56170212765957439]
["00152-030","Sto-Superlit K 2,0 800  (размер зерна 2,00 мм)",470,734,0.56170212765957439]
["00152-041","Sto-Superlit K 2,0 818  (размер зерна 2,00 мм)",470,734,0.56170212765957439]
["00152-043","Sto-Superlit K 2,0 820  (размер зерна 2,00 мм)",470,734,0.56170212765957439]
["00152-044","Sto-Superlit K 2,0 821  (размер зерна 2,00 мм)",470,734,0.56170212765957439]
["00152-047","Sto-Superlit K 2,0 824  (размер зерна 2,00 мм)",470,734,0.56170212765957439]
["00152-051","Sto-Superlit K 2,0 828  (размер зерна 2,00 мм)",470,734,0.56170212765957439]
["00152-054","Sto-Superlit K 2,0 831  (размер зерна 2,00 мм)",470,734,0.56170212765957439]
["00152-056","Sto-Superlit K 2,0 833  (размер зерна 2,00 мм)",470,734,{"$f":"D193/C193-1","v":0.56170212765957439}]
["00152-057","Sto-Superlit K 2,0 834  (размер зерна 2,00 мм)",470,734,0.56170212765957439]
["00152-083","Sto-Superlit K 2,0 841  (размер зерна 2,00 мм)",470,734,0.56170212765957439]
["00152-061","Sto-Superlit K 2,0 403  (размер зерна 2,00 мм)",540,734,0.35925925925925917]
["00152-076","Sto-Superlit K 2,0 404  (размер зерна 2,00 мм)",540,808,0.49629629629629624]
["00152-065","Sto-Superlit K 2,0 415  (размер зерна 2,00 мм)",540,808,0.49629629629629624]
["00152-050","Sto-Superlit K 2,0 827  (размер зерна 2,00 мм)",540,808,0.49629629629629624]
["00152-052","Sto-Superlit K 2,0 829  (размер зерна 2,00 мм)",540,808,0.49629629629629624]
["00152-055","Sto-Superlit K 2,0 832  (размер зерна 2,00 мм)",540,808,0.49629629629629624]
["00152-059","Sto-Superlit K 2,0 836  (размер зерна 2,00 мм)",540,808,0.49629629629629624]
["00152-084","Sto-Superlit K 2,0 842  (размер зерна 2,00 мм)",540,808,0.49629629629629624]
["00866-001","StoSuperlit Protect  transparent (прозрачный)",1544,2224,0.44041450777202074]
["01220-001","StoSilco K 1,0 fein weiss (мелкозернистая белая)",390,612,0.56923076923076921]
["01218-001","StoSilco K 1,5  weiss (белая)",390,612,0.56923076923076921]
["00186-001","StoSilco K 2,0 weiss (белая)",390,612,0.56923076923076921]
["00187-001","StoSilco K 3,0 weiss (белая)",390,612,0.56923076923076921]
["01219-001","StoSilco R 1,5 weiss (белая)",390,696,0.78461538461538471]
["00188-001","StoSilco R 2,0 weiss (белая)",390,696,0.78461538461538471]
["00189-001","StoSilco R 3,0 weiss (белая)",390,696,0.78461538461538471]
["01214-001","StoSilco MP weiss (белая)",390,696,0.78461538461538471]
["04096-001","StoLotusan  K 1,0  weiss (белая)",572,866,0.51398601398601396]
["04790-001","StoLotusan  K 1,5  weiss (белая)",572,866,0.51398601398601396]
["04430-005","StoLotusan  K 2,0 weiss (белая)",572,866,0.51398601398601396]
["04432-001","StoLotusan  K 3,0 weiss (белая)",572,866,0.51398601398601396]
["04792-001","StoLotusan MP weiss (белая)",572,866,0.51398601398601396]
["02119-001","StoSil  K 1,0  weiss (белая)",360,578,0.60555555555555562]
["00103-001","StoSil  K 1,5  weiss (белая)",360,578,0.60555555555555562]
["00104-001","StoSil  K 2,0 weiss (белая)",360,578,0.60555555555555562]
["00105-001","StoSil  K 3,0 weiss (белая)",360,578,0.60555555555555562]
["00107-001","StoSil  R 1.5 weiss (белая)",360,622,0.72777777777777786]
["00108-001","StoSil  R 2,0 weiss (белая)",360,622,0.72777777777777786]
["00109-001","StoSil  R 3,0 weiss (белая)",360,622,0.72777777777777786]
["00110-001","StoSil MP weiss (белая)",360,622,0.72777777777777786]
["14217-002","Siliciumcarbid F 54",688,1024,0.48837209302325579]
["14218-002","Siliciumcarbid F 20",688,1024,0.48837209302325579]
["14219-002","Siliciumcarbid F 14",688,1024,0.48837209302325579]
["03299-005","StoEffect Vetro",1606,2262,0.40846824408468252]
["04399-002","StoEffect Terrazzo natur (натурального цвета)",265,418,0.57735849056603783]
["00270-001","StoColor Top weiss (белая)",1128,1648,0.46099290780141855]
["09548-002","StoColor Dryonic weiss (белая)",1358,1950,0.43593519882179677]
["09548-006","StoColor Dryonic G (белая)",1496,2216,0.48128342245989297]
["09548-016","StoColor Dryonic S  weiss (белая)",1940,2730,0.40721649484536093]
["09548-024","StoColor Dryonic Wood weiss (белая)",1632,2374,0.45465686274509798]
["09548-035","StoColor Dryonic Wood weiss (белая)",2062,3040,0.47429679922405432]
["02939-001","StoColor Photosan weiss (белая)",2104,2958,0.40589353612167289]
["08780-003","StoColor X-blaсk  (колерованная)",2096,2962,0.41316793893129766]
["08780-004","StoColor X-blaсk  (колерованная)",2264,3214,0.41961130742049479]
["00230-003","StoColor S grob weiss (крупный наполнитель, белая)",416,646,0.55288461538461542]
["00231-001","StoColor S fein weiss (мелкий наполнитель, белая)",397,602,0.51637279596977326]
["00278-001","StoColor Jumbosil weiss (белая)",682,1050,0.53958944281524923]
["00278-141","GAMADEKOR - SA, белая",682,1050,0.53958944281524923]
["00217-082","StoColor Silco weiss (белая)",832,1236,0.48557692307692313]
["00269-061","StoColor Silco G weiss (белая)",942,1412,0.4989384288747345]
["00239-002","StoColor Silco Fill weiss (белая)",574,860,0.49825783972125426]
["03206-064","StoColor Lotusan weiss (белая)",1014,1502,0.48126232741617359]
["09624-004","StoColor Lotusan AIMS weiss (белая)",1242,1762,0.41867954911433181]
["00207-014","StoColor Sil weiss (белая)",796,1208,0.51758793969849237]
["00248-001","StoColor Sil Lasura",664,996,0.5]
["09549-002","StoColor Solical (белая)",1020,1506,0.4764705882352942]
["09549-006","StoColor Solical G (белая)",1112,1730,0.55575539568345333]
["00058-002","StoColor Solical Fill (белая)",642,958,0.49221183800623058]
["00256-002","StoColor Sumpfkalk natur (натурального цвета)",458,718,0.56768558951965065]
["00488-004","StoColor Lastic weiss (белая)",1138,1666,0.46397188049209137]
["00274-001","StoColor Fibrasil weiss (белая)",1148,1686,0.46864111498257843]
["01358-001","StoColor Silco Elast weiss (белая)",1294,1874,{"$f":"D257/C257-1","v":0.44822256568778984}]
["00319-011","StoColor Metallic natur (серебристого цвета) 37800М",1668,2424,0.45323741007194251]
["00319-010","StoColor Metallic natur (серебристого цвета) 37800М",1810,2594,0.43314917127071828]
["00319-025","StoColor Metallic natur (золотистого цвета) 37820М",3518,4872,0.38487777146105739]
["00319-024","StoColor Metallic natur (золотистого цвета) 37820М",3588,4944,0.37792642140468224]
["00515-001","StoSilco HC",3372,4604,0.36536180308422295]
["00780-001","Sto-Flexyl ",688,1032,0.5]
["01817-001","StoSeal F 505 grau (серый), картридж 310 мл",900,1296,0.43999999999999995]
["01817-002","StoSeal F 505 grau (серый),  600 мл",1416,2068,0.46045197740112997]
["01812-001","StoSeal F 505 weiss (белый), картридж 310 мл",900,1296,0.43999999999999995]
["01812-002","StoSeal F 505 weiss (белый), 600 мл",1416,2068,0.46045197740112997]
["08441-013","StoCorr Metallac getönt (колерованная)",3370,4250,0.26112759643916905]
["08441-015","StoCorr Metallac getönt колерованный (1,0 л.)",5628,7656,0.36034115138592759]
["08430-001","StoRadiatorlac AF краска для радиаторов и труб",2676,3740,0.39760837070254107]
["04806-012","StoCorr Finish колерованный",4156,5742,0.38161693936477392]
["02399-034","StoAqua Top Satin 5l weiss",2296,3256,0.4181184668989546]
["02399-033","StoAqua Top Satin 2,5l weiss",2218,3100,0.39765554553651938]
["00163-006","Sto-Rissfüller fein (мелкозернистый)",422,668,0.58293838862559233]
["00163-001","Sto-Rissfüller fein (мелкозернистый)",500,780,0.56000000000000005]
["00829-019","Sto Prefa Coll",374,608,0.62566844919786102]
["00762-006","StoCleyer Brick NF 240 x 71 mm",130,184,0.41538461538461546]
["00762-006","Sto-Cleyer Eckverblender K 4/4 240 / 115 x 71",326,478,0.46625766871165641]
["00762-006","Sto-Cleyer Sturzeckverblender, формат 240 x 71 / 115",922,1272,0.37960954446854656]
["00760-001","Sto-Klebe- und Fugenmörtel",478,738,0.54393305439330542]
["00518-002","StoPrim Plex",388,620,0.597938144329897]
["00518-001","StoPrim Plex",390,612,0.56923076923076921]
["09609-001","StoPrim GT",448,740,0.65178571428571419]
["00517-001","StoPrim Color weiss (белая)",694,1062,0.53025936599423629]
["00872-001","StoPrep In natur (натурального цвета)",410,640,0.56097560975609762]
["00872-004","StoPrep In natur (натурального цвета)",536,810,0.51119402985074625]
["00749-018","StoLevell In XXL (мешок)",288,362,0.25694444444444442]
["00749-019","StoLevell In XXL (ведро)",340,436,0.2823529411764707]
["00822-001","StoLevell in Resist",338,438,0.29585798816568043]
["01230-001","StoLevell In G",301,400,0.32890365448504988]
["00819-001","StoLevell in Sil",356,462,0.297752808988764]
["08899-001","StoLevell Calce RP (мешок)",223,266,0.19282511210762321]
["09320-001","StoLevell Calce FS (мешок)",232,276,0.18965517241379315]
["01245-001","StoLevell In As",286,360,0.25874125874125875]
["01245-003","StoLevell In As",338,436,0.28994082840236679]
["08414-004","StoLevell In Repair",494,872,0.76518218623481782]
["02970-001","StoLevell In Fill",264,442,0.67424242424242431]
["02970-002","StoLevell In Fill",296,492,0.66216216216216206]
["01276-008","StoLevell In RS",270,448,0.65925925925925921]
["09620-002","DECOSIT K 1,0 weiss ",308,490,0.59090909090909083]
["09620-004","DECOSIT K 1,5 weiss ",308,490,0.59090909090909083]
["09620-006","DECOSIT K 2,0 weiss ",308,490,0.59090909090909083]
["09620-008","DECOSIT R 1,0 weiss ",308,490,0.59090909090909083]
["09620-010","DECOSIT R 1,5 weiss ",308,512,0.66233766233766245]
["09620-012","DECOSIT MP 0,5 WEISS 25 KG EIM",308,512,0.66233766233766245]
["09620-014","DECOSIT SP 1,0 weiss ",308,550,0.78571428571428581]
["09620-016","DECOSIT SP 1,5 weiss ",308,550,0.78571428571428581]
["00180-023","Sto-Granit K 1,5 цвет 800",472,766,0.62288135593220328]
["00180-024","Sto-Granit K 1,5 цвет 801",472,766,0.62288135593220328]
["00180-025","Sto-Granit K 1,5 цвет 803",472,766,0.62288135593220328]
["00180-027","Sto-Granit K 1,5 цвет 821",472,766,0.62288135593220328]
["00180-028","Sto-Granit K 1,5 цвет 824",472,766,0.62288135593220328]
["00180-029","Sto-Granit K 1,5 цвет 802",472,766,0.62288135593220328]
["00180-031","Sto-Granit K 1,5 цвет 808",472,766,0.62288135593220328]
["00180-030","Sto-Granit K 1,5 цвет 804",860,1260,0.46511627906976738]
["00180-032","Sto-Granit K 1,5 цвет 812",860,1260,0.46511627906976738]
["00180-033","Sto-Granit K 1,5 цвет 813",860,1260,0.46511627906976738]
["09217-003","StoCalce Activ MP 1,0 (натуральный белый)",240,320,0.33333333333333326]
["00039-001","StoColor Basic weiss (белая)",399,588,0.47368421052631571]
["00039-002","StoColor  Basic weiss (белая)",440,666,0.51363636363636367]
["00237-024","StoColor In  weiss (белая)",440,638,{"$f":"D321/C321-1","v":0.44999999999999996}]
["00237-022","StoColor In  weiss (белая)",485,722,0.48865979381443303]
["00237-020","StoColor In  weiss (белая)",522,742,0.42145593869731801]
["00237-018","StoColor In  weiss (белая)",1032,1392,0.34883720930232553]
["00229-007","StoColor Rapid weiss (белая)",722,1074,0.48753462603878117]
["00229-006","StoColor Rapid weiss (белая)",758,1166,0.53825857519788922]
["00229-005","StoColor Rapid weiss (белая)",876,1170,0.33561643835616439]
["00229-004","StoColor Rapid weiss (белая)",1160,1742,0.50172413793103443]
["08011-004","StoColor Rapid Satin weiss (белая)",914,1188,0.29978118161925593]
["08011-003","StoColor Rapid Satin weiss (белая)",1006,1334,0.32604373757455263]
["08011-002","StoColor Rapid Satin weiss (белая)",1119,1452,0.2975871313672922]
["08109-004","StoColor Rapid Ultramatt weiss (белая)",660,946,0.43333333333333335]
["08109-003","StoColor Rapid Ultramatt weiss (белая)",702,1034,0.47293447293447288]
["08109-002","StoColor Rapid Ultramatt weiss (белая)",826,1158,0.40193704600484259]
["08109-001","StoColor Rapid Ultramatt weiss (белая)",1272,1764,0.3867924528301887]
["00024-001","StoColor Opticryl Matt weiss (белая)",712,1174,0.648876404494382]
["00024-005","StoColor Opticryl Matt weiss (белая)",756,1276,0.6878306878306879]
["00024-004","StoColor Opticryl Matt weiss (белая)",860,1410,0.63953488372093026]
["00024-003","StoColor Opticryl Matt weiss (белая)",1096,1860,0.69708029197080301]
["00028-001","StoColor Opticryl Satin weiss (белая)",1298,2028,0.56240369799691825]
["00028-005","StoColor Opticryl Satin weiss (белая)",1396,2214,0.58595988538681953]
["00028-004","StoColor Opticryl Satin weiss (белая)",1474,2306,0.56445047489823619]
["00028-003","StoColor Opticryl Satin weiss (белая)",1742,2802,0.60849598163030993]
["00026-001","Sto Color Opticryl Satinmatt weiss (белая)                         ",820,1326,0.61707317073170742]
["00026-005","StoColor Opticryl Satinmatt weiss (белая)",864,1434,0.65972222222222232]
["00026-004","StoColor Opticryl Satinmatt weiss (белая)",970,1570,0.61855670103092786]
["00026-003","StoColor Opticryl Satinmatt weiss (белая)",1204,2018,0.67607973421926904]
["00030-001","StoColor Opticryl Gloss weiss (белая)",1394,2184,0.56671449067431845]
["00030-005","StoColor Opticryl Gloss weiss (белая)",1492,2374,0.59115281501340489]
["00030-004","StoColor Opticryl Gloss weiss (белая)",1568,2468,0.57397959183673475]
["00030-003","StoColor Opticryl Gloss weiss (белая)",1834,2964,0.61613958560523452]
["00097-002","StoColor Titanium weiss (белая) ",1058,1552,0.46691871455576561]
["00097-001","StoColor Titanium weiss (белая)",1166,1736,0.48885077186963977]
["00097-020","StoColor Titanium ASE getönt (колерованная)",1370,1974,0.44087591240875912]
["00097-021","StoColor Titanium ASE getönt (колерованная)",1536,2218,0.44401041666666674]
["02990-001","StoColor Climasan weiss (белая)",1882,2662,0.41445270988310301]
["02990-007","StoColor Climasan weiss (белая)",2088,2960,0.41762452107279691]
["09378-002","StoColor Supermatt weiss (белый)",892,1348,0.51121076233183849]
["09378-004","StoColor Supermatt weiss (белый)",1224,1808,0.47712418300653603]
["00292-001","StoColor Sil Mineral weiss (белая)",486,794,0.63374485596707819]
["00292-019","StoColor Sil Mineral weiss (белая)",604,984,0.62913907284768222]
["00292-025","StoColor Sil Mineral weiss (белая)",680,1068,0.57058823529411762]
["09547-004","StoColor Sil Comfort weiss (белая)",752,1144,0.52127659574468077]
["00206-006","StoColor Sil In weiss (белая)",742,1134,0.52830188679245293]
["00206-004","StoColor Sil In weiss (белая)",782,1224,0.56521739130434789]
["00206-012","StoColor Sil In weiss (белая)",934,1406,0.50535331905781589]
["00206-075","StoColor Sil In weiss (белая)",1228,1904,0.55048859934853422]
["00199-004","StoColor Sil Premium weiß",788,1194,0.51522842639593902]
["00199-010","StoColor Sil Premium weiß",946,1426,0.507399577167019]
["00247-001","StoColor Calcetura natur (натуральный цвет)",326,540,0.65644171779141103]
["00080/001","StoColor Puran Satin weiss (белая), комплект из 2-х компонентов",1576,2236,0.41878172588832485]
["00200-011","StoColor Isol weiss (белая)",2872,4030,0.40320334261838431]
["00289-001","StoColor Isol W weiss (белая)",1372,2002,0.45918367346938771]
["00289-004","StoColor Isol W weiss (белая)",1582,2312,0.46144121365360302]
["00300-001","StoLook Decor Fine 1 мм weiss (белое)",342,610,0.78362573099415211]
["00302-001","StoLook Decor Medium 1,5 мм weiss (белое)",340,610,0.79411764705882359]
["00735-017","StoLook Decor Perl weiss (белое)",382,704,0.84293193717277481]
["00282-001","StoLook Struktur F weiss (белое)",464,800,0.72413793103448265]
["00282-005","StoLook Struktur F weiss (белое)",576,1050,0.82291666666666674]
["00571-001","StoLook Struktur G weiss (белое)",466,800,0.71673819742489275]
["00317-001","StoLook Diamant ",1512,2412,0.59523809523809534]
["00330-053","StoLook Piccolo FT LP0204",1498,2308,0.54072096128170899]
["00330-071","StoLook Piccolo FT LP0222",1498,2308,0.54072096128170899]
["00330-070","StoLook Piccolo FT LP0221",1498,2308,0.54072096128170899]
["00330-068","StoLook Piccolo FT LP0219",1498,2308,{"$f":"D385/C385-1","v":0.54072096128170899}]
["00330-052","StoLook Piccolo FT LP0203",1498,2308,0.54072096128170899]
["00330-069","StoLook Piccolo FT LP0220",1498,2308,0.54072096128170899]
["00330-074","StoLook Piccolo FT LP0225",1498,2308,0.54072096128170899]
["01326-009","StoCalce Fondo naturweiss (натур. бел.) ",580,952,0.64137931034482754]
["01323-009","StoCalce Effetto naturweiss (натур. бел.)",798,1274,0.59649122807017552]
["01321-024","StoCalce Marmorino naturweiss (натур. бел.) ",710,1144,0.61126760563380289]
["01321-022","StoCalce Marmorino naturweiss (натур. бел.) ",940,1570,0.67021276595744683]
["04245-003","StoCalce Veneziano (натур.бел.)",662,1082,0.6344410876132931]
["04970-001","StoSil Patina  transparent (прозрачный)",882,1596,0.80952380952380953]
["01328-001","StoLook Lasura",1058,1858,0.75614366729678628]
["00164-001","StoLook Mica Grossa",2402,3804,0.58368026644462945]
["04240-001","StoLook Punto Z",378,674,0.78306878306878303]
["04248-003","StoLook Punto F verde alpi (зеленый альпийский мрамор)",888,1316,0.48198198198198194]
["04252-003","StoLook Punto F nero ebano (черный эбеновый мрамор) ",888,1316,0.48198198198198194]
["04253-003","StoLook Punto F rosso verona (красный веронский мрамор) ",888,1316,0.48198198198198194]
["04250-003","StoLook Punto F giallo mori (желтый мрамор)",960,1708,0.77916666666666656]
["04254-003","StoLook Punto F coccio pesto (кирпичная мука)",960,1708,0.77916666666666656]
["01329-003","StoLook Wax / воск",3720,5638,0.5155913978494624]
["01339-001","StoLook Wax  forte / воск",4400,6636,0.50818181818181829]
["04256-001","StoLook Oro",1542,2370,0.53696498054474717]
["04257-001","StoLook Argento",1542,2370,0.53696498054474717]
["04255-001","StoLook Rame",1542,2370,0.53696498054474717]
["09538-002","StoLook Ballotini 180-300",620,1046,0.68709677419354831]
["14505-003","Ballotini 75-150 MY",736,1238,0.68206521739130443]
["14360-003","Ballotini 53-106 MY",736,1238,0.68206521739130443]
["14251-001","Ballotini 180-300 MY",430,728,0.69302325581395352]
["14252-001","Ballotini 250-425 MY",430,728,0.69302325581395352]
["05082-024","StoAQUA TOP IN OT",1924,2710,0.40852390852390852]
[61130,"ALFADEKOR   F ",438,672,0.53424657534246567]
[61140,"ALFADEKOR  G \n102,104,105,106,107,108,109,110,111,115,114,116,118,119,120,121,122,123,125,200,201,202,203,204,205,206,207,208,209,210,211,213,212,214,215,216,217,218,219,220,221,222   ",438,704,0.60730593607305927]
[61150,"ALFADEKOR  S\n402,402,403,404,405,406,407,408,409,410,411,412",438,704,0.60730593607305927]
["05374-053","PUTZGRUND OT ",366,590,0.61202185792349728]
["05374-051","PUTZGRUND HALBTITAN ",336,546,0.625]
["05825-012","STOLIT K 1,0 OT",424,664,0.5660377358490567]
["05826-019","STOLIT K 1,5 O T",376,586,0.5585106382978724]
["05827-019","STOLIT K 2,0 O T ",370,596,0.61081081081081079]
["05829-021","STOLIT K 3,0 O T ",372,598,0.60752688172043001]
["05830-010","STOLIT K 6,0 O T ",576,868,0.50694444444444442]
["05831-016","STOLIT R 1,5 O T ",410,646,0.57560975609756104]
["05832-016","STOLIT R 2,0 O T ",366,590,0.61202185792349728]
["05834-016","STOLIT R 3,0 O T ",674,734,8.9020771513353081E-2]
["05835-010","STOLIT R 6,0 O T ",960,1300,0.35416666666666674]
["05822-013","STOLIT MP O T ",400,634,0.58499999999999996]
["15828-002","STOLIT MILANO O T ",368,594,0.61413043478260865]
["15727-004","STOLIT Effect O T ",534,776,0.45318352059925093]
["05415-148","BASIS A SVJ Jumbosil",650,1016,0.56307692307692303]
["05415-153","BASIS B SVJ Jumbosil",606,954,0.57425742574257432]
["05415-156","BASIS O T SVJ Jumbosil",572,912,0.59440559440559437]
["05415-165","GAMADEKOR - SA, база А",656,1022,0.55792682926829262]
["05415-166","GAMADEKOR - SA, база B",612,960,0.56862745098039214]
["05415-167","GAMADEKOR - SA, база OT",604,956,0.58278145695364247]
["05355-009","FIBRASIL BASIS A ",1132,1664,0.46996466431095407]
["05355-011","FIBRASIL BASIS B ",1032,1528,0.48062015503875966]
["05355-007","FIBRASIL O T 14,5 L EIM D/E/F/",942,1412,0.4989384288747345]
["05425-013","STO COLOR TOP BASIS A",1258,1832,0.45627980922098565]
["05425-015","STO COLOR TOP BASIS B",1108,1632,0.47292418772563183]
["05425-012","STO COLOR TOP BASIS OT",1000,1492,0.49199999999999999]
["05877-010","Color S GROB OT BASIS ",500,760,0.52]
["05876-019","Color S FEIN A BASIS ",770,798,3.6363636363636376E-2]
["05876-010","Color S FEIN OT BASIS ",520,734,0.41153846153846163]
["05902-103","BASIS A SILCO IQ",840,1202,0.43095238095238098]
["05902-105","BASIS B SILCO IQ",755,1122,0.48609271523178799]
["05902-101","BASIS OT SILCO IQ ",720,1096,0.52222222222222214]
["05454-058","BASIS OT SILCO G IQ ",792,1168,{"$f":"D449/C449-1","v":0.4747474747474747}]
["05883-021","BASIS A LCRB / COLOR LASTIC",1092,1606,0.4706959706959708]
["05883-018","BASIS B LCRB / COLOR LASTIC",1024,1514,0.478515625]
["05883-014","BASIS RB OT / COLOR LASTIC",956,1416,0.48117154811715479]
["15319-007","SILCO ELAST BASIS A",1392,2002,0.43821839080459779]
["15319-005","SILCO ELAST BASIS OT",1214,1768,0.45634266886326191]
["15003-015","BASIS A DRYONIC ",1294,1866,0.44204018547140644]
["15003-016","BASIS B DRYONIC",1256,1820,0.44904458598726116]
["15003-014","DRYONIC O T",1140,1670,0.46491228070175428]
["15003-044","DRYONIC S Basis A",1838,2596,0.41240478781284007]
["15003-045","DRYONIC S Basis B",1754,2486,0.41733181299885969]
["15003-046","DRYONIC S Basis OT",1654,2360,0.42684401451027809]
["15003-133","DRYONIC WOOD Basis A",1646,2396,0.45565006075334136]
["15003-134","DRYONIC WOOD Basis B",1600,2336,0.45999999999999996]
["15003-111","DRYONIC WOOD Basis OT",1572,2302,0.46437659033078882]
["15101-161","BASIS A LOTUSAN IQ",920,1378,0.49782608695652164]
["15101-163","BASIS B LOTUSAN IQ",815,1210,0.48466257668711665]
["15101-159","BASIS OT LOTUSAN IQ ",770,1152,0.49610389610389616]
["15003-271","BASIS A LOTUSAN AIMS IQ 15 L EIM",1222,1788,0.46317512274959083]
["15003-273","BASIS B LOTUSAN AIMS IQ 15 L EIM",1136,1674,0.47359154929577474]
["15003-269","LOTUSAN AIMS IQ O T 14,5 L EIM",1004,1496,0.49003984063745021]
["05007-025","SIL BASIS A ",776,1192,0.53608247422680422]
["05007-034","SIL BASIS B ",698,1080,0.54727793696275073]
["05076-013","StoAqua Top Satin (transparent) 5l ",2008,2862,0.42529880478087656]
["05076-012","StoAqua Top Satin (transparent) 2,5l",1860,2622,0.4096774193548387]
["15993-011","BASIS A TITANIUM ASE",1008,1494,0.48214285714285721]
["15993-010","BASIS A TITANIUM ASE",1180,1752,0.48474576271186431]
["15993-014","BASIS B TITANIUM ASE",968,1442,0.4896694214876034]
["15993-013","BASIS B TITANIUM ASE",1136,1694,0.49119718309859151]
["15993-007","BASIS OT TITANIUM ASE",984,1470,0.49390243902439024]
["15993-006","BASIS OT TITANIUM ASE",1128,1688,0.49645390070921991]
["15964-005","BASIS A INNEN MATT ",690,1058,0.53333333333333344]
["15964-012","BASIS A INNEN MATT ",742,1158,0.56064690026954178]
["15964-011","BASIS A INNEN MATT ",744,1152,0.54838709677419351]
["15964-010","BASIS A INNEN MATT",1108,1744,0.57400722021660644]
["15964-006","BASIS B INNEN MATT ",568,892,0.57042253521126751]
["15964-015","BASIS B INNEN MATT ",666,1068,0.60360360360360366]
["15964-014","BASIS B INNEN MATT ",734,1142,0.55585831062670299]
["15964-013","BASIS B INNEN MATT ",992,1590,0.60282258064516125]
["15964-004","INNEN MATT O T ",490,796,0.62448979591836729]
["15964-009","INNEN MATT O T ",592,976,0.64864864864864868]
["15964-008","INNEN MATT O T",664,1052,0.5843373493975903]
["15964-007","INNEN MATT O T ",935,1524,0.62994652406417107]
["15965-005","BASIS A INNEN SATINMATT ",808,1180,0.46039603960396036]
["15965-012","BASIS A INNEN SATINMATT ",884,1358,0.53619909502262453]
["15965-011","BASIS A INNEN SATINMATT",952,1430,0.50210084033613445]
["15965-010","BASIS A INNEN SATINMATT ",1226,1878,0.5318107667210441]
["15965-006","BASIS B INNEN SATINMATT ",680,1044,0.53529411764705892]
["15965-015","BASIS B INNEN SATINMATT",702,1066,0.5185185185185186]
["15965-014","BASIS B INNEN SATINMATT",788,1138,0.44416243654822329]
["15965-013","BASIS B INNEN SATINMATT ",1078,1602,0.48608534322820041]
["15965-004","INNEN SATINMATT O T ",598,942,0.5752508361204014]
["15965-009","INNEN SATINMATT O T ",740,1184,0.60000000000000009]
["15965-008","INNEN SATINMATT O T ",808,1254,0.55198019801980203]
["15965-007","INNEN SATINMATT O T",1072,1716,0.60074626865671643]
["15966-005","BASIS A INNEN SATIN 15 L EIM",1326,1912,0.44193061840120662]
["15966-012","BASIS A INNEN SATIN ",1396,2050,0.46848137535816625]
["15966-011","BASIS A INNEN SATIN ",1482,2144,0.44669365721997312]
["15966-010","BASIS A INNEN SATIN ",1778,2644,0.48706411698537688]
["15966-006","BASIS B INNEN SATIN 15 L EIM",1176,1718,0.46088435374149661]
["15966-015","BASIS B INNEN SATIN ",1246,1856,0.4895666131621188]
["15966-014","BASIS B INNEN SATIN ",1340,1962,0.46417910447761201]
["15966-013","BASIS B INNEN SATIN ",1628,2450,0.50491400491400484]
["15966-004","INNEN SATIN O T ",1082,1602,0.48059149722735683]
["15966-009","INNEN SATIN O T ",1154,1744,{"$f":"D513/C513-1","v":0.51126516464471394}]
["15966-008","INNEN SATIN O T ",1242,1840,0.4814814814814814]
["15966-007","INNEN SATIN O T ",1558,2372,0.5224646983311938]
["15967-005","BASIS A INNEN GLOSS ",1600,2274,0.4212499999999999]
["15967-012","BASIS A INNEN GLOSS ",1756,2538,0.4453302961275627]
["15967-011","BASIS A INNEN GLOSS ",1762,2516,0.42792281498297391]
["15967-010","BASIS A INNEN GLOSS ",1916,2842,0.48329853862212935]
["15967-006","BASIS B INNEN GLOSS ",1482,2128,0.4358974358974359]
["15967-015","BASIS B INNEN GLOSS ",1814,2612,0.43991179713340678]
["15967-014","BASIS B INNEN GLOSS ",1624,2338,0.43965517241379315]
["15967-013","BASIS B INNEN GLOSS",1768,2640,0.49321266968325794]
["15967-004","INNEN GLOSS O T ",1218,1774,0.45648604269293935]
["15967-009","INNEN GLOSS O T ",1518,2216,0.4598155467720686]
["15967-008","INNEN GLOSS O T ",1384,2022,0.46098265895953761]
["15967-007","INNEN GLOSS O T",1686,2540,0.5065243179122183]
["15799-007","BASIS A PURAN SATIN ",1492,2142,0.43565683646112596]
["15799-004","BASIS B PURAN SATIN ",1438,2068,0.43810848400556335]
["15799-008","BASIS OT PURAN SATIN ",1626,2350,0.44526445264452641]
["00082-001","PURAN KB",5654,7750,0.37071100106119559]
["15033-002","LOOK STRUKTUR F OT ",532,802,0.50751879699248126]
["06508-005","Sto-Colorant SBL",8702,11768,0.35233279705814757]
["06516-007","Sto-Colorant OG ",1318,1920,0.45675265553869493]
["06517-007","Colorant G2GXD",4292,6008,0.39981360671015853]
["06523-005","Colorant PG ",5700,7778,0.36456140350877186]
["06526-006","Sto-Colorant CGR",3278,4506,0.37461866992068327]
["06531-003","Sto-Colorant BLU ",5914,8074,0.36523503550896175]
["06532-007","Sto-Colorant CV ",15388,20708,0.3457239407330388]
["06533-006","Sto-Colorant KBL",8666,11794,0.36095084237249009]
["06536-006","Sto-Colorant BV",7362,9988,0.35669654985058408]
["06547-008","Sto-Colorant OR",1732,2444,0.4110854503464203]
["06548-010","Colorant OS 530",2074,2946,0.42044358727097397]
["06550-004","Colorant TY ",5518,7494,0.35810076114534262]
["06552-004","Sto-Colorant TR ",6258,8540,0.36465324384787468]
["06556-007","Sto-Colorant TW ",2436,3418,0.40311986863711002]
["06557-008","Sto-Colorant G100 ",1740,2472,0.42068965517241375]
["06558-009","Sto-Colorant CR100 ",3658,5034,0.37616183706943684]
["06560-008","Sto-Colorant CS",2152,3128,0.45353159851301106]
["16547-004","Colorant ROSA E ",8564,11606,0.35520784680056039]
["16576-001","Sto-Colorant SGN ",21094,29670,0.40656110742391194]
["16580-002","Sto-Colorant PO2 R",2528,3498,0.38370253164556956]
["06519-004","Sto-Colorant FGR",5012,7178,0.43216280925778139]
["09679-188","Ведро желтое с логотипом Sto - 0,8 литра",264,380,0.43939393939393945]
["09257-002","Ведро желтое с логотипом Sto - 1,8 литра",328,498,0.51829268292682928]
["09050-002","Ведро желтое с логотипом Sto - 3,2 литра",354,530,0.49717514124293793]
["09049-002","Ведро желтое с логотипом Sto - 5,5 литра",426,646,0.51643192488262901]
["09065-001","Ведро желтое с логотипом Sto - 12,0 литров",740,1132,0.52972972972972965]
["09019-002","Ведро желтое с логотипом Sto - 18,0 литров",850,1302,0.53176470588235292]
["08289-007","Sto-Stieltulle",920,1366,0.48478260869565215]
["08253-011","Sto-Abstreifgitter 27x29 cm",246,474,0.92682926829268286]
["08255-001","Zahnleistenkelle 280x100 mm",3608,4956,0.37361419068736135]
["08259-001","Sto-Bossenkelle",11298,15222,0.34731810939989383]
["08268-001","Sto-Außen-Eckenkelle 65x65 mm",1740,2462,0.41494252873563209]
["08278-006","Sto-Lackierwalze Nylon 25 cm 6 mm",1036,1534,0.48069498069498073]
["08279-004","Sto-Heizkörperwalze Nylon 11 100/43 mm",252,482,0.91269841269841279]
["08281-004","Sto-Farbwanne 22x27 cm",290,534,0.84137931034482749]
["08283-001","Federspachtel 160 mm",3918,5370,0.37059724349157741]
["08288-001","Sto-Glättkelle Profi 280x130x0,7 mm",2784,3854,0.38433908045977017]
["08288-002","Sto-Schweizer Glättekelle 500x130x0,7 mm",5106,6956,0.3623188405797102]
["08288-008","Sto-Glättekelle gezahnt 280x130 mm 4x4",1328,1914,0.44126506024096379]
["08288-009","Sto-Glättekelle gezahnt 280x130 mm 6x6",1328,1914,0.44126506024096379]
["08288-010","Sto-Glättekelle gezahnt 280x130 mm 8x8",1328,1914,0.44126506024096379]
["08288-029","Sto-Spezialglätter 800x130mm",18708,25112,0.34231344879196057]
["08288-039","Aufziehglätte, gezahnt 4x4 mm",2866,3968,0.38450802512212134]
["08288-040","Aufziehglätte, gezahnt 6x6 mm",2866,3968,0.38450802512212134]
["08288-042","Aufziehglätte, gezahnt 10x10 mm",3178,4410,{"$f":"D577/C577-1","v":0.38766519823788537}]
["08289-003","Sto-Glättekelle Kunststoff Mini 160x80x3 mm",1496,2134,0.42647058823529416]
["08289-009","Sto-Glättekelle Kunststoff mit Kunststoffgriff 280x140x2 mm",778,1178,0.51413881748071977]
["08289-010","Sto-Glättekelle Kunststoff mit Kunststoffgriff 280x140x3 mm",848,1272,0.5]
["08290-015","Sto-Flächenspachtel mit Softgriff abgerundet 480 mm",2958,4088,0.38201487491548347]
["08290-016","Sto-Flächenspachtel mit Softgriff abgerundet 570 mm",3238,4460,0.37739345274861025]
["08301-001","StoLook Schwammscheibe",2118,2968,0.40132200188857414]
["08303-004","Sto-Japanspachtelsatz mit Leichtmetallrücken",1038,1522,0.46628131021194608]
["08313-028","Sto-Malerspachtel Profi 50 mm",640,992,0.55000000000000004]
["08313-029","Sto-Malerspachtel Profi 80 mm",728,1110,0.52472527472527464]
["08327-001","Sto-Berner Putzkelle 140 mm",1556,2216,0.42416452442159391]
["08328-001","Sro-Reibebrett mit Schwammgummibelag 280x140 mm",1272,1852,0.45597484276729561]
["08335-001","Sto-WDVS-Schleifpapier 420x200 mm K 16",1310,1896,0.44732824427480922]
["08335-002","Sto-WDVS-Schleifbrett 420x200 mm K 16",5694,7742,0.35967685282753781]
["08354-010","Sto-Strukturwalze grob 110/35 mm",260,494,0.89999999999999991]
["08354-011","Sto-Strukturwalze grob 250/74 mm",1770,2518,0.4225988700564971]
["08356-001","Sto-Stuckateurspachtel 80 mm",1512,2158,0.42724867724867721]
["08356-002","Sto-Stuckateurspachtel 100 mm",1648,2338,0.4186893203883495]
["08369-009","Sto-Teleskopstange Aluminium",3696,5156,0.39502164502164505]
["08373-001","Zahnleiste C2/28 cm",432,718,0.66203703703703698]
["08373-004","Zahnleiste C1/28 cm",446,738,0.65470852017937209]
["08376-001","StoLook Marmorino-Glättekelle 200x80/70 mm",4608,6292,0.36545138888888884]
["08376-002","StoLook Marmorino-Glättekelle 240x100/80 mm",4902,6682,0.36311709506323941]
["08376-003","StoLook Marmorino-Glättekelle 280x100/90 mm",5512,7498,0.36030478955007261]
["17100-003","Sto-Flachpinsel Standart 50 mm, Borstenlänge 58 mm",832,1258,0.51201923076923084]
["17100-004","Sto-Flachpinsel Standart 60 mm, Borstenlänge 58 mm",1058,1560,0.47448015122873355]
["17100-005","Sto-Flachpinsel Standart 70 mm, Borstenlänge 64 mm",1328,1924,0.4487951807228916]
["17100-006","Sto-Flachpinsel Standart 80 mm, Borstenlänge 64 mm",1764,2508,0.42176870748299322]
["17100-007","Sto-Flachpinsel Standart 100 mm, Borstenlänge 64 mm",2214,3112,0.40560072267389335]
["17101-001","Sto-Heizkörperpinsel Standart hell 25/43 mm",374,642,0.71657754010695185]
["17101-003","Sto-Heizkörperpinsel Standart hell 50/56 mm",536,862,0.60820895522388052]
["17103-006","Sto-Flächenstreicher Standart grau 120 mm / 65 mm",2426,3394,0.39901071723000814]
["17106-003","Sto-Flächenstreicher Orel-Mix 135 mm/ 85 mm",5016,6836,0.36283891547049452]
["17202-007","Deckenspachtel 600 mm",10588,14260,0.34680770683792983]
["17202-010","Deckenspachtel 2х500 mm",9784,13186,0.34771054783319699]
["17400-001","Gummischieber Profi 550 mm",1732,2450,0.41454965357967666]
["17400-002","Gummischieber doppellippig 550 mm",802,1208,0.50623441396508717]
["17403-001","Stehrakel mit Klemmleiste 560 mm",4460,6088,0.36502242152466358]
["17404-001","Sto-Knieschoner",6898,9380,0.35981443896781684]
["17404-004","Nagelsohle mit Gurten",7138,9702,0.35920425889604934]
["17401-001","Sto-Rakel f. Zahngummileisten 580 mm",14308,19220,0.34330444506569746]
["17401-003","Zahngummileisten f. Sto-Rakel 2 mm",4970,6778,0.36378269617706227]
["17401-004","Zahngummileisten f. Sto-Rakel 4 mm",4970,6778,0.36378269617706227]
["17401-006","Zahngummileisten f. Sto-Rakel 6 mm",4970,6778,0.36378269617706227]
["17401-008","Zahngummileisten f. Sto-Rakel 8 mm",4970,6778,0.36378269617706227]
["17800-024","Sto-Malerwalze FIL Langflor 180 mm, Ø 85mm",1076,1588,0.47583643122676578]
["17800-025","Sto-Malerwalze FIL Langflor 250 mm, Ø 85mm",1382,1998,0.44573082489146154]
["17804-002","Sto-Grundierwalze Microfaser 250 mm",1184,1732,0.46283783783783794]
["17811-003","Sto-Fassadenwalze Standart 270/102 mm",1408,2034,0.44460227272727271]
["17811-008","Sto-Malerwalze Standart Kurzflor 25cm Flor 12mm, Ø 72mm",986,1466,0.48681541582150101]
["17811-006","Sto-Malerwalze малярный валик 250 мм. длина ворса 18 мм.",1122,1650,0.47058823529411775]
["08219-006","Sto-Reliefwalze Eiche",3320,4598,0.38493975903614452]
["08268-009","Sto-Inneneckenkelle 80x60 mm",1540,2194,0.42467532467532476]
["08279-005","Sto-Heizkörperwalze Nylon RS8 100 mm",252,482,0.91269841269841279]
["08289-002","Sto-Glattekelle Premium Kunststoff 280x135x1 mm",2578,3580,0.3886733902249806]
["08328-002","Sto-Zellkautschukreibebrett",958,1434,0.49686847599164929]
["08373-002","Sto-Zahnleiste für Zahnleistenkelle B1",432,718,0.66203703703703698]
["08373-007","Sto-Zahnleiste für Zahnleistenkelle 78",446,738,0.65470852017937209]
["08373-008","Sto-Zahnleiste für Zahnleistenkelle 7",446,738,0.65470852017937209]
["08373-018","Sto-Zahnleiste, 280 x 25 mm, Zahnform 25",446,738,0.65470852017937209]
["08373-019","Sto-Zahnleiste, 280 x 25 mm, Zahnform 48",446,738,0.65470852017937209]
["08373-020","Sto-Zahnleiste, 280 x 25 mm, Zahnform 92",446,738,0.65470852017937209]
["08373-021","Sto-Zahnleiste, 280 x 25 mm, Zahnform 95",446,738,0.65470852017937209]
["08373-022","Sto-Zahnleiste, 280 x 25 mm, Zahnform A2",446,738,0.65470852017937209]
["08373-023","Sto-Zahnleiste, 280 x 25 mm, Zahnform A3",446,738,{"$f":"D641/C641-1","v":0.65470852017937209}]
["08373-024","Sto-Zahnleiste, 280 x 25 mm, Zahnform S1",446,738,0.65470852017937209]
["08373-025","Sto-Zahnleiste, 280 x 25 mm, Zahnform S2",446,738,0.65470852017937209]
["08373-026","Sto-Zahnleiste, 280 x 25 mm, Zahnform S3",446,738,0.65470852017937209]
["08373-027","Sto-Zahnleiste, 280 x 25 mm, Zahnform S4",432,718,0.66203703703703698]
["17202-009","Deckenspachtel 1000 мм",15204,20414,0.34267298079452768]
["17202-011","Sto-Deckenspachtel Verlangerung 2x1 m",13290,17862,0.34401805869074487]
["17400-003","Sto-Gummischieber Standart",2668,3698,0.38605697151424279]
["17406-001","Sto-Entluftungswalze Standard",7612,10354,0.36022070415133989]
["17406-002","Sto-Ersatzwalze fur Entluftungswalze 12 mm - 25 cm Standard",5572,7618,0.36719310839913866]
["17406-003","Sto-Entlüftungswalze 12mm - 50cm",15716,21222,0.35034359888012223]
["17406-004","Sto-Entlüftungs-Ersatzwalze 12/50 ",10562,14310,0.35485703465252794]
["17406-005","Sto-Entlüftungswalze 21mm - 25cm",8596,11672,0.35784085621219175]
["17406-006","Sto-Ersatzwalze fur Entluftungswalze Profi 21 mm",6744,9192,0.36298932384341631]
["17406-007","Sto-Schlingenwalze",2770,3858,0.39277978339350184]
["17802-005","Sto-Großflächenwalze Microfaser 500 mm",1796,2554,0.42204899777282856]
["17802-001","Sto-Großflächenwalze Nylon RS 13 mm",2092,2950,0.410133843212237]
["17802-003","Sto-Großflächenwalze Nylon RS 8 mm",2046,2890,0.41251221896383194]
["17802-007","Sto-Verstellbügel",4558,6238,0.36858271171566481]
["08302-010","Sto-Farbrollerbügel 6 mm, 10-12 cm, 42 cm",306,552,0.80392156862745101]
["08254-009","Sto-Farbrollerbügel Ø 8 мм, для валиков 18-20 см, дл. 29 см",370,636,0.7189189189189189]
["08254-010","Sto-Farbrollerbügel, бюгель для валика 8 mm, 25-27 cm, 29 cm",402,680,0.691542288557214]
["17402-001","Sto-Stiftrakel 580 mm, Stielanschluss 28 mm",17066,22898,0.34173209891011358]
["15013-019","StoPOX WL 100 BASIS A",1586,2228,0.40479192938209341]
["15013-021","StoPOX WL 100 BASIS B",1544,2176,0.40932642487046622]
["08989-009","StoPOX WL/WB/WG Comp. B",3266,4694,0.43723208818126147]
["15013-029","StoPOX WL/WB/WG Comp. B",1482,2094,0.41295546558704443]
["08989-010","StoPOX WL 100 KA OT",3158,4504,0.42621912602913237]
["15675-005","StoPox MS 200 Weiss",2042,2870,0.40548481880509302]
["15675-007","StoPox MS 200 Basis A",2156,3014,0.3979591836734695]
["15675-006","StoPox MS 200 Basis B",2078,2910,0.40038498556304147]
["15675-004","StoPox MS 200 Basis OT",2016,2840,0.40873015873015883]
["09352-001","StoPox MS 200 Comp. B",4092,5674,0.38660801564027381]
["15003-175","Basis A CRYL BF 700",1592,2326,0.46105527638190957]
["15003-177","Basis B CRYL BF 700",1574,2302,0.46251588310038128]
["15003-180","Basis OT CRYL BF 700",1568,2296,0.46428571428571419]
["15003-176","Basis A CRYL BF 700",1680,2422,0.44166666666666665]
["15003-178","Basis B CRYL BF 700",1666,2400,0.44057623049219696]
["15003-179","Basis OT CRYL BF 700",1660,2396,0.44337349397590353]
["15003-188","Basis Silber CRYL BF 700 Metallic",4126,5630,0.36451769268056222]
["15003-189","Basis Gold CRYL BF 700 Metallic",2462,3438,0.39642567018684005]
["04807/017","StoPox GH 205, 25 кг Set",2560,3534,0.38046874999999991]
["04807/018","StoPox GH 205, 10 кг Kombi",2734,3780,0.38258961228968547]
["08238/001","StoPox GH 530, 30 KG SET",1678,2386,0.42193087008343255]
["08167/004","POX GH 502 28 KG SET",2556,3566,0.39514866979655716]
["14062/023","StoPox 452 EP 10 KG COMBI",3020,4216,0.39602649006622515]
["14062/026","StoPox 452 EP 23 KG SET",2820,3888,0.37872340425531914]
["00562/003","StoPox WG 100 Set, 30 кг, комплект из 2-х компонентов",1580,2214,0.40126582278481004]
["00562/001","StoPox WG 100 Set, 12 кг, комплект из 2-х компонентов",1614,2264,0.40272614622057001]
["01144-002","CRYL EH 100 5 KG KANBL",1660,2348,0.41445783132530112]
["01533-001","StoCryl GL",1736,2446,0.4089861751152073]
["03677-008","StoCryl BF 200 16 KG белый",994,1450,0.45875251509054316]
["00044-003","CRYL BF 700 WEISS 10 L EIM",1546,2262,0.46313065976714096]
["00044-004","CRYL BF 700 WEISS 5 L EIM",1692,2438,0.44089834515366433]
["00081-002","CRYL BF 750 5 L EIM",2888,4062,0.40650969529085867]
["03781/003","POX 590 EP 30 KG SET",1452,2044,0.40771349862258943]
["01152/003","CRETE EH 200 30 KG SET",1068,1530,0.43258426966292141]
["03470/008","StoPox WL 100 VAR SET, C1",2104,2918,0.3868821292775666]
["03470/015","StoPox WL 100 VAR SET, C1",1968,2724,0.38414634146341453]
["14206/005","StoPox WL 100 TRANSP/бесцветный 8 KG SET",2832,3904,0.37853107344632764]
["08043/001","StoPox WL 150 TRANSP/прозрачный, 8 KG SET",2646,3650,0.3794406651549509]
["09351/001","StoPox MS 200 VAR 17,5 KG SET PG11",2726,3746,0.37417461482024938]
["09351/004","StoPox MS 200 VAR SET, C1",3154,4398,0.39441978440076086]
["03640/002","StoPox WL 200 VAR SET, PG 11",2248,3110,0.38345195729537362]
["03640/002","StoPox WL 200 VAR SET, PG 12",2248,3110,{"$f":"D705/C705-1","v":0.38345195729537362}]
["03640/008","StoPox WL 200 VAR SET, PG 11",2116,2928,0.38374291115311898]
["03640/008","StoPox WL 200 VAR SET, PG 12",2116,2928,0.38374291115311898]
["01784/004","POX WL 110 12 KG SET",2220,3072,0.38378378378378386]
["14204/001","StoPox EP DICKSIEGEL прозрачный, 10 KG COMBI",2904,4066,0.40013774104683186]
["14204/005","StoPox EP DICKSIEGEL прозрачный, 25 KG SET",2664,3670,0.37762762762762758]
["03725/003","StoPox KU 411 VAR Combi, PG 11",3240,4450,0.37345679012345689]
["03725/003","StoPox KU 411 VAR Combi, PG 12",3240,4450,0.37345679012345689]
["03725/004","StoPox KU 411 VAR SET, PG 11",2992,4100,0.3703208556149733]
["03725/004","StoPox KU 411 VAR SET, PG 12",2992,4100,0.3703208556149733]
["01455/012","StoPox KU 601 VAR SET,  PG 11",2116,2930,0.38468809073724008]
["01455/012","StoPox KU 601 VAR SET,  PG 12",2116,2930,0.38468809073724008]
["01455/013","StoPox KU 601 VAR SET,  цвет RAL 7032",1976,2744,0.38866396761133593]
["01455/014","StoPox KU 601 VAR SET,  цвет RAL 7035",1976,2746,0.38967611336032393]
["01462/013","StoPox KU 611 VAR SET,  PG 11",2164,2996,0.38447319778188538]
["01462/013","StoPox KU 611 VAR SET,  PG 12",2164,2996,0.38447319778188538]
["14152/110","StoPox BB OS VAR Combi, PG 11",2330,3234,0.38798283261802569]
["14152/110","StoPox BB OS VAR Combi, PG 12",2330,3234,0.38798283261802569]
["14152/114","StoPox BB OS VAR Combi, RAL 7001",2060,2876,0.39611650485436889]
["14152/115","StoPox BB OS VAR Combi, RAL 7030",1992,2784,0.39759036144578319]
["14152/113","StoPox BB OS VAR Combi, RAL 7032",1992,2784,0.39759036144578319]
["14152/116","StoPox BB OS VAR Combi, RAL 7035",1982,2772,0.39858728557013112]
["14152/117","StoPox BB OS VAR Combi, RAL 7038",2008,2806,0.39741035856573714]
["14152/111","StoPox BB OS VAR  SET, PG 11",1948,2708,0.39014373716632433]
["14152/111","StoPox BB OS VAR  SET, PG 12",1948,2708,0.39014373716632433]
["14152/118","StoPox BB OS VAR  SET, RAL 7001",1862,2594,0.39312567132115994]
["14152/119","StoPox BB OS VAR  SET, RAL 7030",1866,2596,0.3912111468381565]
["14152/120","StoPox BB OS VAR  SET, RAL 7032",1864,2596,0.39270386266094426]
["14152/121","StoPox BB OS VAR  SET, RAL 7035",1864,2596,0.39270386266094426]
["14152/122","StoPox BB OS VAR  SET, RAL 7037",1840,2564,0.39347826086956528]
["14152/123","StoPox BB OS VAR  SET, RAL 7038",1864,2594,0.39163090128755362]
["14152/124","StoPox BB OS VAR  SET, RAL 1001",1892,2634,0.39217758985200835]
["14152/125","StoPox BB OS VAR  SET, RAL 7023",1918,2666,0.38998957247132426]
["14152/126","StoPox BB OS VAR  SET, RAL 7040",1854,2584,0.39374325782092767]
["04848/017","StoPox DV 100 VAR SET, PG 11",2244,3102,0.38235294117647056]
["04848/017","StoPox DV 100 VAR SET, PG 12",2244,3102,0.38235294117647056]
["14511/004","StoPox DV 101 VAR SET, PG 11",1866,2594,0.39013933547695601]
["14511/004","StoPox DV 101 VAR SET, PG 12 ",1866,2594,0.39013933547695601]
["01496/001","StoPox WB 100 Set getönt (колерованное), PG 11",1394,1994,0.43041606886657102]
["01496/001","StoPox WB 100 Set getönt (колерованное), PG 12",1394,1994,0.43041606886657102]
["04446/001","StoPur WV 200 Set, 8,07 kg  transparent",2352,3304,0.40476190476190466]
["04447/001","StoPur WV 200 INNEN 10,8 KG SET, PG 11 (для внутреннего применения)",2388,3308,0.38525963149078724]
["04447/001","StoPur WV 200 INNEN 10,8 KG SET, PG 12 (для внутреннего применения)",2388,3308,0.38525963149078724]
["04851/001","StoPur WV 200 Aussen SET getönt, PG 11 (для наружнего применения)",2388,3308,0.38525963149078724]
["04851/001","StoPur WV 200 Aussen SET getönt, PG 12 (для наружнего применения)",2388,3308,0.38525963149078724]
["04756/003","StoPur WV 100, компл. из 2-х комп., прозрачная, глянцевая",2766,3838,0.3875632682574115]
["04873/001","StoPur WV 100 INNEN, SET, PG 11",2996,4144,0.38317757009345788]
["04873/001","StoPur WV 100 INNEN, SET, PG 12",2996,4144,0.38317757009345788]
["00087/001","StoPur WV 150, компл. из 2-х комп., прозрачная, шелковисто-глянцевая",2846,3990,0.40196767392832045]
["00088/001","StoPur WV 150 INNEN VAR SET, PG 11 (для внутреннего применения)",2624,3666,0.39710365853658547]
["00088/001","StoPur WV 150 INNEN VAR SET, PG 12 (для внутреннего применения)",2624,3666,0.39710365853658547]
["00090/001","StoPur WV 150 AUSSEN VAR SET, PG 11 (для наружнего применения)",2624,3666,0.39710365853658547]
["00090/001","StoPur WV 150 AUSSEN VAR SET, PG 12 (для наружнего применения)",2624,3666,0.39710365853658547]
["09348/001","PUR IB 500 VAR PG11 30 KG SET, PG 11 ",1638,2294,0.4004884004884004]
["09348/001","PUR IB 500 VAR PG11 30 KG SET, PG 12 ",1638,2294,0.4004884004884004]
["09348/002","PUR IB 500 RAL 7001 30 KG SET",1518,2134,0.40579710144927539]
["09348/003","PUR IB 500 RAL7030 30 KG SET ",1514,2128,0.40554821664465002]
["09348/004","PUR IB 500 RAL7032 30 KG SET ",1512,2126,0.40608465608465605]
["09348/005","PUR IB 500 RAL7035 30 KG SET ",1516,2130,0.4050131926121372]
["03778/003","StoPur BB 100 getönt, PG 11",2604,3666,0.40783410138248843]
["03778/003","StoPur BB 100 getönt, PG 12",2604,3666,0.40783410138248843]
["03778/005","StoPur BB 100 getönt SET, PG 11",2298,3188,0.38729329852045247]
["03778/005","StoPur BB 100 getönt SET, PG 12",2298,3188,0.38729329852045247]
["02371-005","StoPur EA FT ST9099 5 KG KAR бесцветные",5882,7978,0.35634138048282904]
["02370-003","StoPur EA VAR, PG 11",4752,6460,{"$f":"D769/C769-1","v":0.35942760942760943}]
["02370-003","StoPur EA VAR, PG 12",4752,6460,0.35942760942760943]
["03634/009","StoPur EB 200 VAR, PG 11",2014,2794,0.38728897715988087]
["03634/009","StoPur EB 200 VAR, PG 12",2014,2794,0.38728897715988087]
["01281/001","StoPur DL 520, комплект из 2-х компонентов",4748,6786,0.42923336141533275]
["01281/002","StoPur DL 520, комплект из 2-х компонентов",3456,4804,0.39004629629629628]
["01283-001","StoChips 1 mm, светло-серые",1838,2668,0.45157780195865072]
["01283-002","StoChips 1 mm, темно-серые",1838,2668,0.45157780195865072]
["01283-003","StoChips 1 mm, светло-коричневые",1838,2668,0.45157780195865072]
["01283-004","StoChips 1 mm, темно-коричневые",1838,2668,0.45157780195865072]
["01283-005","StoChips 1 mm, светло-синие",1838,2668,0.45157780195865072]
["01283-006","StoChips 1 mm, темно-синие",1838,2668,0.45157780195865072]
["01283-007","StoChips 1 mm, светло-зеленые",1838,2668,0.45157780195865072]
["01283-008","StoChips 1 mm, темно-зеленые",1838,2668,0.45157780195865072]
["01702-001","StoChips 3 mm, белые",2848,4022,0.41221910112359561]
["01703-001","StoChips 3 mm, черные",2848,4022,0.41221910112359561]
["01704-001","StoChips 3 mm, красные",2848,4022,0.41221910112359561]
["01705-001","StoChips 3 mm, серо-голубые",2918,4230,0.4496230294722412]
["01706-001","StoChips 3 mm, зеленые",2694,3818,0.41722345953971796]
["01707-001","StoChips 3 mm, коричневые",2918,4230,0.4496230294722412]
["01743-001","StoChips 3 mm, желтые",2766,4026,0.45553145336225587]
["01745-001","StoChips 3 mm, синие",2918,4230,0.4496230294722412]
["03044-002","StoDivers LB 100 (рулон: ширина 12 мм, длина 16,5 м) 1 коробка = 19 рулонов ",9498,12854,0.35333754474626233]
["00557-001","StoDivers ST",1162,1748,0.50430292598967297]
["00557-002","StoDivers ST",3834,5834,0.52164840897235254]
["00701-001","StoCrete SM",268.0032721582017,366,0.36565496776453932]
["00789-001","StoCrete SM-P",262.04696614027597,356,0.35853509484795998]
["09459-001","CRETE RM F 15 KG EIM",299.60000000000002,486,0.62216288384512675]
["04341-005","StoCrete VM 640 25kg",210,378,0.8]
["04337-005","StoCrete VM 630 25kg",166,320,{"$f":"D798/C798-1","v":0.92771084337349397}]